{"text_format":"1","workbook":"xlsx","n_sheets":1,"sheets":["Summary"],"not_rendered":{"charts":0,"images":0,"macros":1,"external_links":1,"defined_names":6,"comments":0,"pivot_tables":0},"unopened":[],"bounds":{"document_bytes":16777216,"sheet_cells":100000,"rows_first":2000,"rows_last":500,"rows_between":2000,"halvings":0,"cell_chars":16384,"cell_head_chars":4096},"cells_cut":0,"cells_raw":0,"read":"whole","date_system":"1900"}

{"sheet":"Summary","index":0,"n_rows":2062,"n_cols":109,"rows_kept":2062,"cut":false,"hidden":false,"merged":[[52,28,52,34],[52,35,52,41],[6,18,6,19],[6,20,6,27],[7,35,7,41],[6,31,6,34],[6,35,6,41],[36,21,36,24],[36,26,36,29],[34,31,34,37],[1,19,3,19],[1,24,3,24],[9,16,11,16],[52,21,52,27],[7,21,7,27],[1,25,3,25],[1,23,3,23],[38,21,38,25],[34,42,34,43],[5,39,5,41],[0,27,0,28],[0,34,0,36],[1,40,3,42],[1,27,3,28],[1,34,3,36],[7,28,7,34]]}
[null,null,null,{"$f":"SUM(D2-D3)+1","v":253},null,null,null,null,null,null,null,null,"Date",null,null,null,null,null,null,"Date",null,null,null,null,"Games",null,null,"Games",null,null,null,null,null,null,"Day",null,null,null,null,null,null,null,null,{"$f":"MAX(AS:AS)","v":68},null,{"$f":"MATCH(T64,T10:T33,0)","v":13},null,null,null,null,{"$f":"CQ1","v":"<=06/05/1939"},null,null,null,null,null,null,null,null,null,null,null,null,null,null,null,null,null,null,null,null,null,null,null,null,null,null,null,null,null,null,null,null,null,null,null,null,null,null,null,null,null,null,null,{"$f":"T2","v":"<=06/05/1939"}]
[null,null,null,{"$f":"MAX(D6:D558)","v":"1939-05-06"},null,null,null,null,null,null,null,null,null,null,null,null,null,null,null,{"$f":"LOOKUP($T$5,$AS$7:$AS$120,$AT$7:$AT$120)","v":"<=06/05/1939"},null,null,null,{"$f":"U64","v":42},{"$f":"U81","v":462},42,null,{"$f":"U81","v":462},null,462,null,null,null,null,{"$f":"IF($AO$5=7,\"Sunday\",IF($AO$5=6,\"Saturday\",IF($AO$5=5,\"Friday\",IF($AO$5=4,\"Thursday\",IF($AO$5=3,\"Wednesday\",IF($AO$5=2,\"Tuesday\",\"Monday\"))))))","v":"Saturday"},{"$f":"IF($O$16=7,\"Sunday\",IF($O$16=6,\"Saturday\",IF($O$16=5,\"Friday\",IF($O$16=4,\"Thursday\",IF($O$16=3,\"Wednesday\",IF($O$16=2,\"Tuesday\",\"Monday\"))))))","v":"Monday"},"Monday",null,null,null,{"$f":"LOOKUP($T$5,$AS$7:$AS$120,$AU$7:$AU$120)","v":"1939-05-06"},null,null,null,null,"Millwall Highlight",null,null,null,null,null,null,null,null,null,null,null,null,null,null,null,null,null,null,null,null,null,null,null,null,null,"H","+","-",null,null,null,"H","+","-",null,null,null,"H","+","-"]
[null,null,null,{"$f":"MIN(D6:D558)","v":"1938-08-27"},null,null,null,null,null,null,null,null,null,null,null,null,null,null,null,null,null,null,null,null,null,null,null,null,null,null,null,null,null,null,{"$f":"IF($O$16=7,\"Sunday\",IF($O$16=6,\"Saturday\",IF($O$16=5,\"Friday\",IF($O$16=4,\"Thursday\",IF($O$16=3,\"Wednesday\",IF($O$16=2,\"Tuesday\",\"Monday\"))))))","v":"Monday"},"Monday","Monday",null,null,null,null,null,null,null,null,null,null,"Do not Delete",null,null,null,null,null,null,null,null,null,null,null,null,null,null,null,null,null,null,null,null,null,null,null,"0/0","Inf","Inf",null,null,null,"0/0","Inf","Inf",null,null,null,"0/0","Inf","Inf"]
[null,null,null,null,null,null,null,null,null,null,null,null,null,null,null,null,null,null,null,null,null,null,null,null,null,null,null,null,null,null,null,null,null,null,{"$f":"IF($O$16=7,\"Sunday\",IF($O$16=6,\"Saturday\",IF($O$16=5,\"Friday\",IF($O$16=4,\"Thursday\",IF($O$16=3,\"Wednesday\",IF($O$16=2,\"Tuesday\",\"Monday\"))))))","v":"Monday"},"Monday","Monday",null,null,null,null,null,null,null,null,{"$f":"LOOKUP(X2,BC35:BC79,BB35:BB79)","v":"End of Season"}]
["Evens","trans","Comp","Date","Home (team)","F ","A","Away (team)","x","Pts1","Pts2",null,null,null,null,null,null,null,null,69,null,null,null,{"$f":"X2+1","v":43},null,null,null,null,null,null,null,null,null,null,25,25,25,null,null,null,{"$f":"WEEKDAY(AO2,2)","v":6},null,null,null,null,"Opponents",null,null,null,"Pld","Won","Drawn","Lost","F ","A","Av","Pts","Pld","Won","Drawn","Lost","F ","A","Av","Pts","F ","A","Av",null,"Av","Av","Av","Av","Av","Av","Av","Av","Av","Av","Av","Av","Av","Av","Av","Av","Av","Av","Av","Av","Av","Av","Av","Av",5,"Home (team)","Date","Pts1","Home (team)","Date","Pts1",null,"Away (team)","Date","Pts2","Away (team)","Date","Pts2"]
[1,{"$f":"IF(A6=1,D6+0.01,IF(A6=2,D6+0.02,IF(A6=3,D6+0.03,IF(A6=4,D6+0.04,IF(A6=5,D6+0.05,IF(A6=6,D6+0.06,IF(A6=7,D6+0.07,IF(A6=8,D6+0.08,0))))))))","v":"1938-08-27T00:14:24"},{"$f":"IF(A6=9,D6+0.09,IF(A6=10,D6+0.1,IF(A6=11,D6+0.11,IF(A6=12,D6+0.12,0))))","v":"00:00:00"},"1938-08-27","Blackburn",3,2,"Tranmere",1,{"$f":"IF(F6>G6,2,IF(F6=G6,1,0))","v":2},{"$f":"IF(G6>F6,2,IF(G6=F6,1,0))","v":0},{"$f":"B6+C6","v":"1938-08-27T00:14:24"},{"$f":"T55","v":"Blackburn"},null,null,1,null,null,null,null,null,null,null,null,null,null,null,null,null,null,null,null,null,null,null,null,null,null,null,"Cycle Speed",null,null,0,null,null,null,null,"Date","Blackburn",{"$f":"DSUM(Data,$I$5,$CQ$5:$CR$6)","v":21},{"$f":"DCOUNT(Data,$J$5,$CQ$5:$CS$6)","v":17},{"$f":"DCOUNT(Data,$J$5,$CT$5:$CV$6)","v":1},{"$f":"SUM(AX6-AY6-AZ6)","v":3},{"$f":"DSUM(Data,$F$5,$CQ$5:$CR$6)","v":59},{"$f":"DSUM(Data,$G$5,$CQ$5:$CR$6)","v":23},{"$f":"BW6","v":2.5652173913043477},{"$f":"DSUM(Data,$J$5,$CQ$5:$CR$6)","v":35},{"$f":"DSUM(Data,$I$5,$CX$5:$CY$6)","v":21},{"$f":"DCOUNT(Data,$K$5,$CX$5:$CZ$6)","v":8},{"$f":"DCOUNT(Data,$J$5,$DA$5:$DC$6)","v":4},{"$f":"SUM(BF6-BG6-BH6)","v":9},{"$f":"DSUM(Data,$G$5,$CX$5:$CY$6)","v":35},{"$f":"DSUM(Data,$F$5,$CX$5:$CY$6)","v":37},{"$f":"CC6","v":0.94594594594594594},{"$f":"DSUM(Data,$K$5,$CX$5:$CY$6)","v":20},{"$f":"BB6+BJ6","v":94},{"$f":"BC6+BK6","v":60},{"$f":"CI6","v":1.5666666666666667},null,{"$f":"IF(BB6>0,IF(BC6>0,BB6/BC6,\"\"),\"\")","v":2.5652173913043477},{"$f":"IF(BR6=\"\",\"\",IF(BB6>BC6,BR6*1,IF(BB6<BC6,BR6*1,BR6*1)))","v":2.5652173913043477},{"$f":"IF(BB6=0,IF(BC6=0,0,\"\"),\"\")","v":""},{"$f":"IF(BT6=\"\",IF(BB6=0,\"\",IF(BC6=0,\"+ Inf\",\"\")),\"\")","v":""},{"$f":"IF(BT6=\"\",IF(BU6=\"\",IF($BB6=0,IF($BC6<>0,\"- Inf\",\"\"),\"\"),\"\"),\"\")","v":""},{"$f":"IF(BS6<>\"\",BS6,IF(BT6<>\"\",BT6,IF(BU6<>\"\",BU6,IF(BV6<>\"\",BV6,\"\"))))","v":2.5652173913043477},{"$f":"IF($BJ$6>0,IF($BK$6>0,$BJ$6/$BK$6,\"\"),\"\")","v":0.94594594594594594},{"$f":"IF(BX6=\"\",\"\",IF(BJ6>BK6,BX6*1,IF(BJ6<BK6,BX6*1,BX6*1)))","v":0.94594594594594594},{"$f":"IF($BJ$6=0,IF($BK$6=0,0,\"\"),\"\")","v":""},{"$f":"IF(BZ6=\"\",IF(BJ6=0,\"\",IF(BK6=0,\"+ Inf\",\"\")),\"\")","v":""},{"$f":"IF($BZ$6=\"\",IF($CA$6=\"\",IF($BJ$6=0,IF($BK$6<>0,\"- Inf\",\"\"),\"\"),\"\"),\"\")","v":""},{"$f":"IF(BY6<>\"\",BY6,IF(BZ6<>\"\",BZ6,IF(CA6<>\"\",CA6,IF(CB6<>\"\",CB6,\"\"))))","v":0.94594594594594594},{"$f":"IF(BN6>0,IF(BO6>0,BN6/BO6,\"\"),\"\")","v":1.5666666666666667},{"$f":"IF(CD6=\"\",\"\",IF(BN6>BO6,CD6*1,IF(BN6<BO6,CD6*1,CD6*1)))","v":1.5666666666666667},{"$f":"IF(BN6=0,IF(BO6=0,0,\"\"),\"\")","v":""},{"$f":"IF(CF6=\"\",IF(BN6=0,\"\",IF(BO6=0,\"+ Inf\",\"\")),\"\")","v":""},{"$f":"IF(CF6=\"\",IF(CG6=\"\",IF(BN6=0,IF(BO6<>0,\"- Inf\",\"\"),\"\"),\"\"),\"\")","v":""},{"$f":"IF(CE6<>\"\",CE6,IF(CF6<>\"\",CF6,IF(CG6<>\"\",CG6,IF(CH6<>\"\",CH6,\"\"))))","v":1.5666666666666667},null,null,null,null,null,null,6,{"$f":"$AW$6","v":"Blackburn"},{"$f":"$CQ$1","v":"<=06/05/1939"},2,{"$f":"$AW$6","v":"Blackburn"},{"$f":"$CQ$1","v":"<=06/05/1939"},1,null,{"$f":"$AW$6","v":"Blackburn"},{"$f":"$CQ$1","v":"<=06/05/1939"},2,{"$f":"$AW$6","v":"Blackburn"},{"$f":"$CQ$1","v":"<=06/05/1939"},1,null,{"$f":"IF(DD6=BM6,\"\",\"Err\")","v":"Err"}]
[{"$f":"IF(D7=D6,A6+1,1)","v":2},{"$f":"IF(A7=1,D7+0.01,IF(A7=2,D7+0.02,IF(A7=3,D7+0.03,IF(A7=4,D7+0.04,IF(A7=5,D7+0.05,IF(A7=6,D7+0.06,IF(A7=7,D7+0.07,IF(A7=8,D7+0.08,0))))))))","v":"1938-08-27T00:28:48"},{"$f":"IF(A7=9,D7+0.09,IF(A7=10,D7+0.1,IF(A7=11,D7+0.11,IF(A7=12,D7+0.12,0))))","v":"00:00:00"},"1938-08-27","Coventry",1,1,"Burnley",1,1,1,{"$f":"B7+C7","v":"1938-08-27T00:28:48"},"(H)","(A)","Total",null,null,null,"Last Fixture:",null,{"$f":"LOOKUP($X$2,$BC$35:$BC$80,$BD$35:$BD$80)","v":"Tranmere (H) W 2-1"},null,null,null,null,null,null,null,{"$f":"LOOKUP($X$2,$BC$35:$BC$80,$BE$35:$BE$80)","v":"42 Pts"},null,null,"Next Fixture:",null,null,null,{"$f":"LOOKUP($X$2,$BC$35:$BC$80,$BF$35:$BF$80)","v":"End of Season"},null,null,null,null,null,null,null,null,1,"<=27/08/1938","1938-08-27","1938-08-27","Bradford PA",{"$f":"DSUM(Data,$I$5,$CQ$7:$CR$8)","v":21},{"$f":"DCOUNT(Data,$J$5,$CQ$7:$CS$8)","v":8},{"$f":"DCOUNT(Data,$J$5,$CT$7:$CV$8)","v":6},7,{"$f":"DSUM(Data,$F$5,$CQ$7:$CR8)","v":33},{"$f":"DSUM(Data,$G$5,$CQ$7:$CR$8)","v":35},{"$f":"BW7","v":0.94285714285714284},{"$f":"DSUM(Data,$J$5,$CQ$7:$CR$8)","v":22},{"$f":"DSUM(Data,$I$5,$CX$7:$CY$8)","v":21},{"$f":"DCOUNT(Data,$K$5,$CX$7:$CZ$8)","v":4},{"$f":"DCOUNT(Data,$J$5,$DA$7:$DC$8)","v":5},12,{"$f":"DSUM(Data,$G$5,$CX$7:$CY$8)","v":28},{"$f":"DSUM(Data,$F$5,$CX$7:$CY$8)","v":47},{"$f":"CC7","v":0.5957446808510638},{"$f":"DSUM(Data,$K$5,$CX$7:$CY$8)","v":13},{"$f":"BB7+BJ7","v":61},{"$f":"BC7+BK7","v":82},{"$f":"CI7","v":0.74390243902439024},null,{"$f":"IF(BB7>0,IF(BC7>0,BB7/BC7,\"\"),\"\")","v":0.94285714285714284},{"$f":"IF(BR7=\"\",\"\",IF(BB7>BC7,BR7*1,IF(BB7<BC7,BR7*1,BR7*1)))","v":0.94285714285714284},{"$f":"IF(BB7=0,IF(BC7=0,0,\"\"),\"\")","v":""},{"$f":"IF(BT7=\"\",IF(BB7=0,\"\",IF(BC7=0,\"+ Inf\",\"\")),\"\")","v":""},{"$f":"IF(BT7=\"\",IF(BU7=\"\",IF(BB7=0,IF(BC7<>0,\"- Inf\",\"\"),\"\"),\"\"),\"\")","v":""},{"$f":"IF(BS7<>\"\",BS7,IF(BT7<>\"\",BT7,IF(BU7<>\"\",BU7,IF(BV7<>\"\",BV7,\"\"))))","v":0.94285714285714284},{"$f":"IF(BJ7>0,IF(BK7>0,BJ7/BK7,\"\"),\"\")","v":0.5957446808510638},{"$f":"IF(BX7=\"\",\"\",IF(BJ7>BK7,BX7*1,IF(BJ7<BK7,BX7*1,BX7*1)))","v":0.5957446808510638},{"$f":"IF(BJ7=0,IF(BK7=0,0,\"\"),\"\")","v":""},{"$f":"IF(BZ7=\"\",IF(BJ7=0,\"\",IF(BK7=0,\"+ Inf\",\"\")),\"\")","v":""},{"$f":"IF(BZ7=\"\",IF(CA7=\"\",IF(BJ7=0,IF(BK7<>0,\"- Inf\",\"\"),\"\"),\"\"),\"\")","v":""},{"$f":"IF(BY7<>\"\",BY7,IF(BZ7<>\"\",BZ7,IF(CA7<>\"\",CA7,IF(CB7<>\"\",CB7,\"\"))))","v":0.5957446808510638},{"$f":"IF(BN7>0,IF(BO7>0,BN7/BO7,\"\"),\"\")","v":0.74390243902439024},{"$f":"IF(CD7=\"\",\"\",IF(BN7>BO7,CD7*1,IF(BN7<BO7,CD7*1,CD7*1)))","v":0.74390243902439024},{"$f":"IF(BN7=0,IF(BO7=0,0,\"\"),\"\")","v":""},{"$f":"IF(CF7=\"\",IF(BN7=0,\"\",IF(BO7=0,\"+ Inf\",\"\")),\"\")","v":""},{"$f":"IF(CF7=\"\",IF(CG7=\"\",IF(BN7=0,IF(BO7<>0,\"- Inf\",\"\"),\"\"),\"\"),\"\")","v":""},{"$f":"IF(CE7<>\"\",CE7,IF(CF7<>\"\",CF7,IF(CG7<>\"\",CG7,IF(CH7<>\"\",CH7,\"\"))))","v":0.74390243902439024},null,null,null,null,null,null,7,"Home (team)","Date","Pts1","Home (team)","Date","Pts1",null,"Away (team)","Date","Pts2","Away (team)","Date","Pts2"]
[{"$f":"IF(D8=D7,A7+1,1)","v":3},{"$f":"IF(A8=1,D8+0.01,IF(A8=2,D8+0.02,IF(A8=3,D8+0.03,IF(A8=4,D8+0.04,IF(A8=5,D8+0.05,IF(A8=6,D8+0.06,IF(A8=7,D8+0.07,IF(A8=8,D8+0.08,0))))))))","v":"1938-08-27T00:43:12"},{"$f":"IF(A8=9,D8+0.09,IF(A8=10,D8+0.1,IF(A8=11,D8+0.11,IF(A8=12,D8+0.12,0))))","v":"00:00:00"},"1938-08-27","Fulham",3,2,"West Ham",1,2,0,"1938-08-27T00:43:12",{"$f":"SUMIF(Summary!E:E,Summary!M6,Summary!J:J)","v":35},{"$f":"SUMIF(Summary!H:H,Summary!M6,Summary!K:K)","v":20},{"$f":"SUM(M8:N8)","v":55},null,null,null,null,null,null,"Home",null,null,null,null,null,null,"Away",null,null,null,null,null,null,"Overall",null,null,null,null,null,null,null,null,2,"<=29/08/1938","1938-08-29","1938-08-29","Burnley",{"$f":"DSUM(Data,$I$5,$CQ$9:$CR$10)","v":21},{"$f":"DCOUNT(Data,$J$5,$CQ$9:$CS$10)","v":13},{"$f":"DCOUNT(Data,$J$5,$CT$9:$CV$10)","v":3},5,{"$f":"DSUM(Data,$F$5,$CQ$9:$CR$10)","v":32},{"$f":"DSUM(Data,$G$5,$CQ$9:$CR$10)","v":20},1.6,{"$f":"DSUM(Data,$J$5,$CQ$9:$CR$10)","v":29},{"$f":"DSUM(Data,$I$5,$CX$9:$CY$10)","v":21},{"$f":"DCOUNT(Data,$K$5,$CX$9:$CZ$10)","v":2},{"$f":"DCOUNT(Data,$J$5,$DA$9:$DC$10)","v":6},13,{"$f":"DSUM(Data,$G$5,$CX$9:$CY$10)","v":18},{"$f":"DSUM(Data,$F$5,$CX$9:$CY$10)","v":36},0.5,{"$f":"DSUM(Data,$K$5,$CX$9:$CY$10)","v":10},50,56,0.8928571428571429,null,1.6,1.6,"","","",1.6,0.5,0.5,"","","",0.5,0.8928571428571429,0.8928571428571429,"","","",0.8928571428571429,null,null,null,null,null,null,8,{"$f":"$AW$7","v":"Bradford PA"},{"$f":"$CQ$1","v":"<=06/05/1939"},2,{"$f":"$AW$7","v":"Bradford PA"},{"$f":"$CQ$1","v":"<=06/05/1939"},1,null,{"$f":"$AW$7","v":"Bradford PA"},{"$f":"$CQ$1","v":"<=06/05/1939"},2,{"$f":"$AW$7","v":"Bradford PA"},{"$f":"$CQ$1","v":"<=06/05/1939"},1]
[4,"1938-08-27T00:57:36","00:00:00","1938-08-27","Man City",5,0,"Swansea",1,2,0,"1938-08-27T00:57:36",{"$f":"SUMIF(Summary!E:E,Summary!M6,Summary!F:F)","v":59},{"$f":"SUMIF(Summary!H:H,Summary!M6,Summary!G:G)","v":35},{"$f":"SUM(M9:N9)","v":94},null,"Games",null,"Pos","Team","Pld","W","D","L","F ","A","Av","Pts","W","D","L","F ","A","Av","Pts","W","D","L","F ","A","Av","Pts",null,null,3,"<=30/08/1938","1938-08-30","1938-08-30","Bury",{"$f":"DSUM(Data,$I$5,$CQ$11:$CR$12)","v":21},{"$f":"DCOUNT(Data,$J$5,$CQ$11:$CS$12)","v":9},{"$f":"DCOUNT(Data,$J$5,$CT$11:$CV$12)","v":5},7,{"$f":"DSUM(Data,$F$5,$CQ$11:$CR$12)","v":48},{"$f":"DSUM(Data,$G$5,$CQ$11:$CR$12)","v":36},1.3333333333333333,{"$f":"DSUM(Data,$J$5,$CQ$11:$CR$12)","v":23},{"$f":"DSUM(Data,$I$5,$CX$11:$CY$12)","v":21},{"$f":"DCOUNT(Data,$K$5,$CX$11:$CZ$12)","v":3},{"$f":"DCOUNT(Data,$J$5,$DA$11:$DC$12)","v":8},10,{"$f":"DSUM(Data,$G$5,$CX$11:$CY$12)","v":17},{"$f":"DSUM(Data,$F$5,$CX$11:$CY$12)","v":38},0.44736842105263158,{"$f":"DSUM(Data,$K$5,$CX$11:$CY$12)","v":14},65,74,0.8783783783783784,null,1.3333333333333333,1.3333333333333333,"","","",1.3333333333333333,0.44736842105263158,0.44736842105263158,"","","",0.44736842105263158,0.8783783783783784,0.8783783783783784,"","","",0.8783783783783784,null,null,null,null,null,null,9,"Home (team)","Date","Pts1","Home (team)","Date","Pts1",null,"Away (team)","Date","Pts2","Away (team)","Date","Pts2"]
[5,"1938-08-27T01:12:00","00:00:00","1938-08-27","Millwall",3,1,"Chesterfield",1,2,0,"1938-08-27T01:12:00",{"$f":"SUMIF(Summary!E:E,Summary!M6,Summary!G:G)","v":23},{"$f":"SUMIF(Summary!H:H,Summary!M6,Summary!F:F)","v":37},{"$f":"SUM(M10:N10)","v":60},null,{"$f":"Y2","v":462},{"$f":"IF(S10=AT$1,1,0)","v":0},1,"Blackburn",42,17,1,3,59,23,2.5652173913043477,35,8,4,9,35,37,0.94594594594594594,20,25,5,12,94,60,1.5666666666666667,55,1.5666666666666667,null,4,"<=31/08/1938","1938-08-31","1938-08-31","Chesterfield",{"$f":"DSUM(Data,$I$5,$CQ$13:$CR$14)","v":21},{"$f":"DCOUNT(Data,$J$5,$CQ$13:$CS$14)","v":16},{"$f":"DCOUNT(Data,$J$5,$CT$13:$CV$14)","v":1},4,{"$f":"DSUM(Data,$F$5,$CQ$13:$CR$14)","v":54},{"$f":"DSUM(Data,$G$5,$CQ$13:$CR$14)","v":20},2.7,{"$f":"DSUM(Data,$J$5,$CQ$13:$CR$14)","v":33},{"$f":"DSUM(Data,$I$5,$CX$13:$CY$14)","v":21},{"$f":"DCOUNT(Data,$K$5,$CX$13:$CZ$14)","v":4},{"$f":"DCOUNT(Data,$J$5,$DA$13:$DC$14)","v":8},9,{"$f":"DSUM(Data,$G$5,$CX$13:$CY$14)","v":15},{"$f":"DSUM(Data,$F$5,$CX$13:$CY$14)","v":32},0.46875,{"$f":"DSUM(Data,$K$5,$CX$13:$CY$14)","v":16},69,52,1.3269230769230769,null,2.7,2.7,"","","",2.7,0.46875,0.46875,"","","",0.46875,1.3269230769230769,1.3269230769230769,"","","",1.3269230769230769,null,null,null,null,null,null,10,{"$f":"$AW$8","v":"Burnley"},{"$f":"$CQ$1","v":"<=06/05/1939"},2,{"$f":"$AW$8","v":"Burnley"},{"$f":"$CQ$1","v":"<=06/05/1939"},1,null,{"$f":"$AW$8","v":"Burnley"},{"$f":"$CQ$1","v":"<=06/05/1939"},2,{"$f":"$AW$8","v":"Burnley"},{"$f":"$CQ$1","v":"<=06/05/1939"},1]
[6,"1938-08-27T01:26:24","00:00:00","1938-08-27","Newcastle",2,1,"Plymouth",1,2,0,"1938-08-27T01:26:24",{"$f":"T56","v":"Bradford PA"},null,null,1,null,{"$f":"IF(S11=AT$1,1,0)","v":0},2,"Sheff Utd",42,9,9,3,35,15,2.3333333333333335,27,11,5,5,34,26,1.3076923076923077,27,20,14,8,69,41,1.6829268292682926,54,1.6829268292682926,null,5,"<=01/09/1938","1938-09-01","1938-09-01","Coventry",{"$f":"DSUM(Data,$I$5,$CQ$15:$CR$16)","v":21},{"$f":"DCOUNT(Data,$J$5,$CQ$15:$CS$16)","v":13},{"$f":"DCOUNT(Data,$J$5,$CT$15:$CV$16)","v":4},4,{"$f":"DSUM(Data,$F$5,$CQ$15:$CR$16)","v":35},{"$f":"DSUM(Data,$G$5,$CQ$15:$CR$16)","v":13},2.6923076923076925,{"$f":"DSUM(Data,$J$5,$CQ$15:$CR$16)","v":30},{"$f":"DSUM(Data,$I$5,$CX$15:$CY$16)","v":21},{"$f":"DCOUNT(Data,$K$5,$CX$15:$CZ$16)","v":8},{"$f":"DCOUNT(Data,$J$5,$DA$15:$DC$16)","v":4},9,{"$f":"DSUM(Data,$G$5,$CX$15:$CY$16)","v":27},{"$f":"DSUM(Data,$F$5,$CX$15:$CY$16)","v":32},0.84375,{"$f":"DSUM(Data,$K$5,$CX$15:$CY$16)","v":20},62,45,1.3777777777777778,null,2.6923076923076925,2.6923076923076925,"","","",2.6923076923076925,0.84375,0.84375,"","","",0.84375,1.3777777777777778,1.3777777777777778,"","","",1.3777777777777778,null,null,null,null,null,null,11,"Home (team)","Date","Pts1","Home (team)","Date","Pts1",null,"Away (team)","Date","Pts2","Away (team)","Date","Pts2"]
[7,"1938-08-27T01:40:48","00:00:00","1938-08-27","Norwich",1,3,"Bradford PA",1,0,2,"1938-08-27T01:40:48","(H)","(A)","Total",null,null,0,3,"Sheff Wed",42,14,4,3,47,18,2.6111111111111112,32,7,7,7,41,41,1,21,21,11,10,88,59,1.4915254237288136,53,1.4915254237288136,null,6,"<=03/09/1938","1938-09-03","1938-09-03","Fulham",{"$f":"DSUM(Data,$I$5,$CQ$17:$CR$18)","v":21},{"$f":"DCOUNT(Data,$J$5,$CQ$17:$CS$18)","v":12},{"$f":"DCOUNT(Data,$J$5,$CT$17:$CV$18)","v":5},4,{"$f":"DSUM(Data,$F$5,$CQ$17:$CR$18)","v":35},{"$f":"DSUM(Data,$G$5,$CQ$17:$CR$18)","v":20},1.75,{"$f":"DSUM(Data,$J$5,$CQ$17:$CR$18)","v":29},{"$f":"DSUM(Data,$I$5,$CX$17:$CY$18)","v":21},{"$f":"DCOUNT(Data,$K$5,$CX$17:$CZ$18)","v":5},{"$f":"DCOUNT(Data,$J$5,$DA$17:$DC$18)","v":5},11,{"$f":"DSUM(Data,$G$5,$CX$17:$CY$18)","v":26},{"$f":"DSUM(Data,$F$5,$CX$17:$CY$18)","v":35},0.74285714285714288,{"$f":"DSUM(Data,$K$5,$CX$17:$CY$18)","v":15},61,55,1.1090909090909091,null,1.75,1.75,"","","",1.75,0.74285714285714288,0.74285714285714288,"","","",0.74285714285714288,1.1090909090909091,1.1090909090909091,"","","",1.1090909090909091,null,null,null,null,null,null,12,{"$f":"$AW$9","v":"Bury"},{"$f":"$CQ$1","v":"<=06/05/1939"},2,{"$f":"$AW$9","v":"Bury"},{"$f":"$CQ$1","v":"<=06/05/1939"},1,null,{"$f":"$AW$9","v":"Bury"},{"$f":"$CQ$1","v":"<=06/05/1939"},2,{"$f":"$AW$9","v":"Bury"},{"$f":"$CQ$1","v":"<=06/05/1939"},1]
[8,"1938-08-27T01:55:12","00:00:00","1938-08-27","Nottm Forest",0,2,"Sheff Utd",1,0,2,"1938-08-27T01:55:12",{"$f":"SUMIF(Summary!E:E,Summary!M11,Summary!J:J)","v":22},{"$f":"SUMIF(Summary!H:H,Summary!M11,Summary!K:K)","v":13},{"$f":"SUM(M13:N13)","v":35},null,null,0,4,"Coventry",42,13,4,4,35,13,2.6923076923076925,30,8,4,9,27,32,0.84375,20,21,8,13,62,45,1.3777777777777778,50,1.3777777777777778,null,7,"<=05/09/1938","1938-09-05","1938-09-05","Luton",{"$f":"DSUM(Data,$I$5,$CQ$19:$CR$20)","v":21},{"$f":"DCOUNT(Data,$J$5,$CQ$19:$CS$20)","v":13},{"$f":"DCOUNT(Data,$J$5,$CT$19:$CV$20)","v":4},4,{"$f":"DSUM(Data,$F$5,$CQ$19:$CR$20)","v":47},{"$f":"DSUM(Data,$G$5,$CQ$19:$CR$20)","v":27},1.7407407407407407,{"$f":"DSUM(Data,$J$5,$CQ$19:$CR$20)","v":30},{"$f":"DSUM(Data,$I$5,$CX$19:$CY$20)","v":21},{"$f":"DCOUNT(Data,$K$5,$CX$19:$CZ$20)","v":9},{"$f":"DCOUNT(Data,$J$5,$DA$19:$DC$20)","v":1},11,{"$f":"DSUM(Data,$G$5,$CX$19:$CY$20)","v":35},{"$f":"DSUM(Data,$F$5,$CX$19:$CY$20)","v":39},0.89743589743589747,{"$f":"DSUM(Data,$K$5,$CX$19:$CY$20)","v":19},82,66,1.2424242424242424,null,1.7407407407407407,1.7407407407407407,"","","",1.7407407407407407,0.89743589743589747,0.89743589743589747,"","","",0.89743589743589747,1.2424242424242424,1.2424242424242424,"","","",1.2424242424242424,null,null,null,null,null,null,13,"Home (team)","Date","Pts1","Home (team)","Date","Pts1",null,"Away (team)","Date","Pts2","Away (team)","Date","Pts2"]
[9,"00:00:00","1938-08-27T02:09:36","1938-08-27","Sheff Wed",2,0,"Bury",1,2,0,"1938-08-27T02:09:36",{"$f":"SUMIF(Summary!E:E,Summary!M11,Summary!F:F)","v":33},{"$f":"SUMIF(Summary!H:H,Summary!M11,Summary!G:G)","v":28},{"$f":"SUM(M14:N14)","v":61},null,null,0,5,"Man City",42,13,3,5,56,35,1.6,29,8,4,9,40,37,1.0810810810810811,20,21,7,14,96,72,1.3333333333333333,49,1.3333333333333333,null,8,"<=07/09/1938","1938-09-07","1938-09-07","Man City",{"$f":"DSUM(Data,$I$5,$CQ$21:$CR$22)","v":21},{"$f":"DCOUNT(Data,$J$5,$CQ$21:$CS$22)","v":13},{"$f":"DCOUNT(Data,$J$5,$CT$21:$CV$22)","v":3},5,{"$f":"DSUM(Data,$F$5,$CQ$21:$CR$22)","v":56},{"$f":"DSUM(Data,$G$5,$CQ$21:$CR$22)","v":35},1.6,{"$f":"DSUM(Data,$J$5,$CQ$21:$CR$22)","v":29},{"$f":"DSUM(Data,$I$5,$CX$21:$CY$22)","v":21},{"$f":"DCOUNT(Data,$K$5,$CX$21:$CZ$22)","v":8},{"$f":"DCOUNT(Data,$J$5,$DA$21:$DC$22)","v":4},9,{"$f":"DSUM(Data,$G$5,$CX$21:$CY$22)","v":40},{"$f":"DSUM(Data,$F$5,$CX$21:$CY$22)","v":37},1.0810810810810811,{"$f":"DSUM(Data,$K$5,$CX$21:$CY$22)","v":20},96,72,1.3333333333333333,null,1.6,1.6,"","","",1.6,1.0810810810810811,1.0810810810810811,"","","",1.0810810810810811,1.3333333333333333,1.3333333333333333,"","","",1.3333333333333333,null,null,null,null,null,null,14,{"$f":"$AW$10","v":"Chesterfield"},{"$f":"$CQ$1","v":"<=06/05/1939"},2,{"$f":"$AW$10","v":"Chesterfield"},{"$f":"$CQ$1","v":"<=06/05/1939"},1,null,{"$f":"$AW$10","v":"Chesterfield"},{"$f":"$CQ$1","v":"<=06/05/1939"},2,{"$f":"$AW$10","v":"Chesterfield"},{"$f":"$CQ$1","v":"<=06/05/1939"},1]
[10,"00:00:00","1938-08-27T02:24:00","1938-08-27","Southampton",1,2,"Tottenham",1,0,2,"1938-08-27T02:24:00",{"$f":"SUMIF(Summary!E:E,Summary!M11,Summary!G:G)","v":35},{"$f":"SUMIF(Summary!H:H,Summary!M11,Summary!F:F)","v":47},{"$f":"SUM(M15:N15)","v":82},null,null,0,6,"Chesterfield",42,16,1,4,54,20,2.7,33,4,8,9,15,32,0.46875,16,20,9,13,69,52,1.3269230769230769,49,1.3269230769230769,null,9,"<=08/09/1938","1938-09-08","1938-09-08","Millwall",{"$f":"DSUM(Data,$I$5,$CQ$23:$CR$24)","v":21},{"$f":"DCOUNT(Data,$J$5,$CQ$23:$CS$24)","v":12},{"$f":"DCOUNT(Data,$J$5,$CT$23:$CV$24)","v":6},3,{"$f":"DSUM(Data,$F$5,$CQ$23:$CR$24)","v":44},{"$f":"DSUM(Data,$G$5,$CQ$23:$CR$24)","v":18},2.4444444444444446,{"$f":"DSUM(Data,$J$5,$CQ$23:$CR$24)","v":30},{"$f":"DSUM(Data,$I$5,$CX$23:$CY$24)","v":21},{"$f":"DCOUNT(Data,$K$5,$CX$23:$CZ$24)","v":2},{"$f":"DCOUNT(Data,$J$5,$DA$23:$DC$24)","v":8},11,{"$f":"DSUM(Data,$G$5,$CX$23:$CY$24)","v":20},{"$f":"DSUM(Data,$F$5,$CX$23:$CY$24)","v":35},0.5714285714285714,{"$f":"DSUM(Data,$K$5,$CX$23:$CY$24)","v":12},64,53,1.2075471698113207,null,2.4444444444444446,2.4444444444444446,"","","",2.4444444444444446,0.5714285714285714,0.5714285714285714,"","","",0.5714285714285714,1.2075471698113207,1.2075471698113207,"","","",1.2075471698113207,null,null,null,null,null,null,15,"Home (team)","Date","Pts1","Home (team)","Date","Pts1",null,"Away (team)","Date","Pts2","Away (team)","Date","Pts2"]
[11,"00:00:00","1938-08-27T02:38:24","1938-08-27","West Brom",3,0,"Luton",1,2,0,"1938-08-27T02:38:24",{"$f":"T57","v":"Burnley"},null,null,1,null,0,7,"Luton",42,13,4,4,47,27,1.7407407407407407,30,9,1,11,35,39,0.89743589743589747,19,22,5,15,82,66,1.2424242424242424,49,1.2424242424242424,null,10,"<=10/09/1938","1938-09-10","1938-09-10","Newcastle",{"$f":"DSUM(Data,$I$5,$CQ$25:$CR$26)","v":21},{"$f":"DCOUNT(Data,$J$5,$CQ$25:$CS$26)","v":13},{"$f":"DCOUNT(Data,$J$5,$CT$25:$CV$26)","v":3},5,{"$f":"DSUM(Data,$F$5,$CQ$25:$CR$26)","v":44},{"$f":"DSUM(Data,$G$5,$CQ$25:$CR$26)","v":21},2.0952380952380953,{"$f":"DSUM(Data,$J$5,$CQ$25:$CR$26)","v":29},{"$f":"DSUM(Data,$I$5,$CX$25:$CY$26)","v":21},{"$f":"DCOUNT(Data,$K$5,$CX$25:$CZ$26)","v":5},{"$f":"DCOUNT(Data,$J$5,$DA$25:$DC$26)","v":7},9,{"$f":"DSUM(Data,$G$5,$CX$25:$CY$26)","v":17},{"$f":"DSUM(Data,$F$5,$CX$25:$CY$26)","v":27},0.62962962962962965,{"$f":"DSUM(Data,$K$5,$CX$25:$CY$26)","v":17},61,48,1.2708333333333333,null,2.0952380952380953,2.0952380952380953,"","","",2.0952380952380953,0.62962962962962965,0.62962962962962965,"","","",0.62962962962962965,1.2708333333333333,1.2708333333333333,"","","",1.2708333333333333,null,null,null,null,null,null,16,{"$f":"$AW$11","v":"Coventry"},{"$f":"$CQ$1","v":"<=06/05/1939"},2,{"$f":"$AW$11","v":"Coventry"},{"$f":"$CQ$1","v":"<=06/05/1939"},1,null,{"$f":"$AW$11","v":"Coventry"},{"$f":"$CQ$1","v":"<=06/05/1939"},2,{"$f":"$AW$11","v":"Coventry"},{"$f":"$CQ$1","v":"<=06/05/1939"},1]
[1,"1938-08-29T00:14:24","00:00:00","1938-08-29","Bradford PA",1,1,"Swansea",1,1,1,"1938-08-29T00:14:24","(H)","(A)","Total",null,null,0,8,"Tottenham",42,13,6,2,48,27,1.7777777777777777,32,6,3,12,19,35,0.54285714285714282,15,19,9,14,67,62,1.0806451612903225,47,1.0806451612903225,null,11,"<=12/09/1938","1938-09-12","1938-09-12","Norwich",{"$f":"DSUM(Data,$I$5,$CQ$27:$CR$28)","v":21},{"$f":"DCOUNT(Data,$J$5,$CQ$27:$CS$28)","v":10},{"$f":"DCOUNT(Data,$J$5,$CT$27:$CV$28)","v":5},6,{"$f":"DSUM(Data,$F$5,$CQ$27:$CR$28)","v":39},{"$f":"DSUM(Data,$G$5,$CQ$27:$CR$28)","v":29},1.3448275862068966,{"$f":"DSUM(Data,$J$5,$CQ$27:$CR$28)","v":25},{"$f":"DSUM(Data,$I$5,$CX$27:$CY$28)","v":21},{"$f":"DCOUNT(Data,$K$5,$CX$27:$CZ$28)","v":3},{"$f":"DCOUNT(Data,$J$5,$DA$27:$DC$28)","v":0},18,{"$f":"DSUM(Data,$G$5,$CX$27:$CY$28)","v":11},{"$f":"DSUM(Data,$F$5,$CX$27:$CY$28)","v":62},0.17741935483870969,{"$f":"DSUM(Data,$K$5,$CX$27:$CY$28)","v":6},50,91,0.5494505494505495,null,1.3448275862068966,1.3448275862068966,"","","",1.3448275862068966,0.17741935483870969,0.17741935483870969,"","","",0.17741935483870969,0.5494505494505495,0.5494505494505495,"","","",0.5494505494505495,null,null,null,null,null,null,17,"Home (team)","Date","Pts1","Home (team)","Date","Pts1",null,"Away (team)","Date","Pts2","Away (team)","Date","Pts2"]
[2,{"$f":"IF(A18=1,D18+0.01,IF(A18=2,D18+0.02,IF(A18=3,D18+0.03,IF(A18=4,D18+0.04,IF(A18=5,D18+0.05,IF(A18=6,D18+0.06,IF(A18=7,D18+0.07,IF(A18=8,D18+0.08,0))))))))","v":"1938-08-29T00:28:48"},{"$f":"IF(A18=9,D18+0.09,IF(A18=10,D18+0.1,IF(A18=11,D18+0.11,IF(A18=12,D18+0.12,0))))","v":"00:00:00"},"1938-08-29","Bury",0,2,"Fulham",1,0,2,"1938-08-29T00:28:48",{"$f":"SUMIF(Summary!E:E,Summary!M16,Summary!J:J)","v":29},{"$f":"SUMIF(Summary!H:H,Summary!M16,Summary!K:K)","v":10},{"$f":"SUM(M18:N18)","v":39},null,null,0,9,"Newcastle",42,13,3,5,44,21,2.0952380952380953,29,5,7,9,17,27,0.62962962962962965,17,18,10,14,61,48,1.2708333333333333,46,1.2708333333333333,null,12,"<=14/09/1938","1938-09-14","1938-09-14","Nottm Forest",{"$f":"DSUM(Data,$I$5,$CQ$29:$CR$30)","v":21},{"$f":"DCOUNT(Data,$J$5,$CQ$29:$CS$30)","v":8},{"$f":"DCOUNT(Data,$J$5,$CT$29:$CV$30)","v":6},7,{"$f":"DSUM(Data,$F$5,$CQ$29:$CR$30)","v":33},{"$f":"DSUM(Data,$G$5,$CQ$29:$CR$30)","v":29},1.1379310344827587,{"$f":"DSUM(Data,$J$5,$CQ$29:$CR$30)","v":22},{"$f":"DSUM(Data,$I$5,$CX$29:$CY$30)","v":21},{"$f":"DCOUNT(Data,$K$5,$CX$29:$CZ$30)","v":2},{"$f":"DCOUNT(Data,$J$5,$DA$29:$DC$30)","v":5},14,{"$f":"DSUM(Data,$G$5,$CX$29:$CY$30)","v":16},{"$f":"DSUM(Data,$F$5,$CX$29:$CY$30)","v":53},0.30188679245283018,{"$f":"DSUM(Data,$K$5,$CX$29:$CY$30)","v":9},49,82,0.59756097560975607,null,1.1379310344827587,1.1379310344827587,"","","",1.1379310344827587,0.30188679245283018,0.30188679245283018,"","","",0.30188679245283018,0.59756097560975607,0.59756097560975607,"","","",0.59756097560975607,null,null,null,null,null,null,18,{"$f":"$AW$12","v":"Fulham"},{"$f":"$CQ$1","v":"<=06/05/1939"},2,{"$f":"$AW$12","v":"Fulham"},{"$f":"$CQ$1","v":"<=06/05/1939"},1,null,{"$f":"$AW$12","v":"Fulham"},{"$f":"$CQ$1","v":"<=06/05/1939"},2,{"$f":"$AW$12","v":"Fulham"},{"$f":"$CQ$1","v":"<=06/05/1939"},1]
[3,"1938-08-29T00:43:12","00:00:00","1938-08-29","Chesterfield",0,3,"Man City",1,0,2,"1938-08-29T00:43:12",{"$f":"SUMIF(Summary!E:E,Summary!M16,Summary!F:F)","v":32},{"$f":"SUMIF(Summary!H:H,Summary!M16,Summary!G:G)","v":18},{"$f":"SUM(M19:N19)","v":50},null,null,0,10,"West Brom",42,15,3,3,54,22,2.4545454545454546,33,3,6,12,35,50,0.7,12,18,9,15,89,72,1.2361111111111112,45,1.2361111111111112,null,13,"<=17/09/1938","1938-09-17","1938-09-17","Plymouth",{"$f":"DSUM(Data,$I$5,$CQ$31:$CR$32)","v":21},{"$f":"DCOUNT(Data,$J$5,$CQ$31:$CS$32)","v":9},{"$f":"DCOUNT(Data,$J$5,$CT$31:$CV$32)","v":7},5,{"$f":"DSUM(Data,$F$5,$CQ$31:$CR$32)","v":24},{"$f":"DSUM(Data,$G$5,$CQ$31:$CR$32)","v":13},1.8461538461538463,{"$f":"DSUM(Data,$J$5,$CQ$31:$CR$32)","v":25},{"$f":"DSUM(Data,$I$5,$CX$31:$CY$32)","v":21},{"$f":"DCOUNT(Data,$K$5,$CX$31:$CZ$32)","v":6},{"$f":"DCOUNT(Data,$J$5,$DA$31:$DC$32)","v":1},14,{"$f":"DSUM(Data,$G$5,$CX$31:$CY$32)","v":25},{"$f":"DSUM(Data,$F$5,$CX$31:$CY$32)","v":42},0.59523809523809523,{"$f":"DSUM(Data,$K$5,$CX$31:$CY$32)","v":13},49,55,0.89090909090909087,null,1.8461538461538463,1.8461538461538463,"","","",1.8461538461538463,0.59523809523809523,0.59523809523809523,"","","",0.59523809523809523,0.89090909090909087,0.89090909090909087,"","","",0.89090909090909087,null,null,null,null,null,null,19,"Home (team)","Date","Pts1","Home (team)","Date","Pts1",null,"Away (team)","Date","Pts2","Away (team)","Date","Pts2"]
[4,"1938-08-29T00:57:36","00:00:00","1938-08-29","Sheff Utd",0,0,"Coventry",1,1,1,"1938-08-29T00:57:36",{"$f":"SUMIF(Summary!E:E,Summary!M16,Summary!G:G)","v":20},{"$f":"SUMIF(Summary!H:H,Summary!M16,Summary!F:F)","v":36},{"$f":"SUM(M20:N20)","v":56},null,null,0,11,"West Ham",42,10,5,6,36,21,1.7142857142857142,25,7,5,9,34,31,1.096774193548387,19,17,10,15,70,52,1.3461538461538463,44,1.3461538461538463,null,14,"<=19/09/1938","1938-09-19","1938-09-19","Sheff Utd",{"$f":"DSUM(Data,$I$5,$CQ$33:$CR$34)","v":21},{"$f":"DCOUNT(Data,$J$5,$CQ$33:$CS$34)","v":9},{"$f":"DCOUNT(Data,$J$5,$CT$33:$CV$34)","v":9},3,{"$f":"DSUM(Data,$F$5,$CQ$33:$CR$34)","v":35},{"$f":"DSUM(Data,$G$5,$CQ$33:$CR$34)","v":15},2.3333333333333335,{"$f":"DSUM(Data,$J$5,$CQ$33:$CR$34)","v":27},{"$f":"DSUM(Data,$I$5,$CX$33:$CY$34)","v":21},{"$f":"DCOUNT(Data,$K$5,$CX$33:$CZ$34)","v":11},{"$f":"DCOUNT(Data,$J$5,$DA$33:$DC$34)","v":5},5,{"$f":"DSUM(Data,$G$5,$CX$33:$CY$34)","v":34},{"$f":"DSUM(Data,$F$5,$CX$33:$CY$34)","v":26},1.3076923076923077,{"$f":"DSUM(Data,$K$5,$CX$33:$CY$34)","v":27},69,41,1.6829268292682926,null,2.3333333333333335,2.3333333333333335,"","","",2.3333333333333335,1.3076923076923077,1.3076923076923077,"","","",1.3076923076923077,1.6829268292682926,1.6829268292682926,"","","",1.6829268292682926,null,null,null,null,null,null,20,{"$f":"$AW$13","v":"Luton"},{"$f":"$CQ$1","v":"<=06/05/1939"},2,{"$f":"$AW$13","v":"Luton"},{"$f":"$CQ$1","v":"<=06/05/1939"},1,null,{"$f":"$AW$13","v":"Luton"},{"$f":"$CQ$1","v":"<=06/05/1939"},2,{"$f":"$AW$13","v":"Luton"},{"$f":"$CQ$1","v":"<=06/05/1939"},1]
[5,"1938-08-29T01:12:00","00:00:00","1938-08-29","Tottenham",3,3,"Sheff Wed",1,1,1,"1938-08-29T01:12:00",{"$f":"T58","v":"Bury"},null,null,1,null,0,12,"Fulham",42,12,5,4,35,20,1.75,29,5,5,11,26,35,0.74285714285714288,15,17,10,15,61,55,1.1090909090909091,44,1.1090909090909091,null,15,"<=24/09/1938","1938-09-24","1938-09-24","Sheff Wed",{"$f":"DSUM(Data,$I$5,$CQ$35:$CR$36)","v":21},{"$f":"DCOUNT(Data,$J$5,$CQ$35:$CS$36)","v":14},{"$f":"DCOUNT(Data,$J$5,$CT$35:$CV$36)","v":4},3,{"$f":"DSUM(Data,$F$5,$CQ$35:$CR$36)","v":47},{"$f":"DSUM(Data,$G$5,$CQ$35:$CR$36)","v":18},2.6111111111111112,{"$f":"DSUM(Data,$J$5,$CQ$35:$CR$36)","v":32},{"$f":"DSUM(Data,$I$5,$CX$35:$CY$36)","v":21},{"$f":"DCOUNT(Data,$K$5,$CX$35:$CZ$36)","v":7},{"$f":"DCOUNT(Data,$J$5,$DA$35:$DC$36)","v":7},7,{"$f":"DSUM(Data,$G$5,$CX$35:$CY$36)","v":41},{"$f":"DSUM(Data,$F$5,$CX$35:$CY$36)","v":41},1,{"$f":"DSUM(Data,$K$5,$CX$35:$CY$36)","v":21},88,59,1.4915254237288136,null,2.6111111111111112,2.6111111111111112,"","","",2.6111111111111112,1,1,"","","",1,1.4915254237288136,1.4915254237288136,"","","",1.4915254237288136,null,null,null,null,null,null,21,"Home (team)","Date","Pts1","Home (team)","Date","Pts1",null,"Away (team)","Date","Pts2","Away (team)","Date","Pts2"]
[6,"1938-08-29T01:26:24","00:00:00","1938-08-29","Tranmere",2,0,"Millwall",1,2,0,"1938-08-29T01:26:24","(H)","(A)","Total",null,{"$f":"MATCH(\"Millwall\",T10:T34,0)","v":13},1,13,"Millwall",42,12,6,3,44,18,2.4444444444444446,30,2,8,11,20,35,0.5714285714285714,12,14,14,14,64,53,1.2075471698113207,42,1.2075471698113207,null,16,"<=01/10/1938","1938-10-01","1938-10-01","Southampton",{"$f":"DSUM(Data,$I$5,$CQ$37:$CR$38)","v":21},{"$f":"DCOUNT(Data,$J$5,$CQ$37:$CS$38)","v":9},{"$f":"DCOUNT(Data,$J$5,$CT$37:$CV$38)","v":6},6,{"$f":"DSUM(Data,$F$5,$CQ$37:$CR$38)","v":35},{"$f":"DSUM(Data,$G$5,$CQ$37:$CR$38)","v":34},1.0294117647058822,{"$f":"DSUM(Data,$J$5,$CQ$37:$CR$38)","v":24},{"$f":"DSUM(Data,$I$5,$CX$37:$CY$38)","v":21},{"$f":"DCOUNT(Data,$K$5,$CX$37:$CZ$38)","v":4},{"$f":"DCOUNT(Data,$J$5,$DA$37:$DC$38)","v":3},14,{"$f":"DSUM(Data,$G$5,$CX$37:$CY$38)","v":21},{"$f":"DSUM(Data,$F$5,$CX$37:$CY$38)","v":48},0.4375,{"$f":"DSUM(Data,$K$5,$CX$37:$CY$38)","v":11},56,82,0.68292682926829273,null,1.0294117647058822,1.0294117647058822,"","",{"$f":"IF(BT22=\"\",IF(BU22=\"\",IF(BB22=0,IF(BC22<>0,\"- Inf\",\"\"),\"\"),\"\"),\"\")","v":""},1.0294117647058822,0.4375,0.4375,"","","",0.4375,0.68292682926829273,0.68292682926829273,"","","",0.68292682926829273,null,null,null,null,null,null,22,{"$f":"$AW$14","v":"Man City"},{"$f":"$CQ$1","v":"<=06/05/1939"},2,{"$f":"$AW$14","v":"Man City"},{"$f":"$CQ$1","v":"<=06/05/1939"},1,null,{"$f":"$AW$14","v":"Man City"},{"$f":"$CQ$1","v":"<=06/05/1939"},2,{"$f":"$AW$14","v":"Man City"},{"$f":"$CQ$1","v":"<=06/05/1939"},1]
[7,"1938-08-29T01:40:48","00:00:00","1938-08-29","West Ham",1,2,"Blackburn",1,0,2,"1938-08-29T01:40:48",{"$f":"SUMIF(Summary!E:E,Summary!M21,Summary!J:J)","v":23},{"$f":"SUMIF(Summary!H:H,Summary!M21,Summary!K:K)","v":14},{"$f":"SUM(M23:N23)","v":37},null,null,0,14,"Burnley",42,13,3,5,32,20,1.6,29,2,6,13,18,36,0.5,10,15,9,18,50,56,0.8928571428571429,39,0.8928571428571429,null,17,"<=08/10/1938","1938-10-08","1938-10-08","Swansea",{"$f":"DSUM(Data,$I$5,$CQ$39:$CR$40)","v":21},{"$f":"DCOUNT(Data,$J$5,$CQ$39:$CS$40)","v":8},{"$f":"DCOUNT(Data,$J$5,$CT$39:$CV$40)","v":6},7,{"$f":"DSUM(Data,$F$5,$CQ$39:$CR$40)","v":33},{"$f":"DSUM(Data,$G$5,$CQ$39:$CR$40)","v":30},1.1000000000000001,{"$f":"DSUM(Data,$J$5,$CQ$39:$CR$40)","v":22},{"$f":"DSUM(Data,$I$5,$CX$39:$CY$40)","v":21},{"$f":"DCOUNT(Data,$K$5,$CX$39:$CZ$40)","v":3},{"$f":"DCOUNT(Data,$J$5,$DA$39:$DC$40)","v":6},12,{"$f":"DSUM(Data,$G$5,$CX$39:$CY$40)","v":17},{"$f":"DSUM(Data,$F$5,$CX$39:$CY$40)","v":53},0.32075471698113206,{"$f":"DSUM(Data,$K$5,$CX$39:$CY$40)","v":12},50,83,0.60240963855421692,null,1.1000000000000001,1.1000000000000001,"","","",1.1000000000000001,0.32075471698113206,0.32075471698113206,"","","",0.32075471698113206,0.60240963855421692,0.60240963855421692,"","","",0.60240963855421692,null,null,null,null,null,null,23,"Home (team)","Date","Pts1","Home (team)","Date","Pts1",null,"Away (team)","Date","Pts2","Away (team)","Date","Pts2"]
[1,"1938-08-30T00:14:24","00:00:00","1938-08-30","Burnley",2,1,"Southampton",1,2,0,"1938-08-30T00:14:24",{"$f":"SUMIF(Summary!E:E,Summary!M21,Summary!F:F)","v":48},{"$f":"SUMIF(Summary!H:H,Summary!M21,Summary!G:G)","v":17},{"$f":"SUM(M24:N24)","v":65},null,null,0,15,"Plymouth",42,9,7,5,24,13,1.8461538461538463,25,6,1,14,25,42,0.59523809523809523,13,15,8,19,49,55,0.89090909090909087,38,0.89090909090909087,null,18,"<=15/10/1938","1938-10-15","1938-10-15","Tottenham",{"$f":"DSUM(Data,$I$5,$CQ$41:$CR$42)","v":21},{"$f":"DCOUNT(Data,$J$5,$CQ$41:$CS$42)","v":13},{"$f":"DCOUNT(Data,$J$5,$CT$41:$CV$42)","v":6},{"$f":"SUM(AX24-AY24-AZ24)","v":2},{"$f":"DSUM(Data,$F$5,$CQ$41:$CR$42)","v":48},{"$f":"DSUM(Data,$G$5,$CQ$41:$CR$42)","v":27},{"$f":"BW24","v":1.7777777777777777},{"$f":"DSUM(Data,$J$5,$CQ$41:$CR$42)","v":32},{"$f":"DSUM(Data,$I$5,$CX$41:$CY$42)","v":21},{"$f":"DCOUNT(Data,$K$5,$CX$41:$CZ$42)","v":6},{"$f":"DCOUNT(Data,$J$5,$DA$41:$DC$42)","v":3},{"$f":"SUM(BF24-BG24-BH24)","v":12},{"$f":"DSUM(Data,$G$5,$CX$41:$CY$42)","v":19},{"$f":"DSUM(Data,$F$5,$CX$41:$CY$42)","v":35},{"$f":"CC24","v":0.54285714285714282},{"$f":"DSUM(Data,$K$5,$CX$41:$CY$42)","v":15},{"$f":"BB24+BJ24","v":67},{"$f":"BC24+BK24","v":62},{"$f":"CI24","v":1.0806451612903225},null,1.7777777777777777,1.7777777777777777,"","","",1.7777777777777777,0.54285714285714282,0.54285714285714282,"","","",0.54285714285714282,1.0806451612903225,1.0806451612903225,"","","",1.0806451612903225,null,null,null,null,null,null,24,{"$f":"$AW$15","v":"Millwall"},{"$f":"$CQ$1","v":"<=06/05/1939"},2,{"$f":"$AW$15","v":"Millwall"},{"$f":"$CQ$1","v":"<=06/05/1939"},1,null,{"$f":"$AW$15","v":"Millwall"},{"$f":"$CQ$1","v":"<=06/05/1939"},2,{"$f":"$AW$15","v":"Millwall"},{"$f":"$CQ$1","v":"<=06/05/1939"},1]
[1,"1938-08-31T00:14:24","00:00:00","1938-08-31","Luton",2,1,"Newcastle",1,2,0,"1938-08-31T00:14:24",{"$f":"SUMIF(Summary!E:E,Summary!M21,Summary!G:G)","v":36},{"$f":"SUMIF(Summary!H:H,Summary!M21,Summary!F:F)","v":38},{"$f":"SUM(M25:N25)","v":74},null,null,0,16,"Bury",42,9,5,7,48,36,1.3333333333333333,23,3,8,10,17,38,0.44736842105263158,14,12,13,17,65,74,0.8783783783783784,37,0.8783783783783784,null,19,"<=22/10/1938","1938-10-22","1938-10-22","Tranmere",{"$f":"DSUM(Data,$I$5,$CQ$43:$CR$44)","v":21},{"$f":"DCOUNT(Data,$J$5,$CQ$43:$CS$44)","v":6},{"$f":"DCOUNT(Data,$J$5,$CT$43:$CV$44)","v":4},11,{"$f":"DSUM(Data,$F$5,$CQ$43:$CR$44)","v":26},{"$f":"DSUM(Data,$G$5,$CQ$43:$CR$44)","v":38},0.68421052631578949,{"$f":"DSUM(Data,$J$5,$CQ$43:$CR$44)","v":16},{"$f":"DSUM(Data,$I$5,$CX$43:$CY$44)","v":21},{"$f":"DCOUNT(Data,$K$5,$CX$43:$CZ$44)","v":0},{"$f":"DCOUNT(Data,$J$5,$DA$43:$DC$44)","v":1},20,{"$f":"DSUM(Data,$G$5,$CX$43:$CY$44)","v":13},{"$f":"DSUM(Data,$F$5,$CX$43:$CY$44)","v":61},0.21311475409836064,{"$f":"DSUM(Data,$K$5,$CX$43:$CY$44)","v":1},39,99,0.39393939393939392,null,0.68421052631578949,0.68421052631578949,"","","",0.68421052631578949,0.21311475409836064,0.21311475409836064,"","","",0.21311475409836064,0.39393939393939392,0.39393939393939392,"","","",0.39393939393939392,null,null,null,null,null,null,25,"Home (team)","Date","Pts1","Home (team)","Date","Pts1",null,"Away (team)","Date","Pts2","Away (team)","Date","Pts2"]
[2,"1938-08-31T00:28:48","00:00:00","1938-08-31","Plymouth",3,0,"Nottm Forest",1,2,0,"1938-08-31T00:28:48",{"$f":"T59","v":"Chesterfield"},null,null,1,null,0,17,"Bradford PA",42,8,6,7,33,35,0.94285714285714284,22,4,5,12,28,47,0.5957446808510638,13,12,11,19,61,82,0.74390243902439024,35,0.74390243902439024,null,20,"<=29/10/1938","1938-10-29","1938-10-29","West Brom",{"$f":"DSUM(Data,$I$5,$CQ$45:$CR$46)","v":21},{"$f":"DCOUNT(Data,$J$5,$CQ$45:$CS$46)","v":15},{"$f":"DCOUNT(Data,$J$5,$CT$45:$CV$46)","v":3},3,{"$f":"DSUM(Data,$F$5,$CQ$45:$CR$46)","v":54},{"$f":"DSUM(Data,$G$5,$CQ$45:$CR$46)","v":22},2.4545454545454546,{"$f":"DSUM(Data,$J$5,$CQ$45:$CR$46)","v":33},{"$f":"DSUM(Data,$I$5,$CX$45:$CY$46)","v":21},{"$f":"DCOUNT(Data,$K$5,$CX$45:$CZ$46)","v":3},{"$f":"DCOUNT(Data,$J$5,$DA$45:$DC$46)","v":6},12,{"$f":"DSUM(Data,$G$5,$CX$45:$CY$46)","v":35},{"$f":"DSUM(Data,$F$5,$CX$45:$CY$46)","v":50},0.7,{"$f":"DSUM(Data,$K$5,$CX$45:$CY$46)","v":12},89,72,1.2361111111111112,null,2.4545454545454546,2.4545454545454546,"","","",2.4545454545454546,0.7,0.7,"","","",0.7,1.2361111111111112,1.2361111111111112,"","","",1.2361111111111112,null,null,null,null,null,null,26,{"$f":"$AW$16","v":"Newcastle"},{"$f":"$CQ$1","v":"<=06/05/1939"},2,{"$f":"$AW$16","v":"Newcastle"},{"$f":"$CQ$1","v":"<=06/05/1939"},1,null,{"$f":"$AW$16","v":"Newcastle"},{"$f":"$CQ$1","v":"<=06/05/1939"},2,{"$f":"$AW$16","v":"Newcastle"},{"$f":"$CQ$1","v":"<=06/05/1939"},1]
[1,"1938-09-01T00:14:24","00:00:00","1938-09-01","Norwich",2,3,"West Brom",1,0,2,"1938-09-01T00:14:24","(H)","(A)","Total",null,null,0,18,"Southampton",42,9,6,6,35,34,1.0294117647058822,24,4,3,14,21,48,0.4375,11,13,9,20,56,82,0.68292682926829273,35,0.68292682926829273,null,21,"<=05/11/1938","1938-11-05","1938-11-05","West Ham",{"$f":"DSUM(Data,$I$5,$CQ$47:$CR$48)","v":21},{"$f":"DCOUNT(Data,$J$5,$CQ$47:$CS$48)","v":10},{"$f":"DCOUNT(Data,$J$5,$CT$47:$CV$48)","v":5},6,{"$f":"DSUM(Data,$F$5,$CQ$47:$CR$48)","v":36},{"$f":"DSUM(Data,$G$5,$CQ$47:$CR$48)","v":21},1.7142857142857142,{"$f":"DSUM(Data,$J$5,$CQ$47:$CR$48)","v":25},{"$f":"DSUM(Data,$I$5,$CX$47:$CY$48)","v":21},{"$f":"DCOUNT(Data,$K$5,$CX$47:$CZ$48)","v":7},{"$f":"DCOUNT(Data,$J$5,$DA$47:$DC$48)","v":5},9,{"$f":"DSUM(Data,$G$5,$CX$47:$CY$48)","v":34},{"$f":"DSUM(Data,$F$5,$CX$47:$CY$48)","v":31},1.096774193548387,{"$f":"DSUM(Data,$K$5,$CX$47:$CY$48)","v":19},70,52,1.3461538461538463,null,1.7142857142857142,1.7142857142857142,"","","",1.7142857142857142,1.096774193548387,1.096774193548387,"","","",1.096774193548387,1.3461538461538463,1.3461538461538463,"","","",1.3461538461538463,null,null,null,null,null,null,27,"Home (team)","Date","Pts1","Home (team)","Date","Pts1",null,"Away (team)","Date","Pts2","Away (team)","Date","Pts2"]
[1,"1938-09-03T00:14:24","00:00:00","1938-09-03","Bradford PA",4,2,"Man City",1,2,0,"1938-09-03T00:14:24",{"$f":"SUMIF(Summary!E:E,Summary!M26,Summary!J:J)","v":33},{"$f":"SUMIF(Summary!H:H,Summary!M26,Summary!K:K)","v":16},{"$f":"SUM(M28:N28)","v":49},null,null,0,19,"Swansea",42,8,6,7,33,30,1.1000000000000001,22,3,6,12,17,53,0.32075471698113206,12,11,12,19,50,83,0.60240963855421692,34,0.60240963855421692,null,22,"<=12/11/1938","1938-11-12","1938-11-12",null,null,null,null,null,null,null,null,null,null,null,null,null,null,null,null,null,null,null,null,null,null,null,null,null,null,null,null,null,null,null,null,null,null,null,null,null,null,null,null,null,null,null,null,null,28,{"$f":"$AW$17","v":"Norwich"},{"$f":"$CQ$1","v":"<=06/05/1939"},2,{"$f":"$AW$17","v":"Norwich"},{"$f":"$CQ$1","v":"<=06/05/1939"},1,null,{"$f":"$AW$17","v":"Norwich"},{"$f":"$CQ$1","v":"<=06/05/1939"},2,{"$f":"$AW$17","v":"Norwich"},{"$f":"$CQ$1","v":"<=06/05/1939"},1]
[2,"1938-09-03T00:28:48","00:00:00","1938-09-03","Burnley",2,1,"Nottm Forest",1,2,0,"1938-09-03T00:28:48",{"$f":"SUMIF(Summary!E:E,Summary!M26,Summary!F:F)","v":60},{"$f":"SUMIF(Summary!H:H,Summary!M26,Summary!G:G)","v":15},{"$f":"SUM(M29:N29)","v":75},null,null,0,20,"Nottm Forest",42,8,6,7,33,29,1.1379310344827587,22,2,5,14,16,53,0.30188679245283018,9,10,11,21,49,82,0.59756097560975607,31,0.59756097560975607,null,23,"<=19/11/1938","1938-11-19","1938-11-19",null,null,null,null,null,null,null,null,null,null,null,null,null,null,null,null,null,null,null,null,null,null,null,null,null,null,null,null,null,null,null,null,null,null,null,null,null,null,null,null,null,null,null,null,null,29,"Home (team)","Date","Pts1","Home (team)","Date","Pts1",null,"Away (team)","Date","Pts2","Away (team)","Date","Pts2"]
[3,"1938-09-03T00:43:12","00:00:00","1938-09-03","Bury",5,2,"Southampton",1,2,0,"1938-09-03T00:43:12",{"$f":"SUMIF(Summary!E:E,Summary!M26,Summary!G:G)","v":21},{"$f":"SUMIF(Summary!H:H,Summary!M26,Summary!F:F)","v":32},{"$f":"SUM(M30:N30)","v":53},null,null,0,21,"Norwich",42,10,5,6,39,29,1.3448275862068966,25,3,0,18,11,62,0.17741935483870969,6,13,5,24,50,91,0.5494505494505495,31,0.5494505494505495,null,24,"<=26/11/1938","1938-11-26","1938-11-26",null,null,null,null,null,null,null,null,null,null,null,null,null,null,null,null,null,null,null,null,null,null,null,null,null,null,null,null,null,null,null,null,null,null,null,null,null,null,null,null,null,null,null,null,null,30,{"$f":"$AW$18","v":"Nottm Forest"},{"$f":"$CQ$1","v":"<=06/05/1939"},2,{"$f":"$AW$18","v":"Nottm Forest"},{"$f":"$CQ$1","v":"<=06/05/1939"},1,null,{"$f":"$AW$18","v":"Nottm Forest"},{"$f":"$CQ$1","v":"<=06/05/1939"},2,{"$f":"$AW$18","v":"Nottm Forest"},{"$f":"$CQ$1","v":"<=06/05/1939"},1]
[4,"1938-09-03T00:57:36","00:00:00","1938-09-03","Chesterfield",0,2,"Blackburn",1,0,2,"1938-09-03T00:57:36",{"$f":"T60","v":"Coventry"},null,null,1,null,0,22,"Tranmere",42,6,4,11,26,38,0.68421052631578949,16,0,1,20,13,61,0.21311475409836064,1,6,5,31,39,99,0.39393939393939392,17,0.39393939393939392,null,25,"<=03/12/1938","1938-12-03","1938-12-03",null,null,null,null,null,null,null,null,null,null,null,null,null,null,null,null,null,null,null,null,null,null,null,null,null,null,null,null,null,null,null,null,null,null,null,null,null,null,null,null,null,null,null,null,null,31,"Home (team)","Date","Pts1","Home (team)","Date","Pts1",null,"Away (team)","Date","Pts2","Away (team)","Date","Pts2"]
[5,"1938-09-03T01:12:00","00:00:00","1938-09-03","Luton",2,1,"Norwich",1,2,0,"1938-09-03T01:12:00","(H)","(A)","Total",null,null,{"$f":"IF(S32=AT$1,1,0)","v":0},null,null,null,null,null,null,null,null,null,null,null,null,null,null,null,null,null,null,null,null,null,null,null,null,null,null,26,"<=10/12/1938","1938-12-10","1938-12-10",null,null,null,null,null,null,null,null,null,null,null,null,null,null,null,null,null,null,null,null,null,null,null,null,null,null,null,null,null,null,null,null,null,null,null,null,null,null,null,null,null,null,null,null,null,32,{"$f":"$AW$19","v":"Plymouth"},{"$f":"$CQ$1","v":"<=06/05/1939"},2,{"$f":"$AW$19","v":"Plymouth"},{"$f":"$CQ$1","v":"<=06/05/1939"},1,null,{"$f":"$AW$19","v":"Plymouth"},{"$f":"$CQ$1","v":"<=06/05/1939"},2,{"$f":"$AW$19","v":"Plymouth"},{"$f":"$CQ$1","v":"<=06/05/1939"},1]
[6,"1938-09-03T01:26:24","00:00:00","1938-09-03","Plymouth",2,1,"West Brom",1,2,0,"1938-09-03T01:26:24",{"$f":"SUMIF(Summary!E:E,Summary!M31,Summary!J:J)","v":30},{"$f":"SUMIF(Summary!H:H,Summary!M31,Summary!K:K)","v":20},{"$f":"SUM(M33:N33)","v":50},null,null,null,null,null,null,null,null,null,null,null,null,null,null,null,null,null,null,null,null,null,null,null,null,null,null,null,null,null,27,"<=17/12/1938","1938-12-17","1938-12-17",null,null,null,null,null,null,null,null,null,null,null,null,null,null,null,null,null,null,null,null,null,null,null,null,null,null,null,null,null,null,null,null,null,null,null,null,null,null,null,null,null,null,null,null,null,33,"Home (team)","Date","Pts1","Home (team)","Date","Pts1",null,"Away (team)","Date","Pts2","Away (team)","Date","Pts2"]
[7,"1938-09-03T01:40:48","00:00:00","1938-09-03","Sheff Utd",0,0,"Newcastle",1,1,1,"1938-09-03T01:40:48",{"$f":"SUMIF(Summary!E:E,Summary!M31,Summary!F:F)","v":35},{"$f":"SUMIF(Summary!H:H,Summary!M31,Summary!G:G)","v":30},{"$f":"SUM(M34:N34)","v":65},null,null,null,null,null,null,null,null,null,null,null,null,null,null,null,null,null,null,null,null,null,null,null,null,null,null,null,{"$f":"T5+1","v":70},null,28,"<=24/12/1938","1938-12-24","1938-12-24",{"$f":"AW6","v":"Blackburn"},{"$f":"SUM(AY6:BA6)","v":21},{"$f":"SUM(BG6:BI6)","v":21},null,null,"Chesterfield",null,null,null,"Chesterfield (H)",null,null,null,null,null,"1938-08-27",null,null,null,null,null,null,null,null,null,null,null,null,null,null,null,null,null,null,null,null,null,null,null,null,null,null,null,null,null,34,{"$f":"$AW$20","v":"Sheff Utd"},{"$f":"$CQ$1","v":"<=06/05/1939"},2,{"$f":"$AW$20","v":"Sheff Utd"},{"$f":"$CQ$1","v":"<=06/05/1939"},1,null,{"$f":"$AW$20","v":"Sheff Utd"},{"$f":"$CQ$1","v":"<=06/05/1939"},2,{"$f":"$AW$20","v":"Sheff Utd"},{"$f":"$CQ$1","v":"<=06/05/1939"},1]
[8,"1938-09-03T01:55:12","00:00:00","1938-09-03","Swansea",1,1,"Millwall",1,1,1,"1938-09-03T01:55:12",{"$f":"SUMIF(Summary!E:E,Summary!M31,Summary!G:G)","v":13},{"$f":"SUMIF(Summary!H:H,Summary!M31,Summary!F:F)","v":33},{"$f":"SUM(M35:N35)","v":46},null,null,null,null,"Millwall",{"$f":"MATCH(T64,T10:T31,0)","v":13},null,null,{"$f":"AT4","v":"End of Season"},null,null,{"$f":"MATCH(X35,T10:T31,0)","v":{"$error":"#N/A"}},null,null,null,{"$f":"LOOKUP($AF$35,$AU$7:$AU$12,$AS$7:$AS$120)","v":{"$error":"#N/A"}},{"$f":"LOOKUP($X$2,$BC$35:$BC$84,$BL$35:$BL$84)","v":"00:00:00"},null,null,null,null,null,null,null,{"$f":"BD82&\" v \"&BD83","v":{"$error":"#N/A"}},null,null,{"$f":"LOOKUP($AQ$34,$AS$7:$AS$100,$AU$7:$AU$12)","v":"1939-05-06"},null,29,"<=26/12/1938","1938-12-26","1938-12-26",{"$f":"AW7","v":"Bradford PA"},21,21,null,null,"Tranmere",1,{"$f":"BF34&\" \"&BI35&\" \"&BG35&\"-\"&BH35","v":"Chesterfield (H) W 3-1"},{"$f":"BJ35&\" \"&\"Pts\"","v":"2 Pts"},"Tranmere (A)",3,1,{"$f":"IF(BG35>BH35,\"W\",IF(BG35=BH35,\"D\",IF(BG35<BH35,\"L\",\"Error\")))","v":"W"},{"$f":"SUM(BK35)","v":2},{"$f":"IF(BI35=\"W\",2,IF(BI35=\"D\",1,IF(BI35=\"L\",0,\"Error\")))","v":2},"1938-08-29",null,null,null,null,null,null,null,null,null,null,null,null,null,null,null,null,null,null,null,null,null,null,null,null,null,null,null,null,null,35,"Home (team)","Date","Pts1","Home (team)","Date","Pts1",null,"Away (team)","Date","Pts2","Away (team)","Date","Pts2"]
[9,"00:00:00","1938-09-03T02:09:36","1938-09-03","Tottenham",2,1,"Coventry",1,2,0,"1938-09-03T02:09:36",{"$f":"T62","v":"Luton"},null,null,1,null,null,null,null,null,null,null,null,null,null,null,null,null,null,null,null,null,null,null,null,null,null,null,null,null,null,null,null,30,"<=27/12/1938","1938-12-27","1938-12-27","Burnley",21,21,null,null,"Swansea",2,{"$f":"BF35&\" \"&BI36&\" \"&BG36&\"-\"&BH36","v":"Tranmere (A) L 0-2"},{"$f":"BJ36&\" \"&\"Pts\"","v":"2 Pts"},"Swansea (A)",0,2,{"$f":"IF(BG36>BH36,\"W\",IF(BG36=BH36,\"D\",IF(BG36<BH36,\"L\",\"Error\")))","v":"L"},{"$f":"SUM(BK$35:BK36)","v":2},{"$f":"IF(BI36=\"W\",2,IF(BI36=\"D\",1,IF(BI36=\"L\",0,\"Error\")))","v":0},"1938-09-03",null,null,null,null,null,null,null,null,null,null,null,null,null,null,null,null,null,null,null,null,null,null,null,null,null,null,null,null,null,36,{"$f":"$AW$21","v":"Sheff Wed"},{"$f":"$CQ$1","v":"<=06/05/1939"},2,{"$f":"$AW$21","v":"Sheff Wed"},{"$f":"$CQ$1","v":"<=06/05/1939"},1,null,{"$f":"$AW$21","v":"Sheff Wed"},{"$f":"$CQ$1","v":"<=06/05/1939"},2,{"$f":"$AW$21","v":"Sheff Wed"},{"$f":"$CQ$1","v":"<=06/05/1939"},1]
[10,"00:00:00","1938-09-03T02:24:00","1938-09-03","Tranmere",0,1,"Fulham",1,0,2,"1938-09-03T02:24:00","(H)","(A)","Total",null,null,null,null,"Results",null,{"$f":"AI2","v":"Saturday"},null,null,null,null,{"$f":"AO2","v":"1939-05-06"},null,null,null,null,"Division 2 Season 1938/39",null,null,null,null,null,null,null,null,null,null,null,null,31,"<=31/12/1938","1938-12-31","1938-12-31","Bury",21,21,null,null,"Bury",3,"Swansea (A) D 1-1","3 Pts","Bury (H)",1,1,"D",{"$f":"SUM(BK$35:BK37)","v":3},1,"1938-09-05",null,null,null,null,null,null,null,null,null,null,null,null,null,null,null,null,null,null,null,null,null,null,null,null,null,null,null,null,null,37,"Home (team)","Date","Pts1","Home (team)","Date","Pts1",null,"Away (team)","Date","Pts2","Away (team)","Date","Pts2"]
[11,"00:00:00","1938-09-03T02:38:24","1938-09-03","West Ham",2,3,"Sheff Wed",1,0,2,"1938-09-03T02:38:24",{"$f":"SUMIF(Summary!E:E,Summary!M36,Summary!J:J)","v":30},{"$f":"SUMIF(Summary!H:H,Summary!M36,Summary!K:K)","v":19},{"$f":"SUM(M38:N38)","v":49},null,null,null,null,null,null,null,null,null,null,null,null,null,null,null,null,null,null,null,null,null,null,null,null,null,null,null,null,null,32,"<=02/01/1939","1939-01-02","1939-01-02","Chesterfield",21,21,null,null,"Bradford PA",4,"Bury (H) D 0-0","4 Pts","Bradford PA (H)",0,0,"D",{"$f":"SUM(BK$35:BK38)","v":4},1,"1938-09-10",null,null,null,null,null,null,null,null,null,null,null,null,null,null,null,null,null,null,null,null,null,null,null,null,null,null,null,null,null,38,{"$f":"$AW$22","v":"Southampton"},{"$f":"$CQ$1","v":"<=06/05/1939"},2,{"$f":"$AW$22","v":"Southampton"},{"$f":"$CQ$1","v":"<=06/05/1939"},1,null,{"$f":"$AW$22","v":"Southampton"},{"$f":"$CQ$1","v":"<=06/05/1939"},2,{"$f":"$AW$22","v":"Southampton"},{"$f":"$CQ$1","v":"<=06/05/1939"},1]
[1,"1938-09-05T00:14:24","00:00:00","1938-09-05","Burnley",2,0,"Fulham",1,2,0,"1938-09-05T00:14:24",{"$f":"SUMIF(Summary!E:E,Summary!M36,Summary!F:F)","v":48},{"$f":"SUMIF(Summary!H:H,Summary!M36,Summary!G:G)","v":35},{"$f":"SUM(M39:N39)","v":83},null,null,null,null,{"$f":"IF($I2051=0,D2051,\" \")","v":"1939-05-06"},null,{"$f":"IF($I2051=0,E2051,\" \")","v":"Chesterfield"},null,null,null,null,{"$f":"IF($I2051=0,F2051,\" \")","v":6},{"$f":"IF($I2051=0,\"-\",\" \")","v":"-"},{"$f":"IF($I2051=0,G2051,\" \")","v":1},null,{"$f":"IF($I2051=0,H2051,\" \")","v":"Swansea"},null,null,null,null,null,null,null,null,null,null,null,null,null,33,"<=14/01/1939","1939-01-14","1939-01-14","Coventry",21,21,null,null,"Man City",5,"Bradford PA (H) W 3-1","6 Pts","Man City (A)",3,1,"W",{"$f":"SUM(BK$35:BK39)","v":6},2,"1938-09-17",null,null,null,null,null,null,null,null,null,null,null,null,null,null,null,null,null,null,null,null,null,null,null,null,null,null,null,null,null,39,"Home (team)","Date","Pts1","Home (team)","Date","Pts1",null,"Away (team)","Date","Pts2","Away (team)","Date","Pts2"]
[2,"1938-09-05T00:28:48","00:00:00","1938-09-05","Coventry",1,0,"Luton",1,2,0,"1938-09-05T00:28:48",{"$f":"SUMIF(Summary!E:E,Summary!M36,Summary!G:G)","v":30},{"$f":"SUMIF(Summary!H:H,Summary!M36,Summary!F:F)","v":39},{"$f":"SUM(M40:N40)","v":69},null,null,null,null,{"$f":"IF($I2052=0,D2052,\" \")","v":"1939-05-06"},null,{"$f":"IF($I2052=0,E2052,\" \")","v":"Luton"},null,null,null,null,{"$f":"IF($I2052=0,F2052,\" \")","v":1},"-",{"$f":"IF($I2052=0,G2052,\" \")","v":3},null,{"$f":"IF($I2052=0,H2052,\" \")","v":"Coventry"},null,null,null,null,null,null,null,null,null,null,null,null,null,34,"<=21/01/1939","1939-01-21","1939-01-21","Fulham",21,21,null,null,"Plymouth",6,"Man City (A) W 6-1","8 Pts","Plymouth (H)",6,1,"W",{"$f":"SUM(BK$35:BK40)","v":8},2,"1938-09-24",null,null,null,null,null,null,null,null,null,null,null,null,null,null,null,null,null,null,null,null,null,null,null,null,null,null,null,null,null,40,{"$f":"$AW$23","v":"Swansea"},{"$f":"$CQ$1","v":"<=06/05/1939"},2,{"$f":"$AW$23","v":"Swansea"},{"$f":"$CQ$1","v":"<=06/05/1939"},1,null,{"$f":"$AW$23","v":"Swansea"},{"$f":"$CQ$1","v":"<=06/05/1939"},2,{"$f":"$AW$23","v":"Swansea"},{"$f":"$CQ$1","v":"<=06/05/1939"},1]
[3,"1938-09-05T00:43:12","00:00:00","1938-09-05","Millwall",0,0,"Bury",1,1,1,"1938-09-05T00:43:12",{"$f":"T63","v":"Man City"},null,null,1,null,null,null,"1939-05-06",null,"Norwich",null,null,null,null,1,"-",0,null,"Nottm Forest",null,null,null,null,null,null,null,null,null,null,null,null,null,35,"<=23/01/1939","1939-01-23","1939-01-23","Luton",21,21,null,null,"Blackburn",7,"Plymouth (H) W 3-0","10 Pts","Blackburn (H)",3,0,"W",{"$f":"SUM(BK$35:BK41)","v":10},2,"1938-10-01",null,null,null,null,null,null,null,null,null,null,null,null,null,null,null,null,null,null,null,null,null,null,null,null,null,null,null,null,null,41,"Home (team)","Date","Pts1","Home (team)","Date","Pts1",null,"Away (team)","Date","Pts2","Away (team)","Date","Pts2"]
[4,"1938-09-05T00:57:36","00:00:00","1938-09-05","Swansea",1,1,"Chesterfield",1,1,1,"1938-09-05T00:57:36","(H)","(A)","Total",null,null,null,null,"1939-05-06",null,"Plymouth",null,null,null,null,2,"-",0,null,"Southampton",null,null,null,null,null,null,null,null,null,null,null,null,null,36,"<=28/01/1939","1939-01-28","1939-01-28","Man City",21,21,null,null,"Fulham",8,"Blackburn (H) W 4-1","12 Pts","Fulham (A)",4,1,"W",{"$f":"SUM(BK$35:BK42)","v":12},2,"1938-10-08",null,null,null,null,null,null,null,null,null,null,null,null,null,null,null,null,null,null,null,null,null,null,null,null,null,null,null,null,null,42,{"$f":"$AW$24","v":"Tottenham"},{"$f":"$CQ$1","v":"<=06/05/1939"},2,{"$f":"$AW$24","v":"Tottenham"},{"$f":"$CQ$1","v":"<=06/05/1939"},1,null,{"$f":"$AW$24","v":"Tottenham"},{"$f":"$CQ$1","v":"<=06/05/1939"},2,{"$f":"$AW$24","v":"Tottenham"},{"$f":"$CQ$1","v":"<=06/05/1939"},1]
[1,"1938-09-07T00:14:24","00:00:00","1938-09-07","Man City",2,4,"West Ham",1,0,2,"1938-09-07T00:14:24",{"$f":"SUMIF(Summary!E:E,Summary!M41,Summary!J:J)","v":29},{"$f":"SUMIF(Summary!H:H,Summary!M41,Summary!K:K)","v":20},{"$f":"SUM(M43:N43)","v":49},null,null,null,null,"1939-05-06",null,"Sheff Utd",null,null,null,null,6,"-",1,null,"Tottenham",null,null,null,null,null,null,null,null,null,null,null,null,null,37,"<=01/02/1939","1939-02-01","1939-02-01","Millwall",21,21,null,null,"Sheff Utd",9,"Fulham (A) L 1-2","12 Pts","Sheff Utd (A)",1,2,"L",{"$f":"SUM(BK$35:BK43)","v":12},0,"1938-10-15",null,null,null,null,null,null,null,null,null,null,null,null,null,null,null,null,null,null,null,null,null,null,null,null,null,null,null,null,null,43,"Home (team)","Date","Pts1","Home (team)","Date","Pts1",null,"Away (team)","Date","Pts2","Away (team)","Date","Pts2"]
[2,"1938-09-07T00:28:48","00:00:00","1938-09-07","Nottm Forest",1,0,"Norwich",1,2,0,"1938-09-07T00:28:48",{"$f":"SUMIF(Summary!E:E,Summary!M41,Summary!F:F)","v":56},{"$f":"SUMIF(Summary!H:H,Summary!M41,Summary!G:G)","v":47},{"$f":"SUM(M44:N44)","v":103},null,null,null,null,"1939-05-06",null,"West Ham",null,null,null,null,2,"-",1,null,"Man City",null,null,null,null,null,null,null,null,null,null,null,null,null,38,"<=02/02/1939","1939-02-02","1939-02-02",{"$f":"AW16","v":"Newcastle"},{"$f":"SUM(AY16:BA16)","v":21},{"$f":"SUM(BG16:BI16)","v":21},null,null,"Burnley",10,"Sheff Utd (A) L 1-2","12 Pts","Burnley (H)",1,2,"L",{"$f":"SUM(BK$35:BK44)","v":12},0,"1938-10-22",null,null,null,null,null,null,null,null,null,null,null,null,null,null,null,null,null,null,null,null,null,null,null,null,null,null,null,null,null,44,{"$f":"$AW$25","v":"Tranmere"},{"$f":"$CQ$1","v":"<=06/05/1939"},2,{"$f":"$AW$25","v":"Tranmere"},{"$f":"$CQ$1","v":"<=06/05/1939"},1,null,{"$f":"$AW$25","v":"Tranmere"},{"$f":"$CQ$1","v":"<=06/05/1939"},2,{"$f":"$AW$25","v":"Tranmere"},{"$f":"$CQ$1","v":"<=06/05/1939"},1]
[3,"1938-09-07T00:43:12","00:00:00","1938-09-07","West Brom",5,2,"Newcastle",1,2,0,"1938-09-07T00:43:12",{"$f":"SUMIF(Summary!E:E,Summary!M41,Summary!G:G)","v":35},{"$f":"SUMIF(Summary!H:H,Summary!M41,Summary!F:F)","v":51},{"$f":"SUM(M45:N45)","v":86},null,null,null,null," ",null," ",null,null,null,null," "," "," ",null," ",null,null,null,null,null,null,null,null,null,null,null,null,null,39,"<=04/02/1939","1939-02-04","1939-02-04","Norwich",21,21,null,null,"Norwich",11,"Burnley (H) D 1-1","13 Pts","Norwich (A)",1,1,"D",{"$f":"SUM(BK$35:BK45)","v":13},1,"1938-10-29",null,null,null,null,null,null,null,null,null,null,null,null,null,null,null,null,null,null,null,null,null,null,null,null,null,null,null,null,null,45,"Home (team)","Date","Pts1","Home (team)","Date","Pts1",null,"Away (team)","Date","Pts2","Away (team)","Date","Pts2"]
[1,"1938-09-08T00:14:24","00:00:00","1938-09-08","Sheff Wed",3,0,"Blackburn",1,2,0,"1938-09-08T00:14:24",{"$f":"T64","v":"Millwall"},null,null,1,null,null,null," ",null," ",null,null,null,null," "," "," ",null," ",null,null,null,null,null,null,null,null,null,null,null,null,null,40,"<=08/02/1939","1939-02-08","1939-02-08","Nottm Forest",21,21,null,null,"Southampton",12,"Norwich (A) W 2-0","15 Pts","Southampton (H)",2,0,"W",{"$f":"SUM(BK$35:BK46)","v":15},2,"1938-11-05",null,null,null,null,null,null,null,null,null,null,null,null,null,null,null,null,null,null,null,null,null,null,null,null,null,null,null,null,null,46,{"$f":"$AW$26","v":"West Brom"},{"$f":"$CQ$1","v":"<=06/05/1939"},2,{"$f":"$AW$26","v":"West Brom"},{"$f":"$CQ$1","v":"<=06/05/1939"},1,null,{"$f":"$AW$26","v":"West Brom"},{"$f":"$CQ$1","v":"<=06/05/1939"},2,{"$f":"$AW$26","v":"West Brom"},{"$f":"$CQ$1","v":"<=06/05/1939"},1]
[1,"1938-09-10T00:14:24","00:00:00","1938-09-10","Blackburn",4,0,"Swansea",1,2,0,"1938-09-10T00:14:24","(H)","(A)","Total",null,null,null,null," ",null," ",null,null,null,null," "," "," ",null," ",null,null,null,null,null,null,null,null,null,null,null,null,null,41,"<=11/02/1939","1939-02-11","1939-02-11","Plymouth",21,21,null,null,"Coventry",13,"Southampton (H) L 0-1","15 Pts","Coventry (A)",0,1,"L",{"$f":"SUM(BK$35:BK47)","v":15},0,"1938-11-12",null,null,null,null,null,null,null,null,null,null,null,null,null,null,null,null,null,null,null,null,null,null,null,null,null,null,null,null,null,47,"Home (team)","Date","Pts1","Home (team)","Date","Pts1",null,"Away (team)","Date","Pts2","Away (team)","Date","Pts2"]
[2,"1938-09-10T00:28:48","00:00:00","1938-09-10","Bury",1,1,"West Ham",1,1,1,"1938-09-10T00:28:48",{"$f":"SUMIF(Summary!E:E,Summary!M46,Summary!J:J)","v":30},{"$f":"SUMIF(Summary!H:H,Summary!M46,Summary!K:K)","v":12},{"$f":"SUM(M48:N48)","v":42},null,null,null,null," ",null," ",null,null,null,null," "," "," ",null," ",null,null,null,null,null,null,null,null,null,null,null,null,null,42,"<=15/02/1939","1939-02-15","1939-02-15","Sheff Utd",21,21,null,null,"Nottm Forest",14,"Coventry (A) L 1-2","15 Pts","Nottm Forest (H)",1,2,"L",{"$f":"SUM(BK$35:BK48)","v":15},0,"1938-11-19",null,null,null,null,null,null,null,null,null,null,null,null,null,null,null,null,null,null,null,null,null,null,null,null,null,null,null,null,null,48,{"$f":"$AW$27","v":"West Ham"},{"$f":"$CQ$1","v":"<=06/05/1939"},2,{"$f":"$AW$27","v":"West Ham"},{"$f":"$CQ$1","v":"<=06/05/1939"},1,null,{"$f":"$AW$27","v":"West Ham"},{"$f":"$CQ$1","v":"<=06/05/1939"},2,{"$f":"$AW$27","v":"West Ham"},{"$f":"$CQ$1","v":"<=06/05/1939"},1]
[3,"1938-09-10T00:43:12","00:00:00","1938-09-10","Coventry",3,0,"Southampton",1,2,0,"1938-09-10T00:43:12",{"$f":"SUMIF(Summary!E:E,Summary!M46,Summary!F:F)","v":44},{"$f":"SUMIF(Summary!H:H,Summary!M46,Summary!G:G)","v":20},{"$f":"SUM(M49:N49)","v":64},null,null,null,null," ",null," ",null,null,null,null," "," "," ",null," ",null,null,null,null,null,null,null,null,null,null,null,null,null,43,"<=16/02/1939","1939-02-16","1939-02-16","Sheff Wed",21,21,null,null,"Newcastle",15,"Nottm Forest (H) W 5-0","17 Pts","Newcastle (A)",5,0,"W",{"$f":"SUM(BK$35:BK49)","v":17},2,"1938-11-26"]
[4,"1938-09-10T00:57:36","00:00:00","1938-09-10","Fulham",2,0,"Chesterfield",1,2,0,"1938-09-10T00:57:36",{"$f":"SUMIF(Summary!E:E,Summary!M46,Summary!G:G)","v":18},{"$f":"SUMIF(Summary!H:H,Summary!M46,Summary!F:F)","v":35},{"$f":"SUM(M50:N50)","v":53},null,null,null,null,{"$f":"IF($I2062=0,D2062,\" \")","v":" "},null,{"$f":"IF($I2062=0,E2062,\" \")","v":" "},null,null,null,null,{"$f":"IF($I2062=0,F2062,\" \")","v":" "},{"$f":"IF($I2062=0,\"-\",\" \")","v":" "},{"$f":"IF($I2062=0,G2062,\" \")","v":" "},null,{"$f":"IF($I2062=0,H2062,\" \")","v":" "},null,null,null,null,null,null,null,null,null,null,null,null,null,44,"<=18/02/1939","1939-02-18","1939-02-18","Southampton",21,21,null,null,"West Brom",16,"Newcastle (A) D 2-2","18 Pts","West Brom (H)",2,2,"D",{"$f":"SUM(BK$35:BK50)","v":18},1,"1938-12-03"]
[5,"1938-09-10T01:12:00","00:00:00","1938-09-10","Man City",1,2,"Luton",1,0,2,"1938-09-10T01:12:00",{"$f":"T65","v":"Newcastle"},null,null,1,null,null,null,null,null,null,null,null,null,null,null,null,null,null,null,null,null,null,null,null,null,null,null,null,null,null,null,null,45,"<=25/02/1939","1939-02-25","1939-02-25","Swansea",21,21,null,null,"Tottenham",17,"West Brom (H) L 1-5","18 Pts","Tottenham (A)",1,5,"L",{"$f":"SUM(BK$35:BK51)","v":18},0,"1938-12-10"]
[6,"1938-09-10T01:26:24","00:00:00","1938-09-10","Millwall",3,1,"Bradford PA",1,2,0,"1938-09-10T01:26:24","(H)","(A)","Total",null,null,null,null,null,null,null,null,null,null,null,null,null,null,null,null,null,null,null,null,null,null,null,null,null,null,null,null,null,46,"<=01/03/1939","1939-03-01","1939-03-01","Tottenham",21,21,null,null,"Luton",18,"Tottenham (A) L 0-4","18 Pts","Luton (H)",0,4,"L",{"$f":"SUM(BK$35:BK52)","v":18},0,"1938-12-17"]
[7,"1938-09-10T01:40:48","00:00:00","1938-09-10","Newcastle",3,2,"Burnley",1,2,0,"1938-09-10T01:40:48",{"$f":"SUMIF(Summary!E:E,Summary!M51,Summary!J:J)","v":29},{"$f":"SUMIF(Summary!H:H,Summary!M51,Summary!K:K)","v":17},{"$f":"SUM(M53:N53)","v":46},null,null,null,null,null,null,"Home",null,null,null,null,null,null,"Away",null,null,null,null,null,null,"Overall",null,null,null,null,null,null,null,null,47,"<=04/03/1939","1939-03-04","1939-03-04","Tranmere",21,21,null,null,"Chesterfield",19,"Luton (H) W 2-1","20 Pts","Chesterfield (A)",2,1,"W",{"$f":"SUM(BK$35:BK53)","v":20},2,"1938-12-24"]
[8,"1938-09-10T01:55:12","00:00:00","1938-09-10","Norwich",2,1,"Plymouth",1,2,0,"1938-09-10T01:55:12",{"$f":"SUMIF(Summary!E:E,Summary!M51,Summary!F:F)","v":44},{"$f":"SUMIF(Summary!H:H,Summary!M51,Summary!G:G)","v":17},{"$f":"SUM(M54:N54)","v":61},null,null,null,"Pos","Team","Pld","W","D","L","F ","A","Av","Pts","W","D","L","F ","A","Av","Pts","W","D","L","F ","A","Av","Pts",null,null,48,"<=11/03/1939","1939-03-11","1939-03-11","West Brom",21,21,null,null,"West Ham",20,"Chesterfield (A) L 0-3","20 Pts","West Ham (A)",0,3,"L",{"$f":"SUM(BK$35:BK54)","v":20},0,"1938-12-27"]
[9,"00:00:00","1938-09-10T02:09:36","1938-09-10","Nottm Forest",2,1,"Tottenham",1,2,0,"1938-09-10T02:09:36",{"$f":"SUMIF(Summary!E:E,Summary!M51,Summary!G:G)","v":21},{"$f":"SUMIF(Summary!H:H,Summary!M51,Summary!F:F)","v":27},{"$f":"SUM(M55:N55)","v":48},null,null,null,1,"Blackburn",{"$f":"$AX$6+$BF$6","v":42},{"$f":"$AY$6","v":17},{"$f":"$AZ$6","v":1},{"$f":"$BA$6","v":3},{"$f":"$BB$6","v":59},{"$f":"$BC$6","v":23},{"$f":"BD6","v":2.5652173913043477},{"$f":"$BE$6","v":35},{"$f":"$BG$6","v":8},{"$f":"$BH$6","v":4},{"$f":"$BI$6","v":9},{"$f":"$BJ$6","v":35},{"$f":"$BK$6","v":37},{"$f":"CC6","v":0.94594594594594594},{"$f":"$BM$6","v":20},{"$f":"V55+AC55","v":25},5,12,94,60,{"$f":"CI6","v":1.5666666666666667},55,{"$f":"IF(AO55=\"- Inf\",(-AN55-1000),IF(AO55=\"+ Inf\",(AM55+1000)/1,AO55))","v":1.5666666666666667},null,49,"<=13/03/1939","1939-03-13","1939-03-13","West Ham",21,21,null,null,"Swansea",21,"West Ham (A) D 0-0","21 Pts","Swansea (H)",0,0,"D",{"$f":"SUM(BK$35:BK55)","v":21},1,"1938-12-31"]
[10,"00:00:00","1938-09-10T02:24:00","1938-09-10","Sheff Wed",2,0,"Tranmere",1,2,0,"1938-09-10T02:24:00",{"$f":"T66","v":"Norwich"},null,null,1,null,null,2,"Bradford PA",{"$f":"$AX$7+$BF$7","v":42},{"$f":"$AY$7","v":8},{"$f":"$AZ$7","v":6},{"$f":"$BA$7","v":7},{"$f":"$BB$7","v":33},{"$f":"$BC$7","v":35},{"$f":"BD7","v":0.94285714285714284},{"$f":"$BE$7","v":22},{"$f":"$BG$7","v":4},{"$f":"$BH$7","v":5},{"$f":"$BI$7","v":12},{"$f":"$BJ$7","v":28},{"$f":"$BK$7","v":47},{"$f":"CC7","v":0.5957446808510638},{"$f":"$BM$7","v":13},12,11,19,61,82,{"$f":"CI7","v":0.74390243902439024},35,{"$f":"IF(AO56=\"- Inf\",(-AN56-1000),IF(AO56=\"+ Inf\",(AM56+1000)/1,AO56))","v":0.74390243902439024},null,50,"<=16/03/1939","1939-03-16","1939-03-16",null,null,null,null,null,"Bury",22,"Swansea (H) D 1-1","22 Pts","Bury (A)",1,1,"D",{"$f":"SUM(BK$35:BK56)","v":22},1,"1939-01-02"]
[11,"00:00:00","1938-09-10T02:38:24","1938-09-10","West Brom",3,4,"Sheff Utd",1,0,2,"1938-09-10T02:38:24","(H)","(A)","Total",null,null,null,3,"Burnley",{"$f":"$AX$8+$BF$8","v":42},{"$f":"$AY$8","v":13},{"$f":"$AZ$8","v":3},{"$f":"$BA$8","v":5},{"$f":"$BB$8","v":32},{"$f":"$BC$8","v":20},1.6,{"$f":"$BE$8","v":29},{"$f":"$BG$8","v":2},{"$f":"$BH$8","v":6},{"$f":"$BI$8","v":13},{"$f":"$BJ$8","v":18},{"$f":"$BK$8","v":36},0.5,{"$f":"$BM$8","v":10},15,9,18,50,56,0.8928571428571429,39,0.8928571428571429,null,51,"<=18/03/1939","1939-03-18","1939-03-18",null,null,null,null,null,"Bradford PA",23,"Bury (A) D 1-1","23 Pts","Bradford PA (A)",1,1,"D",{"$f":"SUM(BK$35:BK57)","v":23},1,"1939-01-14"]
[1,"1938-09-12T00:14:24","00:00:00","1938-09-12","Fulham",0,0,"Burnley",1,1,1,"1938-09-12T00:14:24",{"$f":"SUMIF(Summary!E:E,Summary!M56,Summary!J:J)","v":25},{"$f":"SUMIF(Summary!H:H,Summary!M56,Summary!K:K)","v":6},{"$f":"SUM(M58:N58)","v":31},null,null,null,4,"Bury",{"$f":"$AX$9+$BF$9","v":42},{"$f":"$AY$9","v":9},{"$f":"$AZ$9","v":5},{"$f":"$BA$9","v":7},{"$f":"$BB$9","v":48},{"$f":"$BC$9","v":36},1.3333333333333333,{"$f":"$BE$9","v":23},{"$f":"$BG$9","v":3},{"$f":"$BH$9","v":8},{"$f":"$BI$9","v":10},{"$f":"$BJ$9","v":17},{"$f":"$BK$9","v":38},0.44736842105263158,{"$f":"$BM$9","v":14},12,13,17,65,74,0.8783783783783784,37,0.8783783783783784,null,52,"<=20/03/1939","1939-03-20","1939-03-20","<=09/08/1938",null,null,null,null,"Plymouth",24,"Bradford PA (A) L 0-1","23 Pts","Plymouth (A)",0,1,"L",{"$f":"SUM(BK$35:BK58)","v":23},0,"1939-01-28"]
[2,"1938-09-12T00:28:48","00:00:00","1938-09-12","Tottenham",2,2,"Sheff Utd",1,1,1,"1938-09-12T00:28:48",{"$f":"SUMIF(Summary!E:E,Summary!M56,Summary!F:F)","v":40},{"$f":"SUMIF(Summary!H:H,Summary!M56,Summary!G:G)","v":11},{"$f":"SUM(M59:N59)","v":51},null,null,null,5,"Chesterfield",{"$f":"$AX$10+$BF$10","v":42},{"$f":"$AY$10","v":16},{"$f":"$AZ$10","v":1},{"$f":"$BA$10","v":4},{"$f":"$BB$10","v":54},{"$f":"$BC$10","v":20},2.7,{"$f":"$BE$10","v":33},{"$f":"$BG$10","v":4},{"$f":"$BH$10","v":8},{"$f":"$BI$10","v":9},{"$f":"$BJ$10","v":15},{"$f":"$BK$10","v":32},0.46875,{"$f":"$BM$10","v":16},20,9,13,69,52,1.3269230769230769,49,1.3269230769230769,null,53,"<=25/03/1939","1939-03-25","1939-03-25","<=10/08/1938",null,null,null,null,"Blackburn",25,"Plymouth (A) D 2-2","24 Pts","Blackburn (A)",2,2,"D",{"$f":"SUM(BK$35:BK59)","v":24},1,"1939-02-04"]
[1,"1938-09-14T00:14:24","00:00:00","1938-09-14","Newcastle",5,1,"West Brom",1,2,0,"1938-09-14T00:14:24",{"$f":"SUMIF(Summary!E:E,Summary!M56,Summary!G:G)","v":29},{"$f":"SUMIF(Summary!H:H,Summary!M56,Summary!F:F)","v":62},{"$f":"SUM(M60:N60)","v":91},null,null,null,6,"Coventry",{"$f":"$AX$11+$BF$11","v":42},{"$f":"$AY$11","v":13},{"$f":"$AZ$11","v":4},{"$f":"$BA$11","v":4},{"$f":"$BB$11","v":35},{"$f":"$BC$11","v":13},2.6923076923076925,{"$f":"$BE$11","v":30},{"$f":"$BG$11","v":8},{"$f":"$BH$11","v":4},{"$f":"$BI$11","v":9},{"$f":"$BJ$11","v":27},{"$f":"$BK$11","v":32},0.84375,{"$f":"$BM$11","v":20},21,8,13,62,45,1.3777777777777778,50,1.3777777777777778,null,54,"<=27/03/1939","1939-03-27","1939-03-27","<=11/08/1938",null,null,null,null,"Fulham",26,"Blackburn (A) L 1-3","24 Pts","Fulham (H)",1,3,"L",{"$f":"SUM(BK$35:BK60)","v":24},0,"1939-02-11"]
[2,"1938-09-14T00:28:48","00:00:00","1938-09-14","Southampton",2,1,"Plymouth",1,2,0,"1938-09-14T00:28:48",{"$f":"T67","v":"Nottm Forest"},null,null,1,null,null,7,"Fulham",{"$f":"$AX$12+$BF$12","v":42},{"$f":"$AY$12","v":12},{"$f":"$AZ$12","v":5},{"$f":"$BA$12","v":4},{"$f":"$BB$12","v":35},{"$f":"$BC$12","v":20},1.75,{"$f":"$BE$12","v":29},{"$f":"$BG$12","v":5},{"$f":"$BH$12","v":5},{"$f":"$BI$12","v":11},{"$f":"$BJ$12","v":26},{"$f":"$BK$12","v":35},0.74285714285714288,{"$f":"$BM$12","v":15},17,10,15,61,55,1.1090909090909091,44,1.1090909090909091,null,55,"<=01/04/1939","1939-04-01","1939-04-01","<=12/08/1938",null,null,null,null,"Sheff Utd",27,"Fulham (H) D 1-1","25 Pts","Sheff Utd (H)",1,1,"D",{"$f":"SUM(BK$35:BK61)","v":25},1,"1939-02-18"]
[1,"1938-09-17T00:14:24","00:00:00","1938-09-17","Bradford PA",0,4,"Blackburn",1,0,2,"1938-09-17T00:14:24","(H)","(A)","Total",null,null,null,8,"Luton",{"$f":"$AX$13+$BF$13","v":42},{"$f":"$AY$13","v":13},{"$f":"$AZ$13","v":4},{"$f":"$BA$13","v":4},{"$f":"$BB$13","v":47},{"$f":"$BC$13","v":27},1.7407407407407407,{"$f":"$BE$13","v":30},{"$f":"$BG$13","v":9},{"$f":"$BH$13","v":1},{"$f":"$BI$13","v":11},{"$f":"$BJ$13","v":35},{"$f":"$BK$13","v":39},0.89743589743589747,{"$f":"$BM$13","v":19},22,5,15,82,66,1.2424242424242424,49,1.2424242424242424,null,56,"<=07/04/1939","1939-04-07","1939-04-07","<=13/08/1938",null,null,null,null,"Burnley",28,"Sheff Utd (H) W 4-0","27 Pts","Burnley (A)",4,0,"W",{"$f":"SUM(BK$35:BK62)","v":27},2,"1939-02-25"]
[2,"1938-09-17T00:28:48","00:00:00","1938-09-17","Burnley",0,3,"West Brom",1,0,2,"1938-09-17T00:28:48",{"$f":"SUMIF(Summary!E:E,Summary!M61,Summary!J:J)","v":22},{"$f":"SUMIF(Summary!H:H,Summary!M61,Summary!K:K)","v":9},{"$f":"SUM(M63:N63)","v":31},null,null,null,9,"Man City",{"$f":"$AX$14+$BF$14","v":42},{"$f":"$AY$14","v":13},{"$f":"$AZ$14","v":3},{"$f":"$BA$14","v":5},{"$f":"$BB$14","v":56},{"$f":"$BC$14","v":35},1.6,{"$f":"$BE$14","v":29},{"$f":"$BG$14","v":8},{"$f":"$BH$14","v":4},{"$f":"$BI$14","v":9},{"$f":"$BJ$14","v":40},{"$f":"$BK$14","v":37},1.0810810810810811,{"$f":"$BM$14","v":20},21,7,14,96,72,1.3333333333333333,49,1.3333333333333333,null,57,"<=08/04/1939","1939-04-08","1939-04-08","<=14/08/1938",null,null,null,null,"Norwich",29,"Burnley (A) L 0-2","27 Pts","Norwich (H)",0,2,"L",{"$f":"SUM(BK$35:BK63)","v":27},0,"1939-03-04"]
[3,"1938-09-17T00:43:12","00:00:00","1938-09-17","Chesterfield",3,1,"Sheff Wed",1,2,0,"1938-09-17T00:43:12",{"$f":"SUMIF(Summary!E:E,Summary!M61,Summary!F:F)","v":33},{"$f":"SUMIF(Summary!H:H,Summary!M61,Summary!G:G)","v":16},{"$f":"SUM(M64:N64)","v":49},null,null,null,10,"Millwall",{"$f":"$AX$15+$BF$15","v":42},{"$f":"$AY$15","v":12},{"$f":"$AZ$15","v":6},{"$f":"$BA$15","v":3},{"$f":"$BB$15","v":44},{"$f":"$BC$15","v":18},2.4444444444444446,{"$f":"$BE$15","v":30},{"$f":"$BG$15","v":2},{"$f":"$BH$15","v":8},{"$f":"$BI$15","v":11},{"$f":"$BJ$15","v":20},{"$f":"$BK$15","v":35},0.5714285714285714,{"$f":"$BM$15","v":12},14,14,14,64,53,1.2075471698113207,42,1.2075471698113207,null,58,"<=10/04/1939","1939-04-10","1939-04-10","<=15/08/1938",null,null,null,null,"Southampton",30,"Norwich (H) W 6-0","29 Pts","Southampton (A)",6,0,"W",{"$f":"SUM(BK$35:BK64)","v":29},2,"1939-03-11"]
[4,"1938-09-17T00:57:36","00:00:00","1938-09-17","Man City",1,6,"Millwall",1,0,2,"1938-09-17T00:57:36",{"$f":"SUMIF(Summary!E:E,Summary!M61,Summary!G:G)","v":29},{"$f":"SUMIF(Summary!H:H,Summary!M61,Summary!F:F)","v":54},{"$f":"SUM(M65:N65)","v":83},null,null,null,11,"Newcastle",{"$f":"$AX$16+$BF$16","v":42},{"$f":"$AY$16","v":13},{"$f":"$AZ$16","v":3},{"$f":"$BA$16","v":5},{"$f":"$BB$16","v":44},{"$f":"$BC$16","v":21},2.0952380952380953,{"$f":"$BE$16","v":29},{"$f":"$BG$16","v":5},{"$f":"$BH$16","v":7},{"$f":"$BI$16","v":9},{"$f":"$BJ$16","v":17},{"$f":"$BK$16","v":27},0.62962962962962965,{"$f":"$BM$16","v":17},18,10,14,61,48,1.2708333333333333,46,1.2708333333333333,null,59,"<=11/04/1939","1939-04-11","1939-04-11","<=16/08/1938",null,null,null,null,"Man City",31,"Southampton (A) D 1-1","30 Pts","Man City (H)",1,1,"D",{"$f":"SUM(BK$35:BK65)","v":30},1,"1939-03-13"]
[5,"1938-09-17T01:12:00","00:00:00","1938-09-17","Plymouth",4,1,"Luton",1,2,0,"1938-09-17T01:12:00",{"$f":"T68","v":"Plymouth"},null,null,1,null,null,12,"Norwich",{"$f":"$AX$17+$BF$17","v":42},{"$f":"$AY$17","v":10},{"$f":"$AZ$17","v":5},{"$f":"$BA$17","v":6},{"$f":"$BB$17","v":39},{"$f":"$BC$17","v":29},1.3448275862068966,{"$f":"$BE$17","v":25},{"$f":"$BG$17","v":3},{"$f":"$BH$17","v":0},{"$f":"$BI$17","v":18},{"$f":"$BJ$17","v":11},{"$f":"$BK$17","v":62},0.17741935483870969,{"$f":"$BM$17","v":6},13,5,24,50,91,0.5494505494505495,31,0.5494505494505495,null,60,"<=15/04/1939","1939-04-15","1939-04-15","<=17/08/1938",null,null,null,null,"Coventry",32,"Man City (H) W 3-1","32 Pts","Coventry (H)",3,1,"W",{"$f":"SUM(BK$35:BK66)","v":32},2,"1939-03-18"]
[6,"1938-09-17T01:26:24","00:00:00","1938-09-17","Sheff Utd",4,0,"Norwich",1,2,0,"1938-09-17T01:26:24","(H)","(A)","Total",null,null,null,13,"Nottm Forest",{"$f":"$AX$18+$BF$18","v":42},{"$f":"$AY$18","v":8},{"$f":"$AZ$18","v":6},{"$f":"$BA$18","v":7},{"$f":"$BB$18","v":33},{"$f":"$BC$18","v":29},1.1379310344827587,{"$f":"$BE$18","v":22},{"$f":"$BG$18","v":2},{"$f":"$BH$18","v":5},{"$f":"$BI$18","v":14},{"$f":"$BJ$18","v":16},{"$f":"$BK$18","v":53},0.30188679245283018,{"$f":"$BM$18","v":9},10,11,21,49,82,0.59756097560975607,31,0.59756097560975607,null,61,"<=17/04/1939","1939-04-17","1939-04-17","<=18/08/1938",null,null,null,null,"Nottm Forest",33,"Coventry (H) D 0-0","33 Pts","Nottm Forest (A)",0,0,"D",{"$f":"SUM(BK$35:BK67)","v":33},1,"1939-03-25"]
[7,"1938-09-17T01:40:48","00:00:00","1938-09-17","Southampton",2,2,"Nottm Forest",1,1,1,"1938-09-17T01:40:48",{"$f":"SUMIF(Summary!E:E,Summary!M66,Summary!J:J)","v":25},{"$f":"SUMIF(Summary!H:H,Summary!M66,Summary!K:K)","v":13},{"$f":"SUM(M68:N68)","v":38},null,null,null,14,"Plymouth",{"$f":"$AX$19+$BF$19","v":42},{"$f":"$AY$19","v":9},{"$f":"$AZ$19","v":7},{"$f":"$BA$19","v":5},{"$f":"$BB$19","v":24},{"$f":"$BC$19","v":13},1.8461538461538463,{"$f":"$BE$19","v":25},{"$f":"$BG$19","v":6},{"$f":"$BH$19","v":1},{"$f":"$BI$19","v":14},{"$f":"$BJ$19","v":25},{"$f":"$BK$19","v":42},0.59523809523809523,{"$f":"$BM$19","v":13},15,8,19,49,55,0.89090909090909087,38,0.89090909090909087,null,62,"<=19/04/1939","1939-04-19","1939-04-19","<=19/08/1938",null,null,null,null,"West Ham",34,"Nottm Forest (A) L 0-3","33 Pts","West Ham (H)",0,3,"L",{"$f":"SUM(BK$35:BK68)","v":33},0,"1939-03-27"]
[8,"1938-09-17T01:55:12","00:00:00","1938-09-17","Swansea",1,1,"Fulham",1,1,1,"1938-09-17T01:55:12",{"$f":"SUMIF(Summary!E:E,Summary!M66,Summary!F:F)","v":26},{"$f":"SUMIF(Summary!H:H,Summary!M66,Summary!G:G)","v":25},{"$f":"SUM(M69:N69)","v":51},null,null,null,15,"Sheff Utd",{"$f":"$AX$20+$BF$20","v":42},{"$f":"$AY$20","v":9},{"$f":"$AZ$20","v":9},{"$f":"$BA$20","v":3},{"$f":"$BB$20","v":35},{"$f":"$BC$20","v":15},2.3333333333333335,{"$f":"$BE$20","v":27},{"$f":"$BG$20","v":11},{"$f":"$BH$20","v":5},{"$f":"$BI$20","v":5},{"$f":"$BJ$20","v":34},{"$f":"$BK$20","v":26},1.3076923076923077,{"$f":"$BM$20","v":27},20,14,8,69,41,1.6829268292682926,54,1.6829268292682926,null,63,"<=22/04/1939","1939-04-22","1939-04-22","<=20/08/1938",null,null,null,null,"Newcastle",35,"West Ham (H) L 0-2","33 Pts","Newcastle (H)",0,2,"L",{"$f":"SUM(BK$35:BK69)","v":33},0,"1939-04-01"]
[9,"00:00:00","1938-09-17T02:09:36","1938-09-17","Tottenham",1,0,"Newcastle",1,{"$f":"IF(F70>G70,2,IF(F70=G70,1,0))","v":2},{"$f":"IF(G70>F70,2,IF(G70=F70,1,0))","v":0},"1938-09-17T02:09:36",{"$f":"SUMIF(Summary!E:E,Summary!M66,Summary!G:G)","v":13},{"$f":"SUMIF(Summary!H:H,Summary!M66,Summary!F:F)","v":42},{"$f":"SUM(M70:N70)","v":55},null,null,null,16,"Sheff Wed",{"$f":"$AX$21+$BF$21","v":42},{"$f":"$AY$21","v":14},{"$f":"$AZ$21","v":4},{"$f":"$BA$21","v":3},{"$f":"$BB$21","v":47},{"$f":"$BC$21","v":18},2.6111111111111112,{"$f":"$BE$21","v":32},{"$f":"$BG$21","v":7},{"$f":"$BH$21","v":7},{"$f":"$BI$21","v":7},{"$f":"$BJ$21","v":41},{"$f":"$BK$21","v":41},1,{"$f":"$BM$21","v":21},21,11,10,88,59,1.4915254237288136,53,1.4915254237288136,null,64,"<=24/04/1939","1939-04-24","1939-04-24","<=21/08/1938",null,null,null,null,"Sheff Wed",36,"Newcastle (H) D 1-1","34 Pts","Sheff Wed (H)",1,1,"D",{"$f":"SUM(BK$35:BK70)","v":34},1,"1939-04-07"]
[10,"00:00:00","1938-09-17T02:24:00","1938-09-17","Tranmere",3,0,"Bury",1,2,0,{"$f":"B71+C71","v":"1938-09-17T02:24:00"},{"$f":"T69","v":"Sheff Utd"},null,null,1,null,null,17,"Southampton",{"$f":"$AX$22+$BF$22","v":42},{"$f":"$AY$22","v":9},{"$f":"$AZ$22","v":6},{"$f":"$BA$22","v":6},{"$f":"$BB$22","v":35},{"$f":"$BC$22","v":34},1.0294117647058822,{"$f":"$BE$22","v":24},{"$f":"$BG$22","v":4},{"$f":"$BH$22","v":3},{"$f":"$BI$22","v":14},{"$f":"$BJ$22","v":21},{"$f":"$BK$22","v":48},0.4375,{"$f":"$BM$22","v":11},13,9,20,56,82,0.68292682926829273,35,0.68292682926829273,null,65,"<=26/04/1939","1939-04-26","1939-04-26","<=22/08/1938",null,null,null,null,"West Brom",37,"Sheff Wed (H) W 2-0","36 Pts","West Brom (A)",2,0,"W",{"$f":"SUM(BK$35:BK71)","v":36},2,"1939-04-08"]
[{"$f":"IF(D72=D71,A71+1,1)","v":11},{"$f":"IF(A72=1,D72+0.01,IF(A72=2,D72+0.02,IF(A72=3,D72+0.03,IF(A72=4,D72+0.04,IF(A72=5,D72+0.05,IF(A72=6,D72+0.06,IF(A72=7,D72+0.07,IF(A72=8,D72+0.08,0))))))))","v":"00:00:00"},{"$f":"IF(A72=9,D72+0.09,IF(A72=10,D72+0.1,IF(A72=11,D72+0.11,IF(A72=12,D72+0.12,0))))","v":"1938-09-17T02:38:24"},"1938-09-17","West Ham",4,1,"Coventry",1,2,0,"1938-09-17T02:38:24","(H)","(A)","Total",null,null,null,18,"Swansea",{"$f":"$AX$23+$BF$23","v":42},{"$f":"$AY$23","v":8},{"$f":"$AZ$23","v":6},{"$f":"$BA$23","v":7},{"$f":"$BB$23","v":33},{"$f":"$BC$23","v":30},1.1000000000000001,{"$f":"$BE$23","v":22},{"$f":"$BG$23","v":3},{"$f":"$BH$23","v":6},{"$f":"$BI$23","v":12},{"$f":"$BJ$23","v":17},{"$f":"$BK$23","v":53},0.32075471698113206,{"$f":"$BM$23","v":12},11,12,19,50,83,0.60240963855421692,34,0.60240963855421692,null,66,"<=29/04/1939","1939-04-29","1939-04-29","<=23/08/1938",null,null,null,null,"Sheff Wed",38,"West Brom (A) D 0-0","37 Pts","Sheff Wed (A)",0,0,"D",{"$f":"SUM(BK$35:BK72)","v":37},1,"1939-04-10"]
[1,"1938-09-19T00:14:24","00:00:00","1938-09-19","Blackburn",3,1,"West Ham",1,2,0,"1938-09-19T00:14:24",{"$f":"SUMIF(Summary!E:E,Summary!M71,Summary!J:J)","v":27},{"$f":"SUMIF(Summary!H:H,Summary!M71,Summary!K:K)","v":27},{"$f":"SUM(M73:N73)","v":54},null,null,null,19,"Tottenham",{"$f":"$AX$24+$BF$24","v":42},{"$f":"$AY$24","v":13},{"$f":"$AZ$24","v":6},{"$f":"$BA$24","v":2},{"$f":"$BB$24","v":48},{"$f":"$BC$24","v":27},1.7777777777777777,{"$f":"$BE$24","v":32},{"$f":"$BG$24","v":6},{"$f":"$BH$24","v":3},{"$f":"$BI$24","v":12},{"$f":"$BJ$24","v":19},{"$f":"$BK$24","v":35},0.54285714285714282,{"$f":"$BM$24","v":15},19,9,14,67,62,1.0806451612903225,47,1.0806451612903225,null,67,"<=03/05/1939","1939-05-03","1939-05-03","<=24/08/1938",null,null,null,null,"Tottenham",39,"Sheff Wed (A) L 1-3","37 Pts","Tottenham (H)",1,3,"L",{"$f":"SUM(BK$35:BK73)","v":37},0,"1939-04-15"]
[2,"1938-09-19T00:28:48","00:00:00","1938-09-19","Bradford PA",3,0,"Tranmere",1,2,0,"1938-09-19T00:28:48",{"$f":"SUMIF(Summary!E:E,Summary!M71,Summary!F:F)","v":41},{"$f":"SUMIF(Summary!H:H,Summary!M71,Summary!G:G)","v":34},{"$f":"SUM(M74:N74)","v":75},null,null,null,20,"Tranmere",{"$f":"$AX$25+$BF$25","v":42},{"$f":"$AY$25","v":6},{"$f":"$AZ$25","v":4},{"$f":"$BA$25","v":11},{"$f":"$BB$25","v":26},{"$f":"$BC$25","v":38},0.68421052631578949,{"$f":"$BE$25","v":16},{"$f":"$BG$25","v":0},{"$f":"$BH$25","v":1},{"$f":"$BI$25","v":20},{"$f":"$BJ$25","v":13},{"$f":"$BK$25","v":61},0.21311475409836064,{"$f":"$BM$25","v":1},6,5,31,39,99,0.39393939393939392,17,0.39393939393939392,null,68,"<=06/05/1939","1939-05-06","1939-05-06","<=25/08/1938",null,null,null,null,"Luton",40,"Tottenham (H) W 2-0","39 Pts","Luton (A)",2,0,"W",{"$f":"SUM(BK$35:BK74)","v":39},2,"1939-04-22"]
[1,"1938-09-24T00:14:24","00:00:00","1938-09-24","Blackburn",3,3,"Man City",1,1,1,"1938-09-24T00:14:24",{"$f":"SUMIF(Summary!E:E,Summary!M71,Summary!G:G)","v":16},{"$f":"SUMIF(Summary!H:H,Summary!M71,Summary!F:F)","v":26},{"$f":"SUM(M75:N75)","v":42},null,null,null,21,"West Brom",{"$f":"$AX$26+$BF$26","v":42},{"$f":"$AY$26","v":15},{"$f":"$AZ$26","v":3},{"$f":"$BA$26","v":3},{"$f":"$BB$26","v":54},{"$f":"$BC$26","v":22},2.4545454545454546,{"$f":"$BE$26","v":33},{"$f":"$BG$26","v":3},{"$f":"$BH$26","v":6},{"$f":"$BI$26","v":12},{"$f":"$BJ$26","v":35},{"$f":"$BK$26","v":50},0.7,{"$f":"$BM$26","v":12},18,9,15,89,72,1.2361111111111112,45,1.2361111111111112,null,null,null,null,null,"<=26/08/1938",null,null,null,null,"Tranmere",41,"Luton (A) D 0-0","40 Pts","Tranmere (H)",0,0,"D",{"$f":"SUM(BK$35:BK75)","v":40},1,"1939-04-29"]
[2,"1938-09-24T00:28:48","00:00:00","1938-09-24","Bury",3,1,"Chesterfield",1,2,0,"1938-09-24T00:28:48",{"$f":"T70","v":"Sheff Wed"},null,null,1,null,null,22,"West Ham",{"$f":"$AX$27+$BF$27","v":42},{"$f":"$AY$27","v":10},{"$f":"$AZ$27","v":5},{"$f":"$BA$27","v":6},{"$f":"$BB$27","v":36},{"$f":"$BC$27","v":21},1.7142857142857142,{"$f":"$BE$27","v":25},{"$f":"$BG$27","v":7},{"$f":"$BH$27","v":5},{"$f":"$BI$27","v":9},{"$f":"$BJ$27","v":34},{"$f":"$BK$27","v":31},1.096774193548387,{"$f":"$BM$27","v":19},17,10,15,70,52,1.3461538461538463,44,1.3461538461538463,null,null,null,null,null,"<=27/08/1938",null,null,null,null,"End of Season",42,"Tranmere (H) W 2-1","42 Pts","End of Season",2,1,"W",{"$f":"SUM(BK$35:BK76)","v":42},2]
[3,"1938-09-24T00:43:12","00:00:00","1938-09-24","Fulham",4,0,"Bradford PA",1,2,0,"1938-09-24T00:43:12","(H)","(A)","Total",null,null,null,null,null,null,null,null,null,null,null,null,null,null,null,null,null,null,null,null,null,null,null,null,null,null,null,null,null,null,null,null,null,"<=28/08/1938",null,null,null,null,null,43,"End of Season"]
[4,"1938-09-24T00:57:36","00:00:00","1938-09-24","Luton",2,0,"Sheff Utd",1,2,0,"1938-09-24T00:57:36",{"$f":"SUMIF(Summary!E:E,Summary!M76,Summary!J:J)","v":32},{"$f":"SUMIF(Summary!H:H,Summary!M76,Summary!K:K)","v":21},{"$f":"SUM(M78:N78)","v":53},null,null,null,null,null,null,null,null,null,null,null,null,null,null,null,null,null,null,null,null,null,null,null,null,null,null,null,null,null,null,null,null,null,"<=29/08/1938",null,null,null,null,null,44]
[5,"1938-09-24T01:12:00","00:00:00","1938-09-24","Millwall",3,0,"Plymouth",1,2,0,"1938-09-24T01:12:00",{"$f":"SUMIF(Summary!E:E,Summary!M76,Summary!F:F)","v":47},{"$f":"SUMIF(Summary!H:H,Summary!M76,Summary!G:G)","v":41},{"$f":"SUM(M79:N79)","v":88},null,null,null,null,null,null,null,null,null,null,null,null,null,null,null,null,null,null,null,null,null,null,null,null,null,null,null,null,null,null,null,null,null,"<=30/08/1938",null,null,null,null,null,45]
[6,"1938-09-24T01:26:24","00:00:00","1938-09-24","Newcastle",1,0,"Southampton",1,2,0,"1938-09-24T01:26:24",{"$f":"SUMIF(Summary!E:E,Summary!M76,Summary!G:G)","v":18},{"$f":"SUMIF(Summary!H:H,Summary!M76,Summary!F:F)","v":41},{"$f":"SUM(M80:N80)","v":59},null,null,null,null,null,null,null,null,null,null,null,null,null,null,null,null,null,null,null,null,null,null,null,null,null,null,null,null,null,null,null,null,null,"<=31/08/1938",null,null,null,null,null,46,null,null,"End of Season"]
[7,"1938-09-24T01:40:48","00:00:00","1938-09-24","Norwich",4,0,"Burnley",1,2,0,"1938-09-24T01:40:48",{"$f":"T71","v":"Southampton"},null,null,1,null,null,null,null,{"$f":"SUM(U55:U79)/2","v":462},null,null,null,null,null,null,null,null,null,null,null,null,null,null,null,null,null,null,null,null,null,null,null,null,null,null,null,"<=01/09/1938"]
[8,"1938-09-24T01:55:12","00:00:00","1938-09-24","Nottm Forest",3,0,"Coventry",1,2,0,"1938-09-24T01:55:12","(H)","(A)","Total",null,null,null,null,null,null,null,null,null,null,null,null,null,null,null,null,null,null,null,null,null,null,null,null,null,null,null,null,null,null,null,null,null,"<=02/09/1938",null,null,null,null,1,"1st",{"$f":"LOOKUP(U35,BB82:BB105,BC82:BC105)","v":"13th"}]
[9,"00:00:00","1938-09-24T02:09:36","1938-09-24","Sheff Wed",1,1,"Swansea",1,1,1,"1938-09-24T02:09:36",{"$f":"SUMIF(Summary!E:E,Summary!M81,Summary!J:J)","v":24},{"$f":"SUMIF(Summary!H:H,Summary!M81,Summary!K:K)","v":11},{"$f":"SUM(M83:N83)","v":35},null,null,null,null,null,null,null,null,null,null,null,null,null,null,null,null,null,null,null,null,null,null,null,null,null,null,null,null,null,null,null,null,null,"<=03/09/1938",null,null,null,null,2,"2nd",{"$f":"LOOKUP(AA35,BB82:BB105,BC82:BC105)","v":{"$error":"#N/A"}}]
[10,"00:00:00","1938-09-24T02:24:00","1938-09-24","West Brom",4,3,"Tottenham",1,2,0,"1938-09-24T02:24:00",{"$f":"SUMIF(Summary!E:E,Summary!M81,Summary!F:F)","v":35},{"$f":"SUMIF(Summary!H:H,Summary!M81,Summary!G:G)","v":21},{"$f":"SUM(M84:N84)","v":56},null,null,null,null,null,null,null,null,null,null,null,null,null,null,null,null,null,null,null,null,null,null,null,null,null,null,null,null,null,null,null,null,null,"<=04/09/1938",null,null,null,null,3,"3rd"]
[11,"00:00:00","1938-09-24T02:38:24","1938-09-24","West Ham",6,1,"Tranmere",1,2,0,"1938-09-24T02:38:24",{"$f":"SUMIF(Summary!E:E,Summary!M81,Summary!G:G)","v":34},{"$f":"SUMIF(Summary!H:H,Summary!M81,Summary!F:F)","v":50},{"$f":"SUM(M85:N85)","v":84},null,null,null,null,null,null,null,null,null,null,null,null,null,null,null,null,null,null,null,null,null,null,null,null,null,null,null,null,null,null,null,null,null,"<=05/09/1938",null,null,null,null,4,"4th"]
[1,"1938-10-01T00:14:24","00:00:00","1938-10-01","Bradford PA",3,1,"Sheff Wed",1,2,0,"1938-10-01T00:14:24",{"$f":"T72","v":"Swansea"},null,null,1,null,null,null,null,null,null,null,null,null,null,null,null,null,null,null,null,null,null,null,null,null,null,null,null,null,null,null,null,null,null,null,null,"<=06/09/1938",null,null,null,null,5,"5th"]
[2,"1938-10-01T00:28:48","00:00:00","1938-10-01","Burnley",3,2,"Luton",1,2,0,"1938-10-01T00:28:48","(H)","(A)","Total",null,null,null,null,null,null,null,null,null,null,null,null,null,null,null,null,null,null,null,null,null,null,null,null,null,null,null,null,null,null,null,null,null,"<=07/09/1938",null,null,null,null,6,"6th"]
[3,"1938-10-01T00:43:12","00:00:00","1938-10-01","Chesterfield",1,0,"West Ham",1,2,0,"1938-10-01T00:43:12",{"$f":"SUMIF(Summary!E:E,Summary!M86,Summary!J:J)","v":22},{"$f":"SUMIF(Summary!H:H,Summary!M86,Summary!K:K)","v":12},{"$f":"SUM(M88:N88)","v":34},null,null,null,null,null,null,null,null,null,null,null,null,null,null,null,null,null,null,null,null,null,null,null,null,null,null,null,null,null,null,null,null,null,"<=08/09/1938",null,null,null,null,7,"7th"]
[4,"1938-10-01T00:57:36","00:00:00","1938-10-01","Coventry",1,0,"Newcastle",1,2,0,"1938-10-01T00:57:36",{"$f":"SUMIF(Summary!E:E,Summary!M86,Summary!F:F)","v":33},{"$f":"SUMIF(Summary!H:H,Summary!M86,Summary!G:G)","v":18},{"$f":"SUM(M89:N89)","v":51},null,null,null,null,null,null,null,null,null,null,null,null,null,null,null,null,null,null,null,null,null,null,"Progress Table","Off",null,null,null,null,null,null,null,null,null,"<=09/09/1938",null,null,null,null,8,"8th"]
[5,"1938-10-01T01:12:00","00:00:00","1938-10-01","Man City",3,5,"Fulham",1,0,2,"1938-10-01T01:12:00",{"$f":"SUMIF(Summary!E:E,Summary!M86,Summary!G:G)","v":30},{"$f":"SUMIF(Summary!H:H,Summary!M86,Summary!F:F)","v":59},{"$f":"SUM(M90:N90)","v":89},null,null,null,null,null,null,null,null,null,null,null,null,null,null,null,null,null,null,null,null,null,null,null,null,null,null,null,null,null,null,null,null,null,"<=10/09/1938",null,null,null,null,9,"9th"]
[6,"1938-10-01T01:26:24","00:00:00","1938-10-01","Millwall",4,1,"Blackburn",1,2,0,"1938-10-01T01:26:24",{"$f":"T73","v":"Tottenham"},null,null,1,null,null,null,null,null,null,null,null,null,null,null,null,null,null,null,null,null,null,null,null,null,null,null,null,null,null,null,null,null,null,null,null,"<=11/09/1938",null,null,null,null,10,"10th"]
[7,"1938-10-01T01:40:48","00:00:00","1938-10-01","Sheff Utd",0,1,"Plymouth",1,0,2,"1938-10-01T01:40:48","(H)","(A)","Total",null,null,null,null,null,null,null,null,null,null,null,null,null,null,null,null,null,null,null,null,null,null,null,null,null,null,null,null,null,null,null,null,null,"<=12/09/1938",null,null,null,null,11,"11th"]
[8,"1938-10-01T01:55:12","00:00:00","1938-10-01","Southampton",2,1,"West Brom",1,2,0,"1938-10-01T01:55:12",{"$f":"SUMIF(Summary!E:E,Summary!M91,Summary!J:J)","v":32},{"$f":"SUMIF(Summary!H:H,Summary!M91,Summary!K:K)","v":15},{"$f":"SUM(M93:N93)","v":47},null,null,null,null,null,null,null,null,null,null,null,null,null,null,null,null,null,null,null,null,null,null,null,null,null,null,null,null,null,null,null,null,null,"<=13/09/1938",null,null,null,null,12,"12th"]
[9,"00:00:00","1938-10-01T02:09:36","1938-10-01","Swansea",3,3,"Bury",1,1,1,"1938-10-01T02:09:36",{"$f":"SUMIF(Summary!E:E,Summary!M91,Summary!F:F)","v":48},{"$f":"SUMIF(Summary!H:H,Summary!M91,Summary!G:G)","v":20},{"$f":"SUM(M94:N94)","v":68},null,null,null,null,null,null,null,null,null,null,null,null,null,null,null,"Game","Pos",null,null,null,null,null,null,null,null,null,null,null,null,null,null,null,null,"<=14/09/1938",null,null,null,null,13,"13th"]
[10,"00:00:00","1938-10-01T02:24:00","1938-10-01","Tottenham",4,1,"Norwich",1,2,0,"1938-10-01T02:24:00",{"$f":"SUMIF(Summary!E:E,Summary!M91,Summary!G:G)","v":27},{"$f":"SUMIF(Summary!H:H,Summary!M91,Summary!F:F)","v":41},{"$f":"SUM(M95:N95)","v":68},null,null,null,null,null,null,null,null,null,null,null,null,null,null,null,"Game","Pos",null,null,null,null,null,null,null,null,null,null,null,null,null,null,null,null,"<=15/09/1938",null,null,null,null,14,"14th"]
[11,"00:00:00","1938-10-01T02:38:24","1938-10-01","Tranmere",1,1,"Nottm Forest",1,1,1,"1938-10-01T02:38:24",{"$f":"T74","v":"Tranmere"},null,null,1,null,null,null,null,null,null,null,null,null,null,null,null,null,null,1,18,18,null,null,null,null,null,null,null,null,null,null,null,null,null,null,null,"<=16/09/1938",null,null,null,null,15,"15th"]
[1,"1938-10-08T00:14:24","00:00:00","1938-10-08","Blackburn",1,2,"Sheff Utd",1,0,2,"1938-10-08T00:14:24","(H)","(A)","Total",null,null,null,null,null,null,null,null,null,null,null,null,null,null,null,2,16,16,null,null,null,null,null,null,null,null,null,null,null,null,null,null,null,"<=17/09/1938",null,null,null,null,16,"16th"]
[2,"1938-10-08T00:28:48","00:00:00","1938-10-08","Bury",0,1,"Bradford PA",1,0,2,"1938-10-08T00:28:48",{"$f":"SUMIF(Summary!E:E,Summary!M96,Summary!J:J)","v":16},{"$f":"SUMIF(Summary!H:H,Summary!M96,Summary!K:K)","v":1},{"$f":"SUM(M98:N98)","v":17},null,null,null,null,null,null,null,null,null,null,null,null,null,null,null,3,14,14,null,null,null,null,null,null,null,null,null,null,null,null,null,null,null,"<=18/09/1938",null,null,null,null,17,"17th"]
[3,"1938-10-08T00:43:12","00:00:00","1938-10-08","Fulham",2,1,"Millwall",1,2,0,"1938-10-08T00:43:12",{"$f":"SUMIF(Summary!E:E,Summary!M96,Summary!F:F)","v":26},{"$f":"SUMIF(Summary!H:H,Summary!M96,Summary!G:G)","v":13},{"$f":"SUM(M99:N99)","v":39},null,null,null,null,null,null,null,null,null,null,null,null,null,null,null,4,20,20,null,null,null,null,null,null,null,null,null,null,null,null,null,null,null,"<=19/09/1938",null,null,null,null,18,"18th"]
[4,"1938-10-08T00:57:36","00:00:00","1938-10-08","Luton",0,0,"Tottenham",1,1,1,"1938-10-08T00:57:36",{"$f":"SUMIF(Summary!E:E,Summary!M96,Summary!G:G)","v":38},{"$f":"SUMIF(Summary!H:H,Summary!M96,Summary!F:F)","v":61},{"$f":"SUM(M100:N100)","v":99},null,null,null,null,null,null,null,null,null,null,null,null,null,null,null,5,16,16,null,null,null,null,null,null,null,null,null,null,null,null,null,null,null,"<=20/09/1938",null,null,null,null,19,"19th"]
[5,"1938-10-08T01:12:00","00:00:00","1938-10-08","Newcastle",4,0,"Nottm Forest",1,2,0,"1938-10-08T01:12:00",{"$f":"T74","v":"Tranmere"},null,null,1,null,null,null,null,null,null,null,null,null,null,null,null,null,null,6,20,20,null,null,null,null,null,null,null,null,null,null,null,null,null,null,null,"<=21/09/1938",null,null,null,null,20,"20th"]
[6,"1938-10-08T01:26:24","00:00:00","1938-10-08","Norwich",2,1,"Southampton",1,2,0,"1938-10-08T01:26:24","(H)","(A)","Total",null,null,null,null,null,null,null,null,null,null,null,null,null,null,null,7,21,21,null,null,null,null,null,null,null,null,null,null,null,null,null,null,null,"<=22/09/1938",null,null,null,null,21,"21st"]
[7,"1938-10-08T01:40:48","00:00:00","1938-10-08","Plymouth",1,0,"Burnley",1,2,0,"1938-10-08T01:40:48",{"$f":"SUMIF(Summary!E:E,Summary!M101,Summary!J:J)","v":16},{"$f":"SUMIF(Summary!H:H,Summary!M101,Summary!K:K)","v":1},{"$f":"SUM(M103:N103)","v":17},null,null,null,null,null,null,null,null,null,null,null,null,null,null,null,8,21,21,null,null,null,null,null,null,null,null,null,null,null,null,null,null,null,"<=23/09/1938",null,null,null,null,22,"22nd"]
[8,"1938-10-08T01:55:12","00:00:00","1938-10-08","Sheff Wed",3,1,"Man City",1,2,0,"1938-10-08T01:55:12",{"$f":"SUMIF(Summary!E:E,Summary!M101,Summary!F:F)","v":26},{"$f":"SUMIF(Summary!H:H,Summary!M101,Summary!G:G)","v":13},{"$f":"SUM(M104:N104)","v":39},null,null,null,null,null,null,null,null,null,null,null,null,null,null,null,9,21,21,null,null,null,null,null,null,null,null,null,null,null,null,null,null,null,"<=24/09/1938",null,null,null,null,23,"23rd"]
[9,"00:00:00","1938-10-08T02:09:36","1938-10-08","Tranmere",0,1,"Chesterfield",1,0,2,"1938-10-08T02:09:36",{"$f":"SUMIF(Summary!E:E,Summary!M101,Summary!G:G)","v":38},{"$f":"SUMIF(Summary!H:H,Summary!M101,Summary!F:F)","v":61},{"$f":"SUM(M105:N105)","v":99},null,null,null,null,null,null,null,null,null,null,null,null,null,null,null,10,21,21,null,null,null,null,null,null,null,null,null,null,null,null,null,null,null,"<=25/09/1938",null,null,null,null,24,"24th"]
[10,"00:00:00","1938-10-08T02:24:00","1938-10-08","West Brom",3,1,"Coventry",1,2,0,"1938-10-08T02:24:00",{"$f":"T75","v":"West Brom"},null,null,1,null,null,null,null,null,null,null,null,null,null,null,null,null,null,11,21,21,null,null,null,null,null,null,null,null,null,null,null,null,null,null,null,"<=26/09/1938"]
[11,"00:00:00","1938-10-08T02:38:24","1938-10-08","West Ham",5,2,"Swansea",1,2,0,"1938-10-08T02:38:24","(H)","(A)","Total",null,null,null,null,null,null,null,null,null,null,null,null,null,null,null,12,20,20,null,null,null,null,null,null,null,null,null,null,null,null,null,null,null,"<=27/09/1938"]
[1,"1938-10-15T00:14:24","00:00:00","1938-10-15","Burnley",3,2,"Blackburn",1,2,0,"1938-10-15T00:14:24",{"$f":"SUMIF(Summary!E:E,Summary!M106,Summary!J:J)","v":33},{"$f":"SUMIF(Summary!H:H,Summary!M106,Summary!K:K)","v":12},{"$f":"SUM(M108:N108)","v":45},null,null,null,null,null,null,null,null,null,null,null,null,null,null,null,13,14,14,null,null,null,null,null,null,null,null,null,null,null,null,null,null,null,"<=28/09/1938"]
[2,"1938-10-15T00:28:48","00:00:00","1938-10-15","Coventry",0,0,"Bury",1,1,1,"1938-10-15T00:28:48",{"$f":"SUMIF(Summary!E:E,Summary!M106,Summary!F:F)","v":54},{"$f":"SUMIF(Summary!H:H,Summary!M106,Summary!G:G)","v":35},{"$f":"SUM(M109:N109)","v":89},null,null,null,null,null,null,null,null,null,null,null,null,null,null,null,14,15,15,null,null,null,null,null,null,null,null,null,null,null,null,null,null,null,"<=29/09/1938"]
[3,"1938-10-15T00:43:12","00:00:00","1938-10-15","Luton",2,2,"Bradford PA",1,1,1,"1938-10-15T00:43:12",{"$f":"SUMIF(Summary!E:E,Summary!M106,Summary!G:G)","v":22},{"$f":"SUMIF(Summary!H:H,Summary!M106,Summary!F:F)","v":50},{"$f":"SUM(M110:N110)","v":72},null,null,null,null,null,null,null,null,null,null,null,null,null,null,null,15,12,12,null,null,null,null,null,null,null,null,null,null,null,null,null,null,null,"<=30/09/1938"]
[4,"1938-10-15T00:57:36","00:00:00","1938-10-15","Newcastle",5,1,"Tranmere",1,2,0,"1938-10-15T00:57:36",{"$f":"T76","v":"West Ham"},null,null,1,null,null,null,null,null,null,null,null,null,null,null,null,null,null,16,15,15,null,null,null,null,null,null,null,null,null,null,null,null,null,null,null,"<=01/10/1938"]
[5,"1938-10-15T01:12:00","00:00:00","1938-10-15","Norwich",3,0,"Swansea",1,2,0,"1938-10-15T01:12:00","(H)","(A)","Total",null,null,null,null,null,null,null,null,null,null,null,null,null,null,null,17,13,13,null,null,null,null,null,null,null,null,null,null,null,null,null,null,null,"<=02/10/1938"]
[6,"1938-10-15T01:26:24","00:00:00","1938-10-15","Nottm Forest",0,0,"West Ham",1,1,1,"1938-10-15T01:26:24",{"$f":"SUMIF(Summary!E:E,Summary!M111,Summary!J:J)","v":25},{"$f":"SUMIF(Summary!H:H,Summary!M111,Summary!K:K)","v":19},{"$f":"SUM(M113:N113)","v":44},null,null,null,null,null,null,null,null,null,null,null,null,null,null,null,18,11,11,null,null,null,null,null,null,null,null,null,null,null,null,null,null,null,"<=03/10/1938"]
[7,"1938-10-15T01:40:48","00:00:00","1938-10-15","Plymouth",0,0,"Man City",1,1,1,"1938-10-15T01:40:48",{"$f":"SUMIF(Summary!E:E,Summary!M111,Summary!F:F)","v":50},{"$f":"SUMIF(Summary!H:H,Summary!M111,Summary!G:G)","v":34},{"$f":"SUM(M114:N114)","v":84},null,null,null,null,null,null,null,null,null,null,null,null,null,null,null,19,13,13,null,null,null,null,null,null,null,null,null,null,null,null,null,null,null,"<=04/10/1938"]
[8,"1938-10-15T01:55:12","00:00:00","1938-10-15","Sheff Utd",2,1,"Millwall",1,2,0,"1938-10-15T01:55:12",{"$f":"SUMIF(Summary!E:E,Summary!M111,Summary!G:G)","v":28},{"$f":"SUMIF(Summary!H:H,Summary!M111,Summary!F:F)","v":31},{"$f":"SUM(M115:N115)","v":59},null,null,null,null,null,null,null,null,null,null,null,null,null,null,null,20,13,13,null,null,null,null,null,null,null,null,null,null,null,null,null,null,null,"<=05/10/1938"]
[9,"00:00:00","1938-10-15T02:09:36","1938-10-15","Southampton",4,3,"Sheff Wed",1,2,0,"1938-10-15T02:09:36",{"$f":"T77","v":0},null,null,null,null,null,null,null,null,null,null,null,null,null,null,null,null,null,21,13,13,null,null,null,null,null,null,null,null,null,null,null,null,null,null,null,"<=06/10/1938"]
[10,"00:00:00","1938-10-15T02:24:00","1938-10-15","Tottenham",1,0,"Fulham",1,2,0,"1938-10-15T02:24:00","(H)","(A)","Total",null,null,null,null,null,null,null,null,null,null,null,null,null,null,null,22,12,12,null,null,null,null,null,null,null,null,null,null,null,null,null,null,null,"<=07/10/1938"]
[11,"00:00:00","1938-10-15T02:38:24","1938-10-15","West Brom",1,0,"Chesterfield",1,2,0,"1938-10-15T02:38:24",{"$f":"SUMIF(Summary!E:E,Summary!M116,Summary!J:J)","v":0},{"$f":"SUMIF(Summary!H:H,Summary!M116,Summary!K:K)","v":0},{"$f":"SUM(M118:N118)","v":0},null,null,null,null,null,null,null,null,null,null,null,null,null,null,null,23,12,12,null,null,null,null,null,null,null,null,null,null,null,null,null,null,null,"<=08/10/1938"]
[1,"1938-10-22T00:14:24","00:00:00","1938-10-22","Blackburn",3,1,"Tottenham",1,2,0,"1938-10-22T00:14:24",{"$f":"SUMIF(Summary!E:E,Summary!M116,Summary!F:F)","v":0},{"$f":"SUMIF(Summary!H:H,Summary!M116,Summary!G:G)","v":0},{"$f":"SUM(M119:N119)","v":0},null,null,null,null,null,null,null,null,null,null,null,null,null,null,null,24,12,12,null,null,null,null,null,null,null,null,null,null,null,null,null,null,null,"<=09/10/1938"]
[2,"1938-10-22T00:28:48","00:00:00","1938-10-22","Bradford PA",2,2,"Plymouth",1,1,1,"1938-10-22T00:28:48",{"$f":"SUMIF(Summary!E:E,Summary!M116,Summary!G:G)","v":0},{"$f":"SUMIF(Summary!H:H,Summary!M116,Summary!F:F)","v":0},{"$f":"SUM(M120:N120)","v":0},null,null,null,null,null,null,null,null,null,null,null,null,null,null,null,25,10,10,null,null,null,null,null,null,null,null,null,null,null,null,null,null,null,"<=10/10/1938"]
[3,"1938-10-22T00:43:12","00:00:00","1938-10-22","Bury",2,1,"Nottm Forest",1,2,0,"1938-10-22T00:43:12",{"$f":"T78","v":0},null,null,null,null,null,null,null,null,null,null,null,null,null,null,null,null,null,26,10,10,null,null,null,null,null,null,null,null,null,null,null,null,null,null,null,"<=11/10/1938"]
[4,"1938-10-22T00:57:36","00:00:00","1938-10-22","Chesterfield",2,0,"Norwich",1,2,0,"1938-10-22T00:57:36","(H)","(A)","Total",null,null,null,null,null,null,null,null,null,null,null,null,null,null,null,27,10,10,null,null,null,null,null,null,null,null,null,null,null,null,null,null,null,"<=12/10/1938"]
[5,"1938-10-22T01:12:00","00:00:00","1938-10-22","Fulham",1,1,"Southampton",1,1,1,"1938-10-22T01:12:00",{"$f":"SUMIF(Summary!E:E,Summary!M121,Summary!J:J)","v":0},{"$f":"SUMIF(Summary!H:H,Summary!M121,Summary!K:K)","v":0},{"$f":"SUM(M123:N123)","v":0},null,null,null,null,null,null,null,null,null,null,null,null,null,null,null,28,11,11,null,null,null,null,null,null,null,null,null,null,null,null,null,null,null,"<=13/10/1938"]
[6,"1938-10-22T01:26:24","00:00:00","1938-10-22","Man City",3,2,"Sheff Utd",1,2,0,"1938-10-22T01:26:24",{"$f":"SUMIF(Summary!E:E,Summary!M121,Summary!F:F)","v":0},{"$f":"SUMIF(Summary!H:H,Summary!M121,Summary!G:G)","v":0},{"$f":"SUM(M124:N124)","v":0},null,null,null,"Date",null,null,null,null,null,null,null,null,null,null,null,29,13,13,null,null,null,null,null,null,null,null,null,null,null,null,null,null,null,"<=14/10/1938"]
[7,"1938-10-22T01:40:48","00:00:00","1938-10-22","Millwall",1,1,"Burnley",1,1,1,"1938-10-22T01:40:48",{"$f":"SUMIF(Summary!E:E,Summary!M121,Summary!G:G)","v":0},{"$f":"SUMIF(Summary!H:H,Summary!M121,Summary!F:F)","v":0},{"$f":"SUM(M125:N125)","v":0},null,null,null,"1970-08-15",null,null,null,null,null,null,null,null,null,null,null,30,11,11,null,null,null,null,null,null,null,null,null,null,null,null,null,null,null,"<=15/10/1938"]
[8,"1938-10-22T01:55:12","00:00:00","1938-10-22","Sheff Wed",2,2,"Coventry",1,1,1,"1938-10-22T01:55:12",null,null,null,null,null,null,"1970-08-19",null,null,null,null,null,null,null,null,null,null,null,31,12,12,null,null,null,null,null,null,null,null,null,null,null,null,null,null,null,"<=16/10/1938"]
[9,"00:00:00","1938-10-22T02:09:36","1938-10-22","Swansea",2,3,"Luton",1,0,2,"1938-10-22T02:09:36",null,null,null,null,null,null,"1970-08-22",null,null,null,null,null,null,null,null,null,null,null,32,13,13,null,null,null,null,null,null,null,null,null,null,null,null,null,null,null,"<=17/10/1938"]
[10,"00:00:00","1938-10-22T02:24:00","1938-10-22","Tranmere",3,1,"West Brom",1,2,0,"1938-10-22T02:24:00",null,null,null,null,null,null,"1970-08-26",null,null,null,null,null,null,null,null,null,null,null,33,11,11,null,null,null,null,null,null,null,null,null,null,null,null,null,null,null,"<=18/10/1938"]
[11,"00:00:00","1938-10-22T02:38:24","1938-10-22","West Ham",1,1,"Newcastle",1,1,1,"1938-10-22T02:38:24",null,null,null,null,null,null,"1970-08-29",null,null,null,null,null,null,null,null,null,null,null,34,11,11,null,null,null,null,null,null,null,null,null,null,null,null,null,null,null,"<=19/10/1938"]
[1,"1938-10-29T00:14:24","00:00:00","1938-10-29","Burnley",0,1,"Bury",1,0,2,"1938-10-29T00:14:24",null,null,null,null,null,null,"1970-09-01",null,null,null,null,null,null,null,null,null,null,null,35,10,10,null,null,null,null,null,null,null,null,null,null,null,null,null,null,null,"<=20/10/1938"]
[2,"1938-10-29T00:28:48","00:00:00","1938-10-29","Coventry",2,0,"Chesterfield",1,2,0,"1938-10-29T00:28:48",null,null,null,null,null,null,"1970-09-02",null,null,null,null,null,null,null,null,null,null,null,36,10,10,null,null,null,null,null,null,null,null,null,null,null,null,null,null,null,"<=21/10/1938"]
[3,"1938-10-29T00:43:12","00:00:00","1938-10-29","Luton",1,1,"Blackburn",1,1,1,"1938-10-29T00:43:12",null,null,null,null,null,null,"1970-09-05",null,null,null,null,null,null,null,null,null,null,null,37,10,10,null,null,null,null,null,null,null,null,null,null,null,null,null,null,null,"<=22/10/1938"]
[4,"1938-10-29T00:57:36","00:00:00","1938-10-29","Newcastle",1,0,"Bradford PA",1,2,0,"1938-10-29T00:57:36",null,null,null,null,null,null,"1970-09-12",null,null,null,null,null,null,null,null,null,null,null,38,10,10,null,null,null,null,null,null,null,null,null,null,null,null,null,null,null,"<=23/10/1938"]
[5,"1938-10-29T01:12:00","00:00:00","1938-10-29","Norwich",0,2,"Millwall",1,{"$f":"IF(F134>G134,2,IF(F134=G134,1,0))","v":0},{"$f":"IF(G134>F134,2,IF(G134=F134,1,0))","v":2},"1938-10-29T01:12:00",null,null,null,null,null,null,"1970-09-14",null,null,null,null,null,null,null,null,null,null,null,39,10,10,null,null,null,null,null,null,null,null,null,null,null,null,null,null,null,"<=24/10/1938"]
[6,"1938-10-29T01:26:24","00:00:00","1938-10-29","Nottm Forest",1,2,"Swansea",1,0,2,{"$f":"B135+C135","v":"1938-10-29T01:26:24"},null,null,null,null,null,null,"1970-09-19",null,null,null,null,null,null,null,null,null,null,null,40,9,9,null,null,null,null,null,null,null,null,null,null,null,null,null,null,null,"<=25/10/1938"]
[{"$f":"IF(D136=D135,A135+1,1)","v":7},{"$f":"IF(A136=1,D136+0.01,IF(A136=2,D136+0.02,IF(A136=3,D136+0.03,IF(A136=4,D136+0.04,IF(A136=5,D136+0.05,IF(A136=6,D136+0.06,IF(A136=7,D136+0.07,IF(A136=8,D136+0.08,0))))))))","v":"1938-10-29T01:40:48"},{"$f":"IF(A136=9,D136+0.09,IF(A136=10,D136+0.1,IF(A136=11,D136+0.11,IF(A136=12,D136+0.12,0))))","v":"00:00:00"},"1938-10-29","Plymouth",0,0,"Fulham",1,1,1,"1938-10-29T01:40:48",null,null,null,null,null,null,"1970-09-21",null,null,null,null,null,null,null,null,null,null,null,41,8,8,null,null,null,null,null,null,null,null,null,null,null,null,null,null,null,"<=26/10/1938"]
[8,"1938-10-29T01:55:12","00:00:00","1938-10-29","Sheff Utd",0,0,"Sheff Wed",1,1,1,"1938-10-29T01:55:12",null,null,null,null,null,null,"1970-09-26",null,null,null,null,null,null,null,null,null,null,null,42,7,7,null,null,null,null,null,null,null,null,null,null,null,null,null,null,null,"<=27/10/1938"]
[9,"00:00:00","1938-10-29T02:09:36","1938-10-29","Southampton",3,1,"Tranmere",1,2,0,"1938-10-29T02:09:36",null,null,null,null,null,null,"1970-09-29",null,null,null,null,null,null,null,null,null,null,null,43,null,null,null,null,null,null,null,null,null,null,null,null,null,null,null,null,null,"<=28/10/1938"]
[10,"00:00:00","1938-10-29T02:24:00","1938-10-29","Tottenham",2,1,"West Ham",1,2,0,"1938-10-29T02:24:00",null,null,null,null,null,null,"1970-09-30",null,null,null,null,null,null,null,null,null,null,null,44,null,null,null,null,null,null,null,null,null,null,null,null,null,null,null,null,null,"<=29/10/1938"]
[11,"00:00:00","1938-10-29T02:38:24","1938-10-29","West Brom",3,1,"Man City",1,2,0,"1938-10-29T02:38:24",null,null,null,null,null,null,"1970-10-02",null,null,null,null,null,null,null,null,null,null,null,45,null,null,null,null,null,null,null,null,null,null,null,null,null,null,null,null,null,"<=30/10/1938"]
[1,"1938-11-05T00:14:24","00:00:00","1938-11-05","Blackburn",0,2,"Coventry",1,0,2,"1938-11-05T00:14:24",null,null,null,null,null,null,"1970-10-03",null,null,null,null,null,null,null,null,null,null,null,46,null,null,null,null,null,null,null,null,null,null,null,null,null,null,null,null,null,"<=31/10/1938"]
[2,"1938-11-05T00:28:48","00:00:00","1938-11-05","Bradford PA",2,2,"Burnley",1,1,1,"1938-11-05T00:28:48",null,null,null,null,null,null,"1970-10-07",null,null,null,null,null,null,null,null,null,null,null,null,null,null,null,null,null,null,null,null,null,null,null,null,null,null,null,null,null,"<=01/11/1938"]
[3,"1938-11-05T00:43:12","00:00:00","1938-11-05","Bury",3,3,"West Brom",1,1,1,"1938-11-05T00:43:12",null,null,null,null,null,null,"1970-10-10",null,null,null,null,null,null,null,null,null,null,null,null,null,null,null,null,null,null,null,null,null,null,null,null,null,null,null,null,null,"<=02/11/1938"]
[4,"1938-11-05T00:57:36","00:00:00","1938-11-05","Chesterfield",3,1,"Plymouth",1,2,0,"1938-11-05T00:57:36",null,null,null,null,null,null,"1970-10-16",null,null,null,null,null,null,null,null,null,null,null,null,null,null,null,null,null,null,null,null,null,null,null,null,null,null,null,null,null,"<=03/11/1938"]
[5,"1938-11-05T01:12:00","00:00:00","1938-11-05","Fulham",2,2,"Nottm Forest",1,1,1,"1938-11-05T01:12:00",null,null,null,null,null,null,"1970-10-17",null,null,null,null,null,null,null,null,null,null,null,null,null,null,null,null,null,null,null,null,null,null,null,null,null,null,null,null,null,"<=04/11/1938"]
[6,"1938-11-05T01:26:24","00:00:00","1938-11-05","Man City",2,0,"Tottenham",1,2,0,"1938-11-05T01:26:24",null,null,null,null,null,null,"1970-10-19",null,null,null,null,null,null,null,null,null,null,null,null,null,null,null,null,null,null,null,null,null,null,null,null,null,null,null,null,null,"<=05/11/1938"]
[7,"1938-11-05T01:40:48","00:00:00","1938-11-05","Millwall",0,1,"Southampton",1,0,2,"1938-11-05T01:40:48",null,null,null,null,null,null,"1970-10-20",null,null,null,null,null,null,null,null,null,null,null,null,null,null,null,null,null,null,null,null,null,null,null,null,null,null,null,null,null,"<=06/11/1938"]
[8,"1938-11-05T01:55:12","00:00:00","1938-11-05","Sheff Wed",0,2,"Newcastle",1,0,2,"1938-11-05T01:55:12",null,null,null,null,null,null,"1970-10-21",null,null,null,null,null,null,null,null,null,null,null,null,null,null,null,null,null,null,null,null,null,null,null,null,null,null,null,null,null,"<=07/11/1938"]
[9,"00:00:00","1938-11-05T02:09:36","1938-11-05","Swansea",1,2,"Sheff Utd",1,0,2,"1938-11-05T02:09:36",null,null,null,null,null,null,"1970-10-24",null,null,null,null,null,null,null,null,null,null,null,null,null,null,null,null,null,null,null,null,null,null,null,null,null,null,null,null,null,"<=08/11/1938"]
[10,"00:00:00","1938-11-05T02:24:00","1938-11-05","Tranmere",2,3,"Luton",1,0,2,"1938-11-05T02:24:00",null,null,null,null,null,null,"1970-10-28",null,null,null,null,null,null,null,null,null,null,null,null,null,null,null,null,null,null,null,null,null,null,null,null,null,null,null,null,null,"<=09/11/1938"]
[11,"00:00:00","1938-11-05T02:38:24","1938-11-05","West Ham",2,0,"Norwich",1,2,0,"1938-11-05T02:38:24",null,null,null,null,null,null,"1970-10-31",null,null,null,null,null,null,null,null,null,null,null,null,null,null,null,null,null,null,null,null,null,null,null,null,null,null,null,null,null,"<=10/11/1938"]
[1,"1938-11-12T00:14:24","00:00:00","1938-11-12","Burnley",1,1,"Swansea",1,1,1,"1938-11-12T00:14:24",null,null,null,null,null,null,"1970-11-07",null,null,null,null,null,null,null,null,null,null,null,null,null,null,null,null,null,null,null,null,null,null,null,null,null,null,null,null,null,"<=11/11/1938"]
[2,"1938-11-12T00:28:48","00:00:00","1938-11-12","Coventry",2,1,"Millwall",1,2,0,"1938-11-12T00:28:48",null,null,null,null,null,null,"1970-11-14",null,null,null,null,null,null,null,null,null,null,null,null,null,null,null,null,null,null,null,null,null,null,null,null,null,null,null,null,null,"<=12/11/1938"]
[3,"1938-11-12T00:43:12","00:00:00","1938-11-12","Luton",1,2,"West Ham",1,0,2,"1938-11-12T00:43:12",null,null,null,null,null,null,"1970-11-21",null,null,null,null,null,null,null,null,null,null,null,null,null,null,null,null,null,null,null,null,null,null,null,null,null,null,null,null,null,"<=13/11/1938"]
[4,"1938-11-12T00:57:36","00:00:00","1938-11-12","Newcastle",2,1,"Fulham",1,2,0,"1938-11-12T00:57:36",null,null,null,null,null,null,"1970-11-28",null,null,null,null,null,null,null,null,null,null,null,null,null,null,null,null,null,null,null,null,null,null,null,null,null,null,null,null,null,"<=14/11/1938"]
[5,"1938-11-12T01:12:00","00:00:00","1938-11-12","Norwich",3,1,"Bury",1,2,0,"1938-11-12T01:12:00",null,null,null,null,null,null,"1970-12-05",null,null,null,null,null,null,null,null,null,null,null,null,null,null,null,null,null,null,null,null,null,null,null,null,null,null,null,null,null,"<=15/11/1938"]
[6,"1938-11-12T01:26:24","00:00:00","1938-11-12","Nottm Forest",1,3,"Blackburn",1,0,2,"1938-11-12T01:26:24",null,null,null,null,null,null,"1970-12-12",null,null,null,null,null,null,null,null,null,null,null,null,null,null,null,null,null,null,null,null,null,null,null,null,null,null,null,null,null,"<=16/11/1938"]
[7,"1938-11-12T01:40:48","00:00:00","1938-11-12","Plymouth",3,1,"Tranmere",1,2,0,"1938-11-12T01:40:48",null,null,null,null,null,null,"1970-12-19",null,null,null,null,null,null,null,null,null,null,null,null,null,null,null,null,null,null,null,null,null,null,null,null,null,null,null,null,null,"<=17/11/1938"]
[8,"1938-11-12T01:55:12","00:00:00","1938-11-12","Sheff Utd",1,1,"Chesterfield",1,1,1,"1938-11-12T01:55:12",null,null,null,null,null,null,"1970-12-26",null,null,null,null,null,null,null,null,null,null,null,null,null,null,null,null,null,null,null,null,null,null,null,null,null,null,null,null,null,"<=18/11/1938"]
[9,"00:00:00","1938-11-12T02:09:36","1938-11-12","Southampton",1,2,"Man City",1,0,2,"1938-11-12T02:09:36",null,null,null,null,null,null,"1971-01-09",null,null,null,null,null,null,null,null,null,null,null,null,null,null,null,null,null,null,null,null,null,null,null,null,null,null,null,null,null,"<=19/11/1938"]
[10,"00:00:00","1938-11-12T02:24:00","1938-11-12","Tottenham",2,2,"Bradford PA",1,1,1,"1938-11-12T02:24:00",null,null,null,null,null,null,"1971-01-16",null,null,null,null,null,null,null,null,null,null,null,null,null,null,null,null,null,null,null,null,null,null,null,null,null,null,null,null,null,"<=20/11/1938"]
[11,"00:00:00","1938-11-12T02:38:24","1938-11-12","West Brom",5,1,"Sheff Wed",1,2,0,"1938-11-12T02:38:24",null,null,null,null,null,null,"1971-01-23",null,null,null,null,null,null,null,null,null,null,null,null,null,null,null,null,null,null,null,null,null,null,null,null,null,null,null,null,null,"<=21/11/1938"]
[1,"1938-11-19T00:14:24","00:00:00","1938-11-19","Blackburn",3,0,"Newcastle",1,2,0,"1938-11-19T00:14:24",null,null,null,null,null,null,"1971-01-30",null,null,null,null,null,null,null,null,null,null,null,null,null,null,null,null,null,null,null,null,null,null,null,null,null,null,null,null,null,"<=22/11/1938"]
[2,"1938-11-19T00:28:48","00:00:00","1938-11-19","Bradford PA",2,1,"Southampton",1,2,0,"1938-11-19T00:28:48",null,null,null,null,null,null,"1971-02-06",null,null,null,null,null,null,null,null,null,null,null,null,null,null,null,null,null,null,null,null,null,null,null,null,null,null,null,null,null,"<=23/11/1938"]
[3,"1938-11-19T00:43:12","00:00:00","1938-11-19","Bury",2,5,"Luton",1,0,2,"1938-11-19T00:43:12",null,null,null,null,null,null,"1971-02-13",null,null,null,null,null,null,null,null,null,null,null,null,null,null,null,null,null,null,null,null,null,null,null,null,null,null,null,null,null,"<=24/11/1938"]
[4,"1938-11-19T00:57:36","00:00:00","1938-11-19","Chesterfield",3,2,"Burnley",1,2,0,"1938-11-19T00:57:36",null,null,null,null,null,null,"1971-02-20",null,null,null,null,null,null,null,null,null,null,null,null,null,null,null,null,null,null,null,null,null,null,null,null,null,null,null,null,null,"<=25/11/1938"]
[5,"1938-11-19T01:12:00","00:00:00","1938-11-19","Fulham",3,0,"West Brom",1,2,0,"1938-11-19T01:12:00",null,null,null,null,null,null,"1971-02-23",null,null,null,null,null,null,null,null,null,null,null,null,null,null,null,null,null,null,null,null,null,null,null,null,null,null,null,null,null,"<=26/11/1938"]
[6,"1938-11-19T01:26:24","00:00:00","1938-11-19","Man City",3,0,"Coventry",1,2,0,"1938-11-19T01:26:24",null,null,null,null,null,null,"1971-02-26",null,null,null,null,null,null,null,null,null,null,null,null,null,null,null,null,null,null,null,null,null,null,null,null,null,null,null,null,null,"<=27/11/1938"]
[7,"1938-11-19T01:40:48","00:00:00","1938-11-19","Millwall",5,0,"Nottm Forest",1,2,0,"1938-11-19T01:40:48",null,null,null,null,null,null,"1971-02-27",null,null,null,null,null,null,null,null,null,null,null,null,null,null,null,null,null,null,null,null,null,null,null,null,null,null,null,null,null,"<=28/11/1938"]
[8,"1938-11-19T01:55:12","00:00:00","1938-11-19","Sheff Wed",7,0,"Norwich",1,2,0,"1938-11-19T01:55:12",null,null,null,null,null,null,"1971-03-01",null,null,null,null,null,null,null,null,null,null,null,null,null,null,null,null,null,null,null,null,null,null,null,null,null,null,null,null,null,"<=29/11/1938"]
[9,"00:00:00","1938-11-19T02:09:36","1938-11-19","Swansea",1,1,"Tottenham",1,1,1,"1938-11-19T02:09:36",null,null,null,null,null,null,"1971-03-02",null,null,null,null,null,null,null,null,null,null,null,null,null,null,null,null,null,null,null,null,null,null,null,null,null,null,null,null,null,"<=30/11/1938"]
[10,"00:00:00","1938-11-19T02:24:00","1938-11-19","Tranmere",0,2,"Sheff Utd",1,0,2,"1938-11-19T02:24:00",null,null,null,null,null,null,"1971-03-06",null,null,null,null,null,null,null,null,null,null,null,null,null,null,null,null,null,null,null,null,null,null,null,null,null,null,null,null,null,"<=01/12/1938"]
[11,"00:00:00","1938-11-19T02:38:24","1938-11-19","West Ham",2,1,"Plymouth",1,2,0,"1938-11-19T02:38:24",null,null,null,null,null,null,"1971-03-09",null,null,null,null,null,null,null,null,null,null,null,null,null,null,null,null,null,null,null,null,null,null,null,null,null,null,null,null,null,"<=02/12/1938"]
[1,"1938-11-26T00:14:24","00:00:00","1938-11-26","Burnley",3,1,"Tranmere",1,2,0,"1938-11-26T00:14:24",null,null,null,null,null,null,"1971-03-10",null,null,null,null,null,null,null,null,null,null,null,null,null,null,null,null,null,null,null,null,null,null,null,null,null,null,null,null,null,"<=03/12/1938"]
[2,"1938-11-26T00:28:48","00:00:00","1938-11-26","Coventry",3,1,"Bradford PA",1,2,0,"1938-11-26T00:28:48",null,null,null,null,null,null,"1971-03-13",null,null,null,null,null,null,null,null,null,null,null,null,null,null,null,null,null,null,null,null,null,null,null,null,null,null,null,null,null,"<=04/12/1938"]
[3,"1938-11-26T00:43:12","00:00:00","1938-11-26","Luton",1,5,"Sheff Wed",1,0,2,"1938-11-26T00:43:12",null,null,null,null,null,null,"1971-03-20",null,null,null,null,null,null,null,null,null,null,null,null,null,null,null,null,null,null,null,null,null,null,null,null,null,null,null,null,null,"<=05/12/1938"]
[4,"1938-11-26T00:57:36","00:00:00","1938-11-26","Newcastle",2,2,"Millwall",1,1,1,"1938-11-26T00:57:36",null,null,null,null,null,null,"1971-03-23",null,null,null,null,null,null,null,null,null,null,null,null,null,null,null,null,null,null,null,null,null,null,null,null,null,null,null,null,null,"<=06/12/1938"]
[5,"1938-11-26T01:12:00","00:00:00","1938-11-26","Norwich",3,3,"Fulham",1,1,1,"1938-11-26T01:12:00",null,null,null,null,null,null,"1971-03-24",null,null,null,null,null,null,null,null,null,null,null,null,null,null,null,null,null,null,null,null,null,null,null,null,null,null,null,null,null,"<=07/12/1938"]
[6,"1938-11-26T01:26:24","00:00:00","1938-11-26","Nottm Forest",3,4,"Man City",1,0,2,"1938-11-26T01:26:24",null,null,null,null,null,null,"1971-03-27",null,null,null,null,null,null,null,null,null,null,null,null,null,null,null,null,null,null,null,null,null,null,null,null,null,null,null,null,null,"<=08/12/1938"]
[7,"1938-11-26T01:40:48","00:00:00","1938-11-26","Plymouth",0,1,"Bury",1,0,2,"1938-11-26T01:40:48",null,null,null,null,null,null,"1971-03-29",null,null,null,null,null,null,null,null,null,null,null,null,null,null,null,null,null,null,null,null,null,null,null,null,null,null,null,null,null,"<=09/12/1938"]
[8,"1938-11-26T01:55:12","00:00:00","1938-11-26","Sheff Utd",3,1,"West Ham",1,2,0,"1938-11-26T01:55:12",null,null,null,null,null,null,"1971-03-30",null,null,null,null,null,null,null,null,null,null,null,null,null,null,null,null,null,null,null,null,null,null,null,null,null,null,null,null,null,"<=10/12/1938"]
[9,"00:00:00","1938-11-26T02:09:36","1938-11-26","Southampton",4,1,"Swansea",1,2,0,"1938-11-26T02:09:36",null,null,null,null,null,null,"1971-04-03",null,null,null,null,null,null,null,null,null,null,null,null,null,null,null,null,null,null,null,null,null,null,null,null,null,null,null,null,null,"<=11/12/1938"]
[10,"00:00:00","1938-11-26T02:24:00","1938-11-26","Tottenham",2,2,"Chesterfield",1,1,1,"1938-11-26T02:24:00",null,null,null,null,null,null,"1971-04-05",null,null,null,null,null,null,null,null,null,null,null,null,null,null,null,null,null,null,null,null,null,null,null,null,null,null,null,null,null,"<=12/12/1938"]
[11,"00:00:00","1938-11-26T02:38:24","1938-11-26","West Brom",2,0,"Blackburn",1,2,0,"1938-11-26T02:38:24",null,null,null,null,null,null,"1971-04-06",null,null,null,null,null,null,null,null,null,null,null,null,null,null,null,null,null,null,null,null,null,null,null,null,null,null,null,null,null,"<=13/12/1938"]
[1,"1938-12-03T00:14:24","00:00:00","1938-12-03","Blackburn",6,0,"Norwich",1,2,0,"1938-12-03T00:14:24",null,null,null,null,null,null,"1971-04-07",null,null,null,null,null,null,null,null,null,null,null,null,null,null,null,null,null,null,null,null,null,null,null,null,null,null,null,null,null,"<=14/12/1938"]
[2,"1938-12-03T00:28:48","00:00:00","1938-12-03","Bradford PA",1,2,"Nottm Forest",1,0,2,"1938-12-03T00:28:48",null,null,null,null,null,null,"1971-04-09",null,null,null,null,null,null,null,null,null,null,null,null,null,null,null,null,null,null,null,null,null,null,null,null,null,null,null,null,null,"<=15/12/1938"]
[3,"1938-12-03T00:43:12","00:00:00","1938-12-03","Bury",2,2,"Sheff Utd",1,1,1,"1938-12-03T00:43:12",null,null,null,null,null,null,"1971-04-10",null,null,null,null,null,null,null,null,null,null,null,null,null,null,null,null,null,null,null,null,null,null,null,null,null,null,null,null,null,"<=16/12/1938"]
[4,"1938-12-03T00:57:36","00:00:00","1938-12-03","Chesterfield",6,1,"Southampton",1,2,0,"1938-12-03T00:57:36",null,null,null,null,null,null,"1971-04-12",null,null,null,null,null,null,null,null,null,null,null,null,null,null,null,null,null,null,null,null,null,null,null,null,null,null,null,null,null,"<=17/12/1938"]
[5,"1938-12-03T01:12:00","00:00:00","1938-12-03","Fulham",2,1,"Luton",1,2,0,"1938-12-03T01:12:00",null,null,null,null,null,null,"1971-04-13",null,null,null,null,null,null,null,null,null,null,null,null,null,null,null,null,null,null,null,null,null,null,null,null,null,null,null,null,null,"<=18/12/1938"]
[6,"1938-12-03T01:26:24","00:00:00","1938-12-03","Man City",4,1,"Newcastle",1,2,0,"1938-12-03T01:26:24",null,null,null,null,null,null,"1971-04-17",null,null,null,null,null,null,null,null,null,null,null,null,null,null,null,null,null,null,null,null,null,null,null,null,null,null,null,null,null,"<=19/12/1938"]
[7,"1938-12-03T01:40:48","00:00:00","1938-12-03","Millwall",1,5,"West Brom",1,0,2,"1938-12-03T01:40:48",null,null,null,null,null,null,"1971-04-20",null,null,null,null,null,null,null,null,null,null,null,null,null,null,null,null,null,null,null,null,null,null,null,null,null,null,null,null,null,"<=20/12/1938"]
[8,"1938-12-03T01:55:12","00:00:00","1938-12-03","Sheff Wed",1,2,"Plymouth",1,0,2,"1938-12-03T01:55:12",null,null,null,null,null,null,"1971-04-24",null,null,null,null,null,null,null,null,null,null,null,null,null,null,null,null,null,null,null,null,null,null,null,null,null,null,null,null,null,"<=21/12/1938"]
[9,"00:00:00","1938-12-03T02:09:36","1938-12-03","Swansea",2,4,"Coventry",1,0,2,"1938-12-03T02:09:36",null,null,null,null,null,null,"1971-04-26",null,null,null,null,null,null,null,null,null,null,null,null,null,null,null,null,null,null,null,null,null,null,null,null,null,null,null,null,null,"<=22/12/1938"]
[10,"00:00:00","1938-12-03T02:24:00","1938-12-03","Tranmere",0,2,"Tottenham",1,0,2,"1938-12-03T02:24:00",null,null,null,null,null,null,"1971-04-27",null,null,null,null,null,null,null,null,null,null,null,null,null,null,null,null,null,null,null,null,null,null,null,null,null,null,null,null,null,"<=23/12/1938"]
[11,"00:00:00","1938-12-03T02:38:24","1938-12-03","West Ham",1,0,"Burnley",1,2,0,"1938-12-03T02:38:24",null,null,null,null,null,null,"1971-04-28",null,null,null,null,null,null,null,null,null,null,null,null,null,null,null,null,null,null,null,null,null,null,null,null,null,null,null,null,null,"<=24/12/1938"]
[1,"1938-12-10T00:14:24","00:00:00","1938-12-10","Burnley",1,1,"Man City",1,1,1,"1938-12-10T00:14:24",null,null,null,null,null,null,"1971-05-01",null,null,null,null,null,null,null,null,null,null,null,null,null,null,null,null,null,null,null,null,null,null,null,null,null,null,null,null,null,"<=25/12/1938"]
[2,"1938-12-10T00:28:48","00:00:00","1938-12-10","Coventry",3,1,"Fulham",1,2,0,"1938-12-10T00:28:48",null,null,null,null,null,null,"1971-05-04",null,null,null,null,null,null,null,null,null,null,null,null,null,null,null,null,null,null,null,null,null,null,null,null,null,null,null,null,null,"<=26/12/1938"]
[3,"1938-12-10T00:43:12","00:00:00","1938-12-10","Luton",5,0,"Chesterfield",1,{"$f":"IF(F198>G198,2,IF(F198=G198,1,0))","v":2},{"$f":"IF(G198>F198,2,IF(G198=F198,1,0))","v":0},"1938-12-10T00:43:12",null,null,null,null,null,null,null,null,null,null,null,null,null,null,null,null,null,null,null,null,null,null,null,null,null,null,null,null,null,null,null,null,null,null,null,null,"<=27/12/1938"]
[4,"1938-12-10T00:57:36","00:00:00","1938-12-10","Newcastle",6,0,"Bury",1,2,0,{"$f":"B199+C199","v":"1938-12-10T00:57:36"},null,null,null,null,null,null,null,null,null,null,null,null,null,null,null,null,null,null,null,null,null,null,null,null,null,null,null,null,null,null,null,null,null,null,null,null,"<=28/12/1938"]
[{"$f":"IF(D200=D199,A199+1,1)","v":5},{"$f":"IF(A200=1,D200+0.01,IF(A200=2,D200+0.02,IF(A200=3,D200+0.03,IF(A200=4,D200+0.04,IF(A200=5,D200+0.05,IF(A200=6,D200+0.06,IF(A200=7,D200+0.07,IF(A200=8,D200+0.08,0))))))))","v":"1938-12-10T01:12:00"},{"$f":"IF(A200=9,D200+0.09,IF(A200=10,D200+0.1,IF(A200=11,D200+0.11,IF(A200=12,D200+0.12,0))))","v":"00:00:00"},"1938-12-10","Norwich",2,0,"Tranmere",1,2,0,"1938-12-10T01:12:00",null,null,null,null,null,null,null,null,null,null,null,null,null,null,null,null,null,null,null,null,null,null,null,null,null,null,null,null,null,null,null,null,null,null,null,null,"<=29/12/1938"]
[6,"1938-12-10T01:26:24","00:00:00","1938-12-10","Nottm Forest",3,3,"Sheff Wed",1,1,1,"1938-12-10T01:26:24",null,null,null,null,null,null,null,null,null,null,null,null,null,null,null,null,null,null,null,null,null,null,null,null,null,null,null,null,null,null,null,null,null,null,null,null,"<=30/12/1938"]
[7,"1938-12-10T01:40:48","00:00:00","1938-12-10","Plymouth",0,0,"Swansea",1,1,1,"1938-12-10T01:40:48",null,null,null,null,null,null,null,null,null,null,null,null,null,null,null,null,null,null,null,null,null,null,null,null,null,null,null,null,null,null,null,null,null,null,null,null,"<=31/12/1938"]
[8,"1938-12-10T01:55:12","00:00:00","1938-12-10","Sheff Utd",3,1,"Bradford PA",1,2,0,"1938-12-10T01:55:12",null,null,null,null,null,null,null,null,null,null,null,null,null,null,null,null,null,null,null,null,null,null,null,null,null,null,null,null,null,null,null,null,null,null,null,null,"<=01/01/1939"]
[9,"00:00:00","1938-12-10T02:09:36","1938-12-10","Southampton",1,3,"Blackburn",1,0,2,"1938-12-10T02:09:36",null,null,null,null,null,null,null,null,null,null,null,null,null,null,null,null,null,null,null,null,null,null,null,null,null,null,null,null,null,null,null,null,null,null,null,null,"<=02/01/1939"]
[10,"00:00:00","1938-12-10T02:24:00","1938-12-10","Tottenham",4,0,"Millwall",1,2,0,"1938-12-10T02:24:00",null,null,null,null,null,null,null,null,null,null,null,null,null,null,null,null,null,null,null,null,null,null,null,null,null,null,null,null,null,null,null,null,null,null,null,null,"<=03/01/1939"]
[11,"00:00:00","1938-12-10T02:38:24","1938-12-10","West Brom",3,2,"West Ham",1,2,0,"1938-12-10T02:38:24",null,null,null,null,null,null,null,null,null,null,null,null,null,null,null,null,null,null,null,null,null,null,null,null,null,null,null,null,null,null,null,null,null,null,null,null,"<=04/01/1939"]
[1,"1938-12-17T00:14:24","00:00:00","1938-12-17","Blackburn",4,0,"Plymouth",1,2,0,"1938-12-17T00:14:24",null,null,null,null,null,null,null,null,null,null,null,null,null,null,null,null,null,null,null,null,null,null,null,null,null,null,null,null,null,null,null,null,null,null,null,null,"<=05/01/1939"]
[2,"1938-12-17T00:28:48","00:00:00","1938-12-17","Bradford PA",4,4,"West Brom",1,1,1,"1938-12-17T00:28:48",null,null,null,null,null,null,null,null,null,null,null,null,null,null,null,null,null,null,null,null,null,null,null,null,null,null,null,null,null,null,null,null,null,null,null,null,"<=06/01/1939"]
[3,"1938-12-17T00:43:12","00:00:00","1938-12-17","Bury",3,1,"Tottenham",1,2,0,"1938-12-17T00:43:12",null,null,null,null,null,null,null,null,null,null,null,null,null,null,null,null,null,null,null,null,null,null,null,null,null,null,null,null,null,null,null,null,null,null,null,null,"<=07/01/1939"]
[4,"1938-12-17T00:57:36","00:00:00","1938-12-17","Chesterfield",7,1,"Nottm Forest",1,2,0,"1938-12-17T00:57:36",null,null,null,null,null,null,null,null,null,null,null,null,null,null,null,null,null,null,null,null,null,null,null,null,null,null,null,null,null,null,null,null,null,null,null,null,"<=08/01/1939"]
[5,"1938-12-17T01:12:00","00:00:00","1938-12-17","Fulham",1,2,"Sheff Utd",1,0,2,"1938-12-17T01:12:00",null,null,null,null,null,null,null,null,null,null,null,null,null,null,null,null,null,null,null,null,null,null,null,null,null,null,null,null,null,null,null,null,null,null,null,null,"<=09/01/1939"]
[6,"1938-12-17T01:26:24","00:00:00","1938-12-17","Man City",4,1,"Norwich",1,2,0,"1938-12-17T01:26:24",null,null,null,null,null,null,null,null,null,null,null,null,null,null,null,null,null,null,null,null,null,null,null,null,null,null,null,null,null,null,null,null,null,null,null,null,"<=10/01/1939"]
[7,"1938-12-17T01:40:48","00:00:00","1938-12-17","Millwall",2,1,"Luton",1,2,0,"1938-12-17T01:40:48",null,null,null,null,null,null,null,null,null,null,null,null,null,null,null,null,null,null,null,null,null,null,null,null,null,null,null,null,null,null,null,null,null,null,null,null,"<=11/01/1939"]
[8,"1938-12-17T01:55:12","00:00:00","1938-12-17","Sheff Wed",4,1,"Burnley",1,2,0,"1938-12-17T01:55:12",null,null,null,null,null,null,null,null,null,null,null,null,null,null,null,null,null,null,null,null,null,null,null,null,null,null,null,null,null,null,null,null,null,null,null,null,"<=12/01/1939"]
[9,"00:00:00","1938-12-17T02:09:36","1938-12-17","Swansea",0,1,"Newcastle",1,0,2,"1938-12-17T02:09:36",null,null,null,null,null,null,null,null,null,null,null,null,null,null,null,null,null,null,null,null,null,null,null,null,null,null,null,null,null,null,null,null,null,null,null,null,"<=13/01/1939"]
[10,"00:00:00","1938-12-17T02:24:00","1938-12-17","Tranmere",1,2,"Coventry",1,0,2,"1938-12-17T02:24:00",null,null,null,null,null,null,null,null,null,null,null,null,null,null,null,null,null,null,null,null,null,null,null,null,null,null,null,null,null,null,null,null,null,null,null,null,"<=14/01/1939"]
[11,"00:00:00","1938-12-17T02:38:24","1938-12-17","West Ham",1,2,"Southampton",1,0,2,"1938-12-17T02:38:24",null,null,null,null,null,null,null,null,null,null,null,null,null,null,null,null,null,null,null,null,null,null,null,null,null,null,null,null,null,null,null,null,null,null,null,null,"<=15/01/1939"]
[1,"1938-12-24T00:14:24","00:00:00","1938-12-24","Bradford PA",3,0,"Norwich",1,2,0,"1938-12-24T00:14:24",null,null,null,null,null,null,null,null,null,null,null,null,null,null,null,null,null,null,null,null,null,null,null,null,null,null,null,null,null,null,null,null,null,null,null,null,"<=16/01/1939"]
[2,"1938-12-24T00:28:48","00:00:00","1938-12-24","Burnley",1,0,"Coventry",1,2,0,"1938-12-24T00:28:48",null,null,null,null,null,null,null,null,null,null,null,null,null,null,null,null,null,null,null,null,null,null,null,null,null,null,null,null,null,null,null,null,null,null,null,null,"<=17/01/1939"]
[3,"1938-12-24T00:43:12","00:00:00","1938-12-24","Bury",2,3,"Sheff Wed",1,0,2,"1938-12-24T00:43:12",null,null,null,null,null,null,null,null,null,null,null,null,null,null,null,null,null,null,null,null,null,null,null,null,null,null,null,null,null,null,null,null,null,null,null,null,"<=18/01/1939"]
[4,"1938-12-24T00:57:36","00:00:00","1938-12-24","Chesterfield",3,0,"Millwall",1,2,0,"1938-12-24T00:57:36",null,null,null,null,null,null,null,null,null,null,null,null,null,null,null,null,null,null,null,null,null,null,null,null,null,null,null,null,null,null,null,null,null,null,null,null,"<=19/01/1939"]
[5,"1938-12-24T01:12:00","00:00:00","1938-12-24","Luton",3,1,"West Brom",1,2,0,"1938-12-24T01:12:00",null,null,null,null,null,null,null,null,null,null,null,null,null,null,null,null,null,null,null,null,null,null,null,null,null,null,null,null,null,null,null,null,null,null,null,null,"<=20/01/1939"]
[6,"1938-12-24T01:26:24","00:00:00","1938-12-24","Plymouth",0,1,"Newcastle",1,0,2,"1938-12-24T01:26:24",null,null,null,null,null,null,null,null,null,null,null,null,null,null,null,null,null,null,null,null,null,null,null,null,null,null,null,null,null,null,null,null,null,null,null,null,"<=21/01/1939"]
[7,"1938-12-24T01:40:48","00:00:00","1938-12-24","Sheff Utd",0,1,"Nottm Forest",1,0,2,"1938-12-24T01:40:48",null,null,null,null,null,null,null,null,null,null,null,null,null,null,null,null,null,null,null,null,null,null,null,null,null,null,null,null,null,null,null,null,null,null,null,null,"<=22/01/1939"]
[8,"1938-12-24T01:55:12","00:00:00","1938-12-24","Swansea",2,0,"Man City",1,2,0,"1938-12-24T01:55:12",null,null,null,null,null,null,null,null,null,null,null,null,null,null,null,null,null,null,null,null,null,null,null,null,null,null,null,null,null,null,null,null,null,null,null,null,"<=23/01/1939"]
[9,"00:00:00","1938-12-24T02:09:36","1938-12-24","Tottenham",1,1,"Southampton",1,1,1,"1938-12-24T02:09:36",null,null,null,null,null,null,null,null,null,null,null,null,null,null,null,null,null,null,null,null,null,null,null,null,null,null,null,null,null,null,null,null,null,null,null,null,"<=24/01/1939"]
[10,"00:00:00","1938-12-24T02:24:00","1938-12-24","Tranmere",1,1,"Blackburn",1,1,1,"1938-12-24T02:24:00",null,null,null,null,null,null,null,null,null,null,null,null,null,null,null,null,null,null,null,null,null,null,null,null,null,null,null,null,null,null,null,null,null,null,null,null,"<=25/01/1939"]
[11,"00:00:00","1938-12-24T02:38:24","1938-12-24","West Ham",1,0,"Fulham",1,2,0,"1938-12-24T02:38:24",null,null,null,null,null,null,null,null,null,null,null,null,null,null,null,null,null,null,null,null,null,null,null,null,null,null,null,null,null,null,null,null,null,null,null,null,"<=26/01/1939"]
[1,"1938-12-26T00:14:24","00:00:00","1938-12-26","Blackburn",1,0,"Bury",1,2,0,"1938-12-26T00:14:24",null,null,null,null,null,null,null,null,null,null,null,null,null,null,null,null,null,null,null,null,null,null,null,null,null,null,null,null,null,null,null,null,null,null,null,null,"<=27/01/1939"]
[2,"1938-12-26T00:28:48","00:00:00","1938-12-26","Bradford PA",0,0,"Chesterfield",1,1,1,"1938-12-26T00:28:48",null,null,null,null,null,null,null,null,null,null,null,null,null,null,null,null,null,null,null,null,null,null,null,null,null,null,null,null,null,null,null,null,null,null,null,null,"<=28/01/1939"]
[3,"1938-12-26T00:43:12","00:00:00","1938-12-26","Burnley",1,0,"Tottenham",1,2,0,"1938-12-26T00:43:12",null,null,null,null,null,null,null,null,null,null,null,null,null,null,null,null,null,null,null,null,null,null,null,null,null,null,null,null,null,null,null,null,null,null,null,null,"<=29/01/1939"]
[4,"1938-12-26T00:57:36","00:00:00","1938-12-26","Coventry",1,2,"Plymouth",1,0,2,"1938-12-26T00:57:36",null,null,null,null,null,null,null,null,null,null,null,null,null,null,null,null,null,null,null,null,null,null,null,null,null,null,null,null,null,null,null,null,null,null,null,null,"<=30/01/1939"]
[5,"1938-12-26T01:12:00","00:00:00","1938-12-26","Nottm Forest",2,4,"Luton",1,0,2,"1938-12-26T01:12:00",null,null,null,null,null,null,null,null,null,null,null,null,null,null,null,null,null,null,null,null,null,null,null,null,null,null,null,null,null,null,null,null,null,null,null,null,"<=31/01/1939"]
[6,"1938-12-26T01:26:24","00:00:00","1938-12-26","Sheff Utd",5,1,"Southampton",1,2,0,"1938-12-26T01:26:24",null,null,null,null,null,null,null,null,null,null,null,null,null,null,null,null,null,null,null,null,null,null,null,null,null,null,null,null,null,null,null,null,null,null,null,null,"<=01/02/1939"]
[7,"1938-12-26T01:40:48","00:00:00","1938-12-26","Tranmere",3,9,"Man City",1,0,2,"1938-12-26T01:40:48",null,null,null,null,null,null,null,null,null,null,null,null,null,null,null,null,null,null,null,null,null,null,null,null,null,null,null,null,null,null,null,null,null,null,null,null,"<=02/02/1939"]
[1,"1938-12-27T00:14:24","00:00:00","1938-12-27","Bury",2,4,"Blackburn",1,0,2,"1938-12-27T00:14:24",null,null,null,null,null,null,null,null,null,null,null,null,null,null,null,null,null,null,null,null,null,null,null,null,null,null,null,null,null,null,null,null,null,null,null,null,"<=03/02/1939"]
[2,"1938-12-27T00:28:48","00:00:00","1938-12-27","Chesterfield",2,2,"Bradford PA",1,1,1,"1938-12-27T00:28:48",null,null,null,null,null,null,null,null,null,null,null,null,null,null,null,null,null,null,null,null,null,null,null,null,null,null,null,null,null,null,null,null,null,null,null,null,"<=04/02/1939"]
[3,"1938-12-27T00:43:12","00:00:00","1938-12-27","Luton",1,0,"Nottm Forest",1,2,0,"1938-12-27T00:43:12",null,null,null,null,null,null,null,null,null,null,null,null,null,null,null,null,null,null,null,null,null,null,null,null,null,null,null,null,null,null,null,null,null,null,null,null,"<=05/02/1939"]
[4,"1938-12-27T00:57:36","00:00:00","1938-12-27","Man City",5,2,"Tranmere",1,2,0,"1938-12-27T00:57:36",null,null,null,null,null,null,null,null,null,null,null,null,null,null,null,null,null,null,null,null,null,null,null,null,null,null,null,null,null,null,null,null,null,null,null,null,"<=06/02/1939"]
[5,"1938-12-27T01:12:00","00:00:00","1938-12-27","Newcastle",4,0,"Norwich",1,2,0,"1938-12-27T01:12:00",null,null,null,null,null,null,null,null,null,null,null,null,null,null,null,null,null,null,null,null,null,null,null,null,null,null,null,null,null,null,null,null,null,null,null,null,"<=07/02/1939"]
[6,"1938-12-27T01:26:24","00:00:00","1938-12-27","Plymouth",0,2,"Coventry",1,0,2,"1938-12-27T01:26:24",null,null,null,null,null,null,null,null,null,null,null,null,null,null,null,null,null,null,null,null,null,null,null,null,null,null,null,null,null,null,null,null,null,null,null,null,"<=08/02/1939"]
[7,"1938-12-27T01:40:48","00:00:00","1938-12-27","Sheff Wed",5,1,"Fulham",1,2,0,"1938-12-27T01:40:48",null,null,null,null,null,null,null,null,null,null,null,null,null,null,null,null,null,null,null,null,null,null,null,null,null,null,null,null,null,null,null,null,null,null,null,null,"<=09/02/1939"]
[8,"1938-12-27T01:55:12","00:00:00","1938-12-27","Southampton",2,2,"Sheff Utd",1,1,1,"1938-12-27T01:55:12",null,null,null,null,null,null,null,null,null,null,null,null,null,null,null,null,null,null,null,null,null,null,null,null,null,null,null,null,null,null,null,null,null,null,null,null,"<=10/02/1939"]
[9,"00:00:00","1938-12-27T02:09:36","1938-12-27","Swansea",3,2,"West Brom",1,2,0,"1938-12-27T02:09:36",null,null,null,null,null,null,null,null,null,null,null,null,null,null,null,null,null,null,null,null,null,null,null,null,null,null,null,null,null,null,null,null,null,null,null,null,"<=11/02/1939"]
[10,"00:00:00","1938-12-27T02:24:00","1938-12-27","Tottenham",1,0,"Burnley",1,2,0,"1938-12-27T02:24:00",null,null,null,null,null,null,null,null,null,null,null,null,null,null,null,null,null,null,null,null,null,null,null,null,null,null,null,null,null,null,null,null,null,null,null,null,"<=12/02/1939"]
[11,"00:00:00","1938-12-27T02:38:24","1938-12-27","West Ham",0,0,"Millwall",1,1,1,"1938-12-27T02:38:24",null,null,null,null,null,null,null,null,null,null,null,null,null,null,null,null,null,null,null,null,null,null,null,null,null,null,null,null,null,null,null,null,null,null,null,null,"<=13/02/1939"]
[1,"1938-12-31T00:14:24","00:00:00","1938-12-31","Blackburn",3,0,"Chesterfield",1,2,0,"1938-12-31T00:14:24",null,null,null,null,null,null,null,null,null,null,null,null,null,null,null,null,null,null,null,null,null,null,null,null,null,null,null,null,null,null,null,null,null,null,null,null,"<=14/02/1939"]
[2,"1938-12-31T00:28:48","00:00:00","1938-12-31","Coventry",4,0,"Tottenham",1,2,0,"1938-12-31T00:28:48",null,null,null,null,null,null,null,null,null,null,null,null,null,null,null,null,null,null,null,null,null,null,null,null,null,null,null,null,null,null,null,null,null,null,null,null,"<=15/02/1939"]
[3,"1938-12-31T00:43:12","00:00:00","1938-12-31","Fulham",1,0,"Tranmere",1,2,0,"1938-12-31T00:43:12",null,null,null,null,null,null,null,null,null,null,null,null,null,null,null,null,null,null,null,null,null,null,null,null,null,null,null,null,null,null,null,null,null,null,null,null,"<=16/02/1939"]
[4,"1938-12-31T00:57:36","00:00:00","1938-12-31","Man City",5,1,"Bradford PA",1,2,0,"1938-12-31T00:57:36",null,null,null,null,null,null,null,null,null,null,null,null,null,null,null,null,null,null,null,null,null,null,null,null,null,null,null,null,null,null,null,null,null,null,null,null,"<=17/02/1939"]
[5,"1938-12-31T01:12:00","00:00:00","1938-12-31","Millwall",1,1,"Swansea",1,1,1,"1938-12-31T01:12:00",null,null,null,null,null,null,null,null,null,null,null,null,null,null,null,null,null,null,null,null,null,null,null,null,null,null,null,null,null,null,null,null,null,null,null,null,"<=18/02/1939"]
[6,"1938-12-31T01:26:24","00:00:00","1938-12-31","Newcastle",0,0,"Sheff Utd",1,1,1,"1938-12-31T01:26:24",null,null,null,null,null,null,null,null,null,null,null,null,null,null,null,null,null,null,null,null,null,null,null,null,null,null,null,null,null,null,null,null,null,null,null,null,"<=19/02/1939"]
[7,"1938-12-31T01:40:48","00:00:00","1938-12-31","Norwich",2,1,"Luton",1,2,0,"1938-12-31T01:40:48",null,null,null,null,null,null,null,null,null,null,null,null,null,null,null,null,null,null,null,null,null,null,null,null,null,null,null,null,null,null,null,null,null,null,null,null,"<=20/02/1939"]
[8,"1938-12-31T01:55:12","00:00:00","1938-12-31","Nottm Forest",2,2,"Burnley",1,1,1,"1938-12-31T01:55:12",null,null,null,null,null,null,null,null,null,null,null,null,null,null,null,null,null,null,null,null,null,null,null,null,null,null,null,null,null,null,null,null,null,null,null,null,"<=21/02/1939"]
[9,"00:00:00","1938-12-31T02:09:36","1938-12-31","Sheff Wed",1,4,"West Ham",1,0,2,"1938-12-31T02:09:36",null,null,null,null,null,null,null,null,null,null,null,null,null,null,null,null,null,null,null,null,null,null,null,null,null,null,null,null,null,null,null,null,null,null,null,null,"<=22/02/1939"]
[10,"00:00:00","1938-12-31T02:24:00","1938-12-31","Southampton",0,0,"Bury",1,1,1,"1938-12-31T02:24:00",null,null,null,null,null,null,null,null,null,null,null,null,null,null,null,null,null,null,null,null,null,null,null,null,null,null,null,null,null,null,null,null,null,null,null,null,"<=23/02/1939"]
[11,"00:00:00","1938-12-31T02:38:24","1938-12-31","West Brom",4,2,"Plymouth",1,2,0,"1938-12-31T02:38:24",null,null,null,null,null,null,null,null,null,null,null,null,null,null,null,null,null,null,null,null,null,null,null,null,null,null,null,null,null,null,null,null,null,null,null,null,"<=24/02/1939"]
[1,"1939-01-02T00:14:24","00:00:00","1939-01-02","Blackburn",2,4,"Sheff Wed",1,0,2,"1939-01-02T00:14:24",null,null,null,null,null,null,null,null,null,null,null,null,null,null,null,null,null,null,null,null,null,null,null,null,null,null,null,null,null,null,null,null,null,null,null,null,"<=25/02/1939"]
[2,"1939-01-02T00:28:48","00:00:00","1939-01-02","Bury",1,1,"Millwall",1,1,1,"1939-01-02T00:28:48",null,null,null,null,null,null,null,null,null,null,null,null,null,null,null,null,null,null,null,null,null,null,null,null,null,null,null,null,null,null,null,null,null,null,null,null,"<=26/02/1939"]
[3,"1939-01-02T00:43:12","00:00:00","1939-01-02","Newcastle",0,1,"Chesterfield",1,0,2,"1939-01-02T00:43:12",null,null,null,null,null,null,null,null,null,null,null,null,null,null,null,null,null,null,null,null,null,null,null,null,null,null,null,null,null,null,null,null,null,null,null,null,"<=27/02/1939"]
[4,"1939-01-02T00:57:36","00:00:00","1939-01-02","Sheff Utd",1,1,"Burnley",1,1,1,"1939-01-02T00:57:36",null,null,null,null,null,null,null,null,null,null,null,null,null,null,null,null,null,null,null,null,null,null,null,null,null,null,null,null,null,null,null,null,null,null,null,null,"<=28/02/1939"]
[5,"1939-01-02T01:12:00","00:00:00","1939-01-02","Tranmere",2,1,"Bradford PA",1,{"$f":"IF(F262>G262,2,IF(F262=G262,1,0))","v":2},{"$f":"IF(G262>F262,2,IF(G262=F262,1,0))","v":0},"1939-01-02T01:12:00",null,null,null,null,null,null,null,null,null,null,null,null,null,null,null,null,null,null,null,null,null,null,null,null,null,null,null,null,null,null,null,null,null,null,null,null,"<=01/03/1939"]
[1,"1939-01-14T00:14:24","00:00:00","1939-01-14","Bradford PA",1,0,"Millwall",1,2,0,{"$f":"B263+C263","v":"1939-01-14T00:14:24"},null,null,null,null,null,null,null,null,null,null,null,null,null,null,null,null,null,null,null,null,null,null,null,null,null,null,null,null,null,null,null,null,null,null,null,null,"<=02/03/1939"]
[{"$f":"IF(D264=D263,A263+1,1)","v":2},{"$f":"IF(A264=1,D264+0.01,IF(A264=2,D264+0.02,IF(A264=3,D264+0.03,IF(A264=4,D264+0.04,IF(A264=5,D264+0.05,IF(A264=6,D264+0.06,IF(A264=7,D264+0.07,IF(A264=8,D264+0.08,0))))))))","v":"1939-01-14T00:28:48"},{"$f":"IF(A264=9,D264+0.09,IF(A264=10,D264+0.1,IF(A264=11,D264+0.11,IF(A264=12,D264+0.12,0))))","v":"00:00:00"},"1939-01-14","Burnley",2,0,"Newcastle",1,2,0,"1939-01-14T00:28:48",null,null,null,null,null,null,null,null,null,null,null,null,null,null,null,null,null,null,null,null,null,null,null,null,null,null,null,null,null,null,null,null,null,null,null,null,"<=03/03/1939"]
[3,"1939-01-14T00:43:12","00:00:00","1939-01-14","Luton",3,0,"Man City",1,2,0,"1939-01-14T00:43:12",null,null,null,null,null,null,null,null,null,null,null,null,null,null,null,null,null,null,null,null,null,null,null,null,null,null,null,null,null,null,null,null,null,null,null,null,"<=04/03/1939"]
[4,"1939-01-14T00:57:36","00:00:00","1939-01-14","Sheff Utd",1,1,"West Brom",1,1,1,"1939-01-14T00:57:36",null,null,null,null,null,null,null,null,null,null,null,null,null,null,null,null,null,null,null,null,null,null,null,null,null,null,null,null,null,null,null,null,null,null,null,null,"<=05/03/1939"]
[5,"1939-01-14T01:12:00","00:00:00","1939-01-14","Southampton",0,2,"Coventry",1,0,2,"1939-01-14T01:12:00",null,null,null,null,null,null,null,null,null,null,null,null,null,null,null,null,null,null,null,null,null,null,null,null,null,null,null,null,null,null,null,null,null,null,null,null,"<=06/03/1939"]
[6,"1939-01-14T01:26:24","00:00:00","1939-01-14","Swansea",2,1,"Blackburn",1,2,0,"1939-01-14T01:26:24",null,null,null,null,null,null,null,null,null,null,null,null,null,null,null,null,null,null,null,null,null,null,null,null,null,null,null,null,null,null,null,null,null,null,null,null,"<=07/03/1939"]
[7,"1939-01-14T01:40:48","00:00:00","1939-01-14","Tottenham",4,1,"Nottm Forest",1,2,0,"1939-01-14T01:40:48",null,null,null,null,null,null,null,null,null,null,null,null,null,null,null,null,null,null,null,null,null,null,null,null,null,null,null,null,null,null,null,null,null,null,null,null,"<=08/03/1939"]
[8,"1939-01-14T01:55:12","00:00:00","1939-01-14","Tranmere",1,4,"Sheff Wed",1,0,2,"1939-01-14T01:55:12",null,null,null,null,null,null,null,null,null,null,null,null,null,null,null,null,null,null,null,null,null,null,null,null,null,null,null,null,null,null,null,null,null,null,null,null,"<=09/03/1939"]
[9,"00:00:00","1939-01-14T02:09:36","1939-01-14","West Ham",0,0,"Bury",1,1,1,"1939-01-14T02:09:36",null,null,null,null,null,null,null,null,null,null,null,null,null,null,null,null,null,null,null,null,null,null,null,null,null,null,null,null,null,null,null,null,null,null,null,null,"<=10/03/1939"]
[1,"1939-01-21T00:14:24","00:00:00","1939-01-21","Bury",5,0,"Tranmere",1,2,0,"1939-01-21T00:14:24",null,null,null,null,null,null,null,null,null,null,null,null,null,null,null,null,null,null,null,null,null,null,null,null,null,null,null,null,null,null,null,null,null,null,null,null,"<=11/03/1939"]
[2,"1939-01-21T00:28:48","00:00:00","1939-01-21","Luton",3,4,"Plymouth",1,0,2,"1939-01-21T00:28:48",null,null,null,null,null,null,null,null,null,null,null,null,null,null,null,null,null,null,null,null,null,null,null,null,null,null,null,null,null,null,null,null,null,null,null,null,"<=12/03/1939"]
[1,"1939-01-23T00:14:24","00:00:00","1939-01-23","Blackburn",6,4,"Bradford PA",1,2,0,"1939-01-23T00:14:24",null,null,null,null,null,null,null,null,null,null,null,null,null,null,null,null,null,null,null,null,null,null,null,null,null,null,null,null,null,null,null,null,null,null,null,null,"<=13/03/1939"]
[2,"1939-01-23T00:28:48","00:00:00","1939-01-23","Fulham",1,0,"Swansea",1,2,0,"1939-01-23T00:28:48",null,null,null,null,null,null,null,null,null,null,null,null,null,null,null,null,null,null,null,null,null,null,null,null,null,null,null,null,null,null,null,null,null,null,null,null,"<=14/03/1939"]
[1,"1939-01-28T00:14:24","00:00:00","1939-01-28","Bradford PA",1,5,"Fulham",1,0,2,"1939-01-28T00:14:24",null,null,null,null,null,null,null,null,null,null,null,null,null,null,null,null,null,null,null,null,null,null,null,null,null,null,null,null,null,null,null,null,null,null,null,null,"<=15/03/1939"]
[2,"1939-01-28T00:28:48","00:00:00","1939-01-28","Burnley",3,0,"Norwich",1,2,0,"1939-01-28T00:28:48",null,null,null,null,null,null,null,null,null,null,null,null,null,null,null,null,null,null,null,null,null,null,null,null,null,null,null,null,null,null,null,null,null,null,null,null,"<=16/03/1939"]
[3,"1939-01-28T00:43:12","00:00:00","1939-01-28","Chesterfield",2,1,"Bury",1,2,0,"1939-01-28T00:43:12",null,null,null,null,null,null,null,null,null,null,null,null,null,null,null,null,null,null,null,null,null,null,null,null,null,null,null,null,null,null,null,null,null,null,null,null,"<=17/03/1939"]
[4,"1939-01-28T00:57:36","00:00:00","1939-01-28","Coventry",5,1,"Nottm Forest",1,2,0,"1939-01-28T00:57:36",null,null,null,null,null,null,null,null,null,null,null,null,null,null,null,null,null,null,null,null,null,null,null,null,null,null,null,null,null,null,null,null,null,null,null,null,"<=18/03/1939"]
[5,"1939-01-28T01:12:00","00:00:00","1939-01-28","Man City",3,2,"Blackburn",1,2,0,"1939-01-28T01:12:00",null,null,null,null,null,null,null,null,null,null,null,null,null,null,null,null,null,null,null,null,null,null,null,null,null,null,null,null,null,null,null,null,null,null,null,null,"<=19/03/1939"]
[6,"1939-01-28T01:26:24","00:00:00","1939-01-28","Plymouth",2,2,"Millwall",1,1,1,"1939-01-28T01:26:24",null,null,null,null,null,null,null,null,null,null,null,null,null,null,null,null,null,null,null,null,null,null,null,null,null,null,null,null,null,null,null,null,null,null,null,null,"<=20/03/1939"]
[7,"1939-01-28T01:40:48","00:00:00","1939-01-28","Sheff Utd",2,2,"Luton",1,1,1,"1939-01-28T01:40:48",null,null,null,null,null,null,null,null,null,null,null,null,null,null,null,null,null,null,null,null,null,null,null,null,null,null,null,null,null,null,null,null,null,null,null,null,"<=21/03/1939"]
[8,"1939-01-28T01:55:12","00:00:00","1939-01-28","Southampton",0,0,"Newcastle",1,1,1,"1939-01-28T01:55:12",null,null,null,null,null,null,null,null,null,null,null,null,null,null,null,null,null,null,null,null,null,null,null,null,null,null,null,null,null,null,null,null,null,null,null,null,"<=22/03/1939"]
[9,"00:00:00","1939-01-28T02:09:36","1939-01-28","Swansea",0,1,"Sheff Wed",1,0,2,"1939-01-28T02:09:36",null,null,null,null,null,null,null,null,null,null,null,null,null,null,null,null,null,null,null,null,null,null,null,null,null,null,null,null,null,null,null,null,null,null,null,null,"<=23/03/1939"]
[10,"00:00:00","1939-01-28T02:24:00","1939-01-28","Tottenham",2,2,"West Brom",1,1,1,"1939-01-28T02:24:00",null,null,null,null,null,null,null,null,null,null,null,null,null,null,null,null,null,null,null,null,null,null,null,null,null,null,null,null,null,null,null,null,null,null,null,null,"<=24/03/1939"]
[11,"00:00:00","1939-01-28T02:38:24","1939-01-28","Tranmere",2,2,"West Ham",1,1,1,"1939-01-28T02:38:24",null,null,null,null,null,null,null,null,null,null,null,null,null,null,null,null,null,null,null,null,null,null,null,null,null,null,null,null,null,null,null,null,null,null,null,null,"<=25/03/1939"]
[1,"1939-02-01T00:14:24","00:00:00","1939-02-01","West Brom",1,2,"Burnley",1,0,2,"1939-02-01T00:14:24",null,null,null,null,null,null,null,null,null,null,null,null,null,null,null,null,null,null,null,null,null,null,null,null,null,null,null,null,null,null,null,null,null,null,null,null,"<=26/03/1939"]
[1,"1939-02-02T00:14:24","00:00:00","1939-02-02","Norwich",1,2,"Sheff Utd",1,0,2,"1939-02-02T00:14:24",null,null,null,null,null,null,null,null,null,null,null,null,null,null,null,null,null,null,null,null,null,null,null,null,null,null,null,null,null,null,null,null,null,null,null,null,"<=27/03/1939"]
[1,"1939-02-04T00:14:24","00:00:00","1939-02-04","Blackburn",3,1,"Millwall",1,2,0,"1939-02-04T00:14:24",null,null,null,null,null,null,null,null,null,null,null,null,null,null,null,null,null,null,null,null,null,null,null,null,null,null,null,null,null,null,null,null,null,null,null,null,"<=28/03/1939"]
[2,"1939-02-04T00:28:48","00:00:00","1939-02-04","Bury",4,0,"Swansea",1,2,0,"1939-02-04T00:28:48",null,null,null,null,null,null,null,null,null,null,null,null,null,null,null,null,null,null,null,null,null,null,null,null,null,null,null,null,null,null,null,null,null,null,null,null,"<=29/03/1939"]
[3,"1939-02-04T00:43:12","00:00:00","1939-02-04","Fulham",2,1,"Man City",1,2,0,"1939-02-04T00:43:12",null,null,null,null,null,null,null,null,null,null,null,null,null,null,null,null,null,null,null,null,null,null,null,null,null,null,null,null,null,null,null,null,null,null,null,null,"<=30/03/1939"]
[4,"1939-02-04T00:57:36","00:00:00","1939-02-04","Luton",1,0,"Burnley",1,2,0,"1939-02-04T00:57:36",null,null,null,null,null,null,null,null,null,null,null,null,null,null,null,null,null,null,null,null,null,null,null,null,null,null,null,null,null,null,null,null,null,null,null,null,"<=31/03/1939"]
[5,"1939-02-04T01:12:00","00:00:00","1939-02-04","Newcastle",0,4,"Coventry",1,0,2,"1939-02-04T01:12:00",null,null,null,null,null,null,null,null,null,null,null,null,null,null,null,null,null,null,null,null,null,null,null,null,null,null,null,null,null,null,null,null,null,null,null,null,"<=01/04/1939"]
[6,"1939-02-04T01:26:24","00:00:00","1939-02-04","Norwich",1,2,"Tottenham",1,0,2,"1939-02-04T01:26:24",null,null,null,null,null,null,null,null,null,null,null,null,null,null,null,null,null,null,null,null,null,null,null,null,null,null,null,null,null,null,null,null,null,null,null,null,"<=02/04/1939"]
[7,"1939-02-04T01:40:48","00:00:00","1939-02-04","Nottm Forest",2,2,"Tranmere",1,1,1,"1939-02-04T01:40:48",null,null,null,null,null,null,null,null,null,null,null,null,null,null,null,null,null,null,null,null,null,null,null,null,null,null,null,null,null,null,null,null,null,null,null,null,"<=03/04/1939"]
[8,"1939-02-04T01:55:12","00:00:00","1939-02-04","Plymouth",0,1,"Sheff Utd",1,0,2,"1939-02-04T01:55:12",null,null,null,null,null,null,null,null,null,null,null,null,null,null,null,null,null,null,null,null,null,null,null,null,null,null,null,null,null,null,null,null,null,null,null,null,"<=04/04/1939"]
[9,"00:00:00","1939-02-04T02:09:36","1939-02-04","Sheff Wed",2,0,"Bradford PA",1,2,0,"1939-02-04T02:09:36",null,null,null,null,null,null,null,null,null,null,null,null,null,null,null,null,null,null,null,null,null,null,null,null,null,null,null,null,null,null,null,null,null,null,null,null,"<=05/04/1939"]
[10,"00:00:00","1939-02-04T02:24:00","1939-02-04","West Brom",2,0,"Southampton",1,2,0,"1939-02-04T02:24:00",null,null,null,null,null,null,null,null,null,null,null,null,null,null,null,null,null,null,null,null,null,null,null,null,null,null,null,null,null,null,null,null,null,null,null,null,"<=06/04/1939"]
[11,"00:00:00","1939-02-04T02:38:24","1939-02-04","West Ham",1,1,"Chesterfield",1,1,1,"1939-02-04T02:38:24",null,null,null,null,null,null,null,null,null,null,null,null,null,null,null,null,null,null,null,null,null,null,null,null,null,null,null,null,null,null,null,null,null,null,null,null,"<=07/04/1939"]
[1,"1939-02-08T00:14:24","00:00:00","1939-02-08","Nottm Forest",0,2,"Southampton",1,0,2,"1939-02-08T00:14:24",null,null,null,null,null,null,null,null,null,null,null,null,null,null,null,null,null,null,null,null,null,null,null,null,null,null,null,null,null,null,null,null,null,null,null,null,"<=08/04/1939"]
[1,"1939-02-11T00:14:24","00:00:00","1939-02-11","Bradford PA",3,2,"Bury",1,2,0,"1939-02-11T00:14:24",null,null,null,null,null,null,null,null,null,null,null,null,null,null,null,null,null,null,null,null,null,null,null,null,null,null,null,null,null,null,null,null,null,null,null,null,"<=09/04/1939"]
[2,"1939-02-11T00:28:48","00:00:00","1939-02-11","Burnley",1,0,"Plymouth",1,2,0,"1939-02-11T00:28:48",null,null,null,null,null,null,null,null,null,null,null,null,null,null,null,null,null,null,null,null,null,null,null,null,null,null,null,null,null,null,null,null,null,null,null,null,"<=10/04/1939"]
[3,"1939-02-11T00:43:12","00:00:00","1939-02-11","Chesterfield",3,0,"Tranmere",1,2,0,"1939-02-11T00:43:12",null,null,null,null,null,null,null,null,null,null,null,null,null,null,null,null,null,null,null,null,null,null,null,null,null,null,null,null,null,null,null,null,null,null,null,null,"<=11/04/1939"]
[4,"1939-02-11T00:57:36","00:00:00","1939-02-11","Coventry",1,1,"West Brom",1,1,1,"1939-02-11T00:57:36",null,null,null,null,null,null,null,null,null,null,null,null,null,null,null,null,null,null,null,null,null,null,null,null,null,null,null,null,null,null,null,null,null,null,null,null,"<=12/04/1939"]
[5,"1939-02-11T01:12:00","00:00:00","1939-02-11","Millwall",1,1,"Fulham",1,1,1,"1939-02-11T01:12:00",null,null,null,null,null,null,null,null,null,null,null,null,null,null,null,null,null,null,null,null,null,null,null,null,null,null,null,null,null,null,null,null,null,null,null,null,"<=13/04/1939"]
[6,"1939-02-11T01:26:24","00:00:00","1939-02-11","Southampton",3,1,"Norwich",1,2,0,"1939-02-11T01:26:24",null,null,null,null,null,null,null,null,null,null,null,null,null,null,null,null,null,null,null,null,null,null,null,null,null,null,null,null,null,null,null,null,null,null,null,null,"<=14/04/1939"]
[7,"1939-02-11T01:40:48","00:00:00","1939-02-11","Tottenham",0,1,"Luton",1,0,2,"1939-02-11T01:40:48",null,null,null,null,null,null,null,null,null,null,null,null,null,null,null,null,null,null,null,null,null,null,null,null,null,null,null,null,null,null,null,null,null,null,null,null,"<=15/04/1939"]
[1,"1939-02-15T00:14:24","00:00:00","1939-02-15","Nottm Forest",2,0,"Newcastle",1,2,0,"1939-02-15T00:14:24",null,null,null,null,null,null,null,null,null,null,null,null,null,null,null,null,null,null,null,null,null,null,null,null,null,null,null,null,null,null,null,null,null,null,null,null,"<=16/04/1939"]
[1,"1939-02-16T00:14:24","00:00:00","1939-02-16","Swansea",3,2,"West Ham",1,2,0,"1939-02-16T00:14:24",null,null,null,null,null,null,null,null,null,null,null,null,null,null,null,null,null,null,null,null,null,null,null,null,null,null,null,null,null,null,null,null,null,null,null,null,"<=17/04/1939"]
[1,"1939-02-18T00:14:24","00:00:00","1939-02-18","Blackburn",1,0,"Burnley",1,2,0,"1939-02-18T00:14:24",null,null,null,null,null,null,null,null,null,null,null,null,null,null,null,null,null,null,null,null,null,null,null,null,null,null,null,null,null,null,null,null,null,null,null,null,"<=18/04/1939"]
[2,"1939-02-18T00:28:48","00:00:00","1939-02-18","Bradford PA",2,1,"Luton",1,2,0,"1939-02-18T00:28:48",null,null,null,null,null,null,null,null,null,null,null,null,null,null,null,null,null,null,null,null,null,null,null,null,null,null,null,null,null,null,null,null,null,null,null,null,"<=19/04/1939"]
[3,"1939-02-18T00:43:12","00:00:00","1939-02-18","Bury",5,0,"Coventry",1,2,0,"1939-02-18T00:43:12",null,null,null,null,null,null,null,null,null,null,null,null,null,null,null,null,null,null,null,null,null,null,null,null,null,null,null,null,null,null,null,null,null,null,null,null,"<=20/04/1939"]
[4,"1939-02-18T00:57:36","00:00:00","1939-02-18","Chesterfield",3,1,"West Brom",1,2,0,"1939-02-18T00:57:36",null,null,null,null,null,null,null,null,null,null,null,null,null,null,null,null,null,null,null,null,null,null,null,null,null,null,null,null,null,null,null,null,null,null,null,null,"<=21/04/1939"]
[5,"1939-02-18T01:12:00","00:00:00","1939-02-18","Fulham",1,0,"Tottenham",1,2,0,"1939-02-18T01:12:00",null,null,null,null,null,null,null,null,null,null,null,null,null,null,null,null,null,null,null,null,null,null,null,null,null,null,null,null,null,null,null,null,null,null,null,null,"<=22/04/1939"]
[6,"1939-02-18T01:26:24","00:00:00","1939-02-18","Man City",1,3,"Plymouth",1,0,2,"1939-02-18T01:26:24",null,null,null,null,null,null,null,null,null,null,null,null,null,null,null,null,null,null,null,null,null,null,null,null,null,null,null,null,null,null,null,null,null,null,null,null,"<=23/04/1939"]
[7,"1939-02-18T01:40:48","00:00:00","1939-02-18","Millwall",4,0,"Sheff Utd",1,2,0,"1939-02-18T01:40:48",null,null,null,null,null,null,null,null,null,null,null,null,null,null,null,null,null,null,null,null,null,null,null,null,null,null,null,null,null,null,null,null,null,null,null,null,"<=24/04/1939"]
[8,"1939-02-18T01:55:12","00:00:00","1939-02-18","Sheff Wed",2,0,"Southampton",1,2,0,"1939-02-18T01:55:12",null,null,null,null,null,null,null,null,null,null,null,null,null,null,null,null,null,null,null,null,null,null,null,null,null,null,null,null,null,null,null,null,null,null,null,null,"<=25/04/1939"]
[9,"00:00:00","1939-02-18T02:09:36","1939-02-18","Swansea",0,1,"Norwich",1,0,2,"1939-02-18T02:09:36",null,null,null,null,null,null,null,null,null,null,null,null,null,null,null,null,null,null,null,null,null,null,null,null,null,null,null,null,null,null,null,null,null,null,null,null,"<=26/04/1939"]
[10,"00:00:00","1939-02-18T02:24:00","1939-02-18","Tranmere",0,3,"Newcastle",1,0,2,"1939-02-18T02:24:00",null,null,null,null,null,null,null,null,null,null,null,null,null,null,null,null,null,null,null,null,null,null,null,null,null,null,null,null,null,null,null,null,null,null,null,null,"<=27/04/1939"]
[11,"00:00:00","1939-02-18T02:38:24","1939-02-18","West Ham",5,0,"Nottm Forest",1,2,0,"1939-02-18T02:38:24",null,null,null,null,null,null,null,null,null,null,null,null,null,null,null,null,null,null,null,null,null,null,null,null,null,null,null,null,null,null,null,null,null,null,null,null,"<=28/04/1939"]
[1,"1939-02-25T00:14:24","00:00:00","1939-02-25","Burnley",2,0,"Millwall",1,2,0,"1939-02-25T00:14:24",null,null,null,null,null,null,null,null,null,null,null,null,null,null,null,null,null,null,null,null,null,null,null,null,null,null,null,null,null,null,null,null,null,null,null,null,"<=29/04/1939"]
[2,"1939-02-25T00:28:48","00:00:00","1939-02-25","Coventry",1,0,"Sheff Wed",1,2,0,"1939-02-25T00:28:48",null,null,null,null,null,null,null,null,null,null,null,null,null,null,null,null,null,null,null,null,null,null,null,null,null,null,null,null,null,null,null,null,null,null,null,null,"<=30/04/1939"]
[3,"1939-02-25T00:43:12","00:00:00","1939-02-25","Luton",6,3,"Swansea",1,2,0,"1939-02-25T00:43:12",null,null,null,null,null,null,null,null,null,null,null,null,null,null,null,null,null,null,null,null,null,null,null,null,null,null,null,null,null,null,null,null,null,null,null,null,"<=01/05/1939"]
[4,"1939-02-25T00:57:36","00:00:00","1939-02-25","Newcastle",2,0,"West Ham",1,2,0,"1939-02-25T00:57:36",null,null,null,null,null,null,null,null,null,null,null,null,null,null,null,null,null,null,null,null,null,null,null,null,null,null,null,null,null,null,null,null,null,null,null,null,"<=02/05/1939"]
[5,"1939-02-25T01:12:00","00:00:00","1939-02-25","Norwich",2,0,"Chesterfield",1,2,0,"1939-02-25T01:12:00",null,null,null,null,null,null,null,null,null,null,null,null,null,null,null,null,null,null,null,null,null,null,null,null,null,null,null,null,null,null,null,null,null,null,null,null,"<=03/05/1939"]
[6,"1939-02-25T01:26:24","00:00:00","1939-02-25","Nottm Forest",1,1,"Bury",1,{"$f":"IF(F326>G326,2,IF(F326=G326,1,0))","v":1},{"$f":"IF(G326>F326,2,IF(G326=F326,1,0))","v":1},"1939-02-25T01:26:24",null,null,null,null,null,null,null,null,null,null,null,null,null,null,null,null,null,null,null,null,null,null,null,null,null,null,null,null,null,null,null,null,null,null,null,null,"<=04/05/1939"]
[7,"1939-02-25T01:40:48","00:00:00","1939-02-25","Plymouth",4,1,"Bradford PA",1,2,0,{"$f":"B327+C327","v":"1939-02-25T01:40:48"},null,null,null,null,null,null,null,null,null,null,null,null,null,null,null,null,null,null,null,null,null,null,null,null,null,null,null,null,null,null,null,null,null,null,null,null,"<=05/05/1939"]
[{"$f":"IF(D328=D327,A327+1,1)","v":8},{"$f":"IF(A328=1,D328+0.01,IF(A328=2,D328+0.02,IF(A328=3,D328+0.03,IF(A328=4,D328+0.04,IF(A328=5,D328+0.05,IF(A328=6,D328+0.06,IF(A328=7,D328+0.07,IF(A328=8,D328+0.08,0))))))))","v":"1939-02-25T01:55:12"},{"$f":"IF(A328=9,D328+0.09,IF(A328=10,D328+0.1,IF(A328=11,D328+0.11,IF(A328=12,D328+0.12,0))))","v":"00:00:00"},"1939-02-25","Sheff Utd",1,0,"Man City",1,2,0,"1939-02-25T01:55:12",null,null,null,null,null,null,null,null,null,null,null,null,null,null,null,null,null,null,null,null,null,null,null,null,null,null,null,null,null,null,null,null,null,null,null,null,"<=06/05/1939"]
[9,"00:00:00","1939-02-25T02:09:36","1939-02-25","Southampton",2,1,"Fulham",1,2,0,"1939-02-25T02:09:36",null,null,null,null,null,null,null,null,null,null,null,null,null,null,null,null,null,null,null,null,null,null,null,null,null,null,null,null,null,null,null,null,null,null,null,null,"<=07/05/1939"]
[10,"00:00:00","1939-02-25T02:24:00","1939-02-25","Tottenham",4,3,"Blackburn",1,2,0,"1939-02-25T02:24:00",null,null,null,null,null,null,null,null,null,null,null,null,null,null,null,null,null,null,null,null,null,null,null,null,null,null,null,null,null,null,null,null,null,null,null,null,"<=08/05/1939"]
[11,"00:00:00","1939-02-25T02:38:24","1939-02-25","West Brom",2,0,"Tranmere",1,2,0,"1939-02-25T02:38:24",null,null,null,null,null,null,null,null,null,null,null,null,null,null,null,null,null,null,null,null,null,null,null,null,null,null,null,null,null,null,null,null,null,null,null,null,"<=09/05/1939"]
[1,"1939-03-01T00:14:24","00:00:00","1939-03-01","Newcastle",0,1,"Tottenham",1,0,2,"1939-03-01T00:14:24",null,null,null,null,null,null,null,null,null,null,null,null,null,null,null,null,null,null,null,null,null,null,null,null,null,null,null,null,null,null,null,null,null,null,null,null,"<=10/05/1939"]
[1,"1939-03-04T00:14:24","00:00:00","1939-03-04","Bradford PA",0,1,"Newcastle",1,0,2,"1939-03-04T00:14:24",null,null,null,null,null,null,null,null,null,null,null,null,null,null,null,null,null,null,null,null,null,null,null,null,null,null,null,null,null,null,null,null,null,null,null,null,"<=11/05/1939"]
[2,"1939-03-04T00:28:48","00:00:00","1939-03-04","Bury",1,0,"Burnley",1,2,0,"1939-03-04T00:28:48",null,null,null,null,null,null,null,null,null,null,null,null,null,null,null,null,null,null,null,null,null,null,null,null,null,null,null,null,null,null,null,null,null,null,null,null,"<=12/05/1939"]
[3,"1939-03-04T00:43:12","00:00:00","1939-03-04","Chesterfield",3,0,"Coventry",1,2,0,"1939-03-04T00:43:12",null,null,null,null,null,null,null,null,null,null,null,null,null,null,null,null,null,null,null,null,null,null,null,null,null,null,null,null,null,null,null,null,null,null,null,null,"<=13/05/1939"]
[4,"1939-03-04T00:57:36","00:00:00","1939-03-04","Fulham",1,2,"Plymouth",1,0,2,"1939-03-04T00:57:36"]
[5,"1939-03-04T01:12:00","00:00:00","1939-03-04","Man City",3,3,"West Brom",1,1,1,"1939-03-04T01:12:00"]
[6,"1939-03-04T01:26:24","00:00:00","1939-03-04","Millwall",6,0,"Norwich",1,2,0,"1939-03-04T01:26:24"]
[7,"1939-03-04T01:40:48","00:00:00","1939-03-04","Sheff Wed",1,0,"Sheff Utd",1,2,0,"1939-03-04T01:40:48"]
[8,"1939-03-04T01:55:12","00:00:00","1939-03-04","Swansea",1,0,"Nottm Forest",1,2,0,"1939-03-04T01:55:12"]
[9,"00:00:00","1939-03-04T02:09:36","1939-03-04","Tranmere",1,1,"Southampton",1,1,1,"1939-03-04T02:09:36"]
[10,"00:00:00","1939-03-04T02:24:00","1939-03-04","West Ham",0,2,"Tottenham",1,0,2,"1939-03-04T02:24:00"]
[1,"1939-03-11T00:14:24","00:00:00","1939-03-11","Burnley",0,0,"Bradford PA",1,1,1,"1939-03-11T00:14:24"]
[2,"1939-03-11T00:28:48","00:00:00","1939-03-11","Coventry",0,1,"Blackburn",1,0,2,"1939-03-11T00:28:48"]
[3,"1939-03-11T00:43:12","00:00:00","1939-03-11","Luton",3,0,"Tranmere",1,2,0,"1939-03-11T00:43:12"]
[4,"1939-03-11T00:57:36","00:00:00","1939-03-11","Newcastle",2,1,"Sheff Wed",1,2,0,"1939-03-11T00:57:36"]
[5,"1939-03-11T01:12:00","00:00:00","1939-03-11","Norwich",2,6,"West Ham",1,0,2,"1939-03-11T01:12:00"]
[6,"1939-03-11T01:26:24","00:00:00","1939-03-11","Nottm Forest",1,1,"Fulham",1,1,1,"1939-03-11T01:26:24"]
[7,"1939-03-11T01:40:48","00:00:00","1939-03-11","Plymouth",0,0,"Chesterfield",1,1,1,"1939-03-11T01:40:48"]
[8,"1939-03-11T01:55:12","00:00:00","1939-03-11","Sheff Utd",1,2,"Swansea",1,0,2,"1939-03-11T01:55:12"]
[9,"00:00:00","1939-03-11T02:09:36","1939-03-11","Southampton",1,1,"Millwall",1,1,1,"1939-03-11T02:09:36"]
[10,"00:00:00","1939-03-11T02:24:00","1939-03-11","Tottenham",2,3,"Man City",1,0,2,"1939-03-11T02:24:00"]
[11,"00:00:00","1939-03-11T02:38:24","1939-03-11","West Brom",6,0,"Bury",1,2,0,"1939-03-11T02:38:24"]
[1,"1939-03-13T00:14:24","00:00:00","1939-03-13","Millwall",3,1,"Man City",1,2,0,"1939-03-13T00:14:24"]
[1,"1939-03-16T00:14:24","00:00:00","1939-03-16","Blackburn",2,0,"Luton",1,2,0,"1939-03-16T00:14:24"]
[2,"1939-03-16T00:28:48","00:00:00","1939-03-16","Norwich",1,1,"Newcastle",1,1,1,"1939-03-16T00:28:48"]
[1,"1939-03-18T00:14:24","00:00:00","1939-03-18","Blackburn",3,2,"Nottm Forest",1,2,0,"1939-03-18T00:14:24"]
[2,"1939-03-18T00:28:48","00:00:00","1939-03-18","Bradford PA",0,0,"Tottenham",1,1,1,"1939-03-18T00:28:48"]
[3,"1939-03-18T00:43:12","00:00:00","1939-03-18","Bury",2,3,"Norwich",1,0,2,"1939-03-18T00:43:12"]
[4,"1939-03-18T00:57:36","00:00:00","1939-03-18","Chesterfield",1,0,"Sheff Utd",1,2,0,"1939-03-18T00:57:36"]
[5,"1939-03-18T01:12:00","00:00:00","1939-03-18","Fulham",1,1,"Newcastle",1,1,1,"1939-03-18T01:12:00"]
[6,"1939-03-18T01:26:24","00:00:00","1939-03-18","Man City",2,1,"Southampton",1,2,0,"1939-03-18T01:26:24"]
[7,"1939-03-18T01:40:48","00:00:00","1939-03-18","Millwall",0,0,"Coventry",1,1,1,"1939-03-18T01:40:48"]
[8,"1939-03-18T01:55:12","00:00:00","1939-03-18","Sheff Wed",2,1,"West Brom",1,2,0,"1939-03-18T01:55:12"]
[9,"00:00:00","1939-03-18T02:09:36","1939-03-18","Swansea",4,0,"Burnley",1,2,0,"1939-03-18T02:09:36"]
[10,"00:00:00","1939-03-18T02:24:00","1939-03-18","Tranmere",2,0,"Plymouth",1,2,0,"1939-03-18T02:24:00"]
[11,"00:00:00","1939-03-18T02:38:24","1939-03-18","West Ham",0,1,"Luton",1,0,2,"1939-03-18T02:38:24"]
[1,"1939-03-20T00:14:24","00:00:00","1939-03-20","Sheff Wed",0,0,"Chesterfield",1,1,1,"1939-03-20T00:14:24"]
[1,"1939-03-25T00:14:24","00:00:00","1939-03-25","Burnley",1,2,"Chesterfield",1,0,2,"1939-03-25T00:14:24"]
[2,"1939-03-25T00:28:48","00:00:00","1939-03-25","Coventry",0,1,"Man City",1,0,2,"1939-03-25T00:28:48"]
[3,"1939-03-25T00:43:12","00:00:00","1939-03-25","Luton",2,1,"Bury",1,2,0,"1939-03-25T00:43:12"]
[4,"1939-03-25T00:57:36","00:00:00","1939-03-25","Newcastle",2,2,"Blackburn",1,1,1,"1939-03-25T00:57:36"]
[5,"1939-03-25T01:12:00","00:00:00","1939-03-25","Norwich",2,2,"Sheff Wed",1,1,1,"1939-03-25T01:12:00"]
[6,"1939-03-25T01:26:24","00:00:00","1939-03-25","Nottm Forest",3,0,"Millwall",1,2,0,"1939-03-25T01:26:24"]
[7,"1939-03-25T01:40:48","00:00:00","1939-03-25","Plymouth",0,0,"West Ham",1,1,1,"1939-03-25T01:40:48"]
[8,"1939-03-25T01:55:12","00:00:00","1939-03-25","Sheff Utd",2,0,"Tranmere",1,2,0,"1939-03-25T01:55:12"]
[9,"00:00:00","1939-03-25T02:09:36","1939-03-25","Southampton",3,2,"Bradford PA",1,2,0,"1939-03-25T02:09:36"]
[10,"00:00:00","1939-03-25T02:24:00","1939-03-25","Tottenham",3,0,"Swansea",1,2,0,"1939-03-25T02:24:00"]
[11,"00:00:00","1939-03-25T02:38:24","1939-03-25","West Brom",3,0,"Fulham",1,2,0,"1939-03-25T02:38:24"]
[1,"1939-03-27T00:14:24","00:00:00","1939-03-27","Millwall",0,2,"West Ham",1,0,2,"1939-03-27T00:14:24"]
[1,"1939-04-01T00:14:24","00:00:00","1939-04-01","Blackburn",3,0,"West Brom",1,2,0,"1939-04-01T00:14:24"]
[2,"1939-04-01T00:28:48","00:00:00","1939-04-01","Bradford PA",0,2,"Coventry",1,0,2,"1939-04-01T00:28:48"]
[3,"1939-04-01T00:43:12","00:00:00","1939-04-01","Bury",3,0,"Plymouth",1,2,0,"1939-04-01T00:43:12"]
[4,"1939-04-01T00:57:36","00:00:00","1939-04-01","Chesterfield",3,1,"Tottenham",1,2,0,"1939-04-01T00:57:36"]
[5,"1939-04-01T01:12:00","00:00:00","1939-04-01","Fulham",2,0,"Norwich",1,2,0,"1939-04-01T01:12:00"]
[6,"1939-04-01T01:26:24","00:00:00","1939-04-01","Man City",3,0,"Nottm Forest",1,2,0,"1939-04-01T01:26:24"]
[7,"1939-04-01T01:40:48","00:00:00","1939-04-01","Millwall",1,1,"Newcastle",1,1,1,"1939-04-01T01:40:48"]
[8,"1939-04-01T01:55:12","00:00:00","1939-04-01","Sheff Wed",4,1,"Luton",1,2,0,"1939-04-01T01:55:12"]
[9,"00:00:00","1939-04-01T02:09:36","1939-04-01","Swansea",1,3,"Southampton",1,0,2,"1939-04-01T02:09:36"]
[10,"00:00:00","1939-04-01T02:24:00","1939-04-01","Tranmere",0,3,"Burnley",1,{"$f":"IF(F390>G390,2,IF(F390=G390,1,0))","v":0},{"$f":"IF(G390>F390,2,IF(G390=F390,1,0))","v":2},"1939-04-01T02:24:00"]
[11,"00:00:00","1939-04-01T02:38:24","1939-04-01","West Ham",0,0,"Sheff Utd",1,1,1,{"$f":"B391+C391","v":"1939-04-01T02:38:24"}]
[{"$f":"IF(D392=D391,A391+1,1)","v":1},{"$f":"IF(A392=1,D392+0.01,IF(A392=2,D392+0.02,IF(A392=3,D392+0.03,IF(A392=4,D392+0.04,IF(A392=5,D392+0.05,IF(A392=6,D392+0.06,IF(A392=7,D392+0.07,IF(A392=8,D392+0.08,0))))))))","v":"1939-04-07T00:14:24"},{"$f":"IF(A392=9,D392+0.09,IF(A392=10,D392+0.1,IF(A392=11,D392+0.11,IF(A392=12,D392+0.12,0))))","v":"00:00:00"},"1939-04-07","Burnley",2,3,"Sheff Utd",1,0,2,"1939-04-07T00:14:24"]
[2,"1939-04-07T00:28:48","00:00:00","1939-04-07","Bury",1,5,"Man City",1,0,2,"1939-04-07T00:28:48"]
[3,"1939-04-07T00:43:12","00:00:00","1939-04-07","Chesterfield",2,0,"Newcastle",1,2,0,"1939-04-07T00:43:12"]
[4,"1939-04-07T00:57:36","00:00:00","1939-04-07","Fulham",2,3,"Blackburn",1,0,2,"1939-04-07T00:57:36"]
[5,"1939-04-07T01:12:00","00:00:00","1939-04-07","Luton",6,2,"Southampton",1,2,0,"1939-04-07T01:12:00"]
[6,"1939-04-07T01:26:24","00:00:00","1939-04-07","Millwall",2,0,"Sheff Wed",1,2,0,"1939-04-07T01:26:24"]
[7,"1939-04-07T01:40:48","00:00:00","1939-04-07","Nottm Forest",2,0,"West Brom",1,2,0,"1939-04-07T01:40:48"]
[8,"1939-04-07T01:55:12","00:00:00","1939-04-07","Tottenham",1,0,"Plymouth",1,2,0,"1939-04-07T01:55:12"]
[9,"00:00:00","1939-04-07T02:09:36","1939-04-07","Tranmere",2,0,"Swansea",1,2,0,"1939-04-07T02:09:36"]
[10,"00:00:00","1939-04-07T02:24:00","1939-04-07","West Ham",0,2,"Bradford PA",1,0,2,"1939-04-07T02:24:00"]
[1,"1939-04-08T00:14:24","00:00:00","1939-04-08","Burnley",1,0,"West Ham",1,2,0,"1939-04-08T00:14:24"]
[2,"1939-04-08T00:28:48","00:00:00","1939-04-08","Coventry",3,0,"Swansea",1,2,0,"1939-04-08T00:28:48"]
[3,"1939-04-08T00:43:12","00:00:00","1939-04-08","Luton",2,1,"Fulham",1,2,0,"1939-04-08T00:43:12"]
[4,"1939-04-08T00:57:36","00:00:00","1939-04-08","Newcastle",0,2,"Man City",1,0,2,"1939-04-08T00:57:36"]
[5,"1939-04-08T01:12:00","00:00:00","1939-04-08","Norwich",4,0,"Blackburn",1,2,0,"1939-04-08T01:12:00"]
[6,"1939-04-08T01:26:24","00:00:00","1939-04-08","Nottm Forest",2,0,"Bradford PA",1,2,0,"1939-04-08T01:26:24"]
[7,"1939-04-08T01:40:48","00:00:00","1939-04-08","Plymouth",1,1,"Sheff Wed",1,1,1,"1939-04-08T01:40:48"]
[8,"1939-04-08T01:55:12","00:00:00","1939-04-08","Sheff Utd",1,1,"Bury",1,1,1,"1939-04-08T01:55:12"]
[9,"00:00:00","1939-04-08T02:09:36","1939-04-08","Southampton",2,2,"Chesterfield",1,1,1,"1939-04-08T02:09:36"]
[10,"00:00:00","1939-04-08T02:24:00","1939-04-08","Tottenham",3,1,"Tranmere",1,2,0,"1939-04-08T02:24:00"]
[11,"00:00:00","1939-04-08T02:38:24","1939-04-08","West Brom",0,0,"Millwall",1,1,1,"1939-04-08T02:38:24"]
[1,"1939-04-10T00:14:24","00:00:00","1939-04-10","Blackburn",2,1,"Fulham",1,2,0,"1939-04-10T00:14:24"]
[2,"1939-04-10T00:28:48","00:00:00","1939-04-10","Man City",0,0,"Bury",1,1,1,"1939-04-10T00:28:48"]
[3,"1939-04-10T00:43:12","00:00:00","1939-04-10","Norwich",1,1,"Coventry",1,1,1,"1939-04-10T00:43:12"]
[4,"1939-04-10T00:57:36","00:00:00","1939-04-10","Plymouth",0,1,"Tottenham",1,0,2,"1939-04-10T00:57:36"]
[5,"1939-04-10T01:12:00","00:00:00","1939-04-10","Sheff Wed",3,1,"Millwall",1,2,0,"1939-04-10T01:12:00"]
[6,"1939-04-10T01:26:24","00:00:00","1939-04-10","Southampton",0,4,"Luton",1,0,2,"1939-04-10T01:26:24"]
[7,"1939-04-10T01:40:48","00:00:00","1939-04-10","Swansea",1,0,"Tranmere",1,2,0,"1939-04-10T01:40:48"]
[8,"1939-04-10T01:55:12","00:00:00","1939-04-10","West Brom",0,0,"Nottm Forest",1,1,1,"1939-04-10T01:55:12"]
[1,"1939-04-11T00:14:24","00:00:00","1939-04-11","Bradford PA",1,2,"West Ham",1,0,2,"1939-04-11T00:14:24"]
[2,"1939-04-11T00:28:48","00:00:00","1939-04-11","Coventry",2,0,"Norwich",1,2,0,"1939-04-11T00:28:48"]
[1,"1939-04-15T00:14:24","00:00:00","1939-04-15","Blackburn",3,0,"Southampton",1,2,0,"1939-04-15T00:14:24"]
[2,"1939-04-15T00:28:48","00:00:00","1939-04-15","Bradford PA",0,3,"Sheff Utd",1,0,2,"1939-04-15T00:28:48"]
[3,"1939-04-15T00:43:12","00:00:00","1939-04-15","Bury",1,1,"Newcastle",1,1,1,"1939-04-15T00:43:12"]
[4,"1939-04-15T00:57:36","00:00:00","1939-04-15","Chesterfield",1,2,"Luton",1,0,2,"1939-04-15T00:57:36"]
[5,"1939-04-15T01:12:00","00:00:00","1939-04-15","Fulham",1,0,"Coventry",1,2,0,"1939-04-15T01:12:00"]
[6,"1939-04-15T01:26:24","00:00:00","1939-04-15","Man City",2,0,"Burnley",1,2,0,"1939-04-15T01:26:24"]
[7,"1939-04-15T01:40:48","00:00:00","1939-04-15","Millwall",2,0,"Tottenham",1,2,0,"1939-04-15T01:40:48"]
[8,"1939-04-15T01:55:12","00:00:00","1939-04-15","Sheff Wed",1,1,"Nottm Forest",1,1,1,"1939-04-15T01:55:12"]
[9,"00:00:00","1939-04-15T02:09:36","1939-04-15","Swansea",2,1,"Plymouth",1,2,0,"1939-04-15T02:09:36"]
[10,"00:00:00","1939-04-15T02:24:00","1939-04-15","Tranmere",0,1,"Norwich",1,0,2,"1939-04-15T02:24:00"]
[11,"00:00:00","1939-04-15T02:38:24","1939-04-15","West Ham",2,1,"West Brom",1,2,0,"1939-04-15T02:38:24"]
[1,"1939-04-17T00:14:24","00:00:00","1939-04-17","Fulham",2,2,"Sheff Wed",1,1,1,"1939-04-17T00:14:24"]
[1,"1939-04-19T00:14:24","00:00:00","1939-04-19","West Brom",0,0,"Swansea",1,1,1,"1939-04-19T00:14:24"]
[1,"1939-04-22T00:14:24","00:00:00","1939-04-22","Burnley",1,2,"Sheff Wed",1,0,2,"1939-04-22T00:14:24"]
[2,"1939-04-22T00:28:48","00:00:00","1939-04-22","Coventry",2,0,"Tranmere",1,2,0,"1939-04-22T00:28:48"]
[3,"1939-04-22T00:43:12","00:00:00","1939-04-22","Luton",0,0,"Millwall",1,1,1,"1939-04-22T00:43:12"]
[4,"1939-04-22T00:57:36","00:00:00","1939-04-22","Newcastle",1,2,"Swansea",1,0,2,"1939-04-22T00:57:36"]
[5,"1939-04-22T01:12:00","00:00:00","1939-04-22","Norwich",0,0,"Man City",1,1,1,"1939-04-22T01:12:00"]
[6,"1939-04-22T01:26:24","00:00:00","1939-04-22","Nottm Forest",0,1,"Chesterfield",1,0,2,"1939-04-22T01:26:24"]
[7,"1939-04-22T01:40:48","00:00:00","1939-04-22","Plymouth",1,0,"Blackburn",1,2,0,"1939-04-22T01:40:48"]
[8,"1939-04-22T01:55:12","00:00:00","1939-04-22","Sheff Utd",2,0,"Fulham",1,2,0,"1939-04-22T01:55:12"]
[9,"00:00:00","1939-04-22T02:09:36","1939-04-22","Southampton",0,2,"West Ham",1,0,2,"1939-04-22T02:09:36"]
[10,"00:00:00","1939-04-22T02:24:00","1939-04-22","Tottenham",4,3,"Bury",1,2,0,"1939-04-22T02:24:00"]
[11,"00:00:00","1939-04-22T02:38:24","1939-04-22","West Brom",0,2,"Bradford PA",1,0,2,"1939-04-22T02:38:24"]
[1,"1939-04-24T00:14:24","00:00:00","1939-04-24","Chesterfield",0,1,"Fulham",1,0,2,"1939-04-24T00:14:24"]
[2,"1939-04-24T00:28:48","00:00:00","1939-04-24","Coventry",0,0,"West Ham",1,1,1,"1939-04-24T00:28:48"]
[1,"1939-04-26T00:14:24","00:00:00","1939-04-26","Man City",1,1,"Sheff Wed",1,1,1,"1939-04-26T00:14:24"]
[2,"1939-04-26T00:28:48","00:00:00","1939-04-26","Sheff Utd",0,0,"Blackburn",1,1,1,"1939-04-26T00:28:48"]
[1,"1939-04-29T00:14:24","00:00:00","1939-04-29","Coventry",0,3,"Sheff Utd",1,0,2,"1939-04-29T00:14:24"]
[2,"1939-04-29T00:28:48","00:00:00","1939-04-29","Fulham",1,2,"Bury",1,0,2,"1939-04-29T00:28:48"]
[3,"1939-04-29T00:43:12","00:00:00","1939-04-29","Man City",3,1,"Chesterfield",1,2,0,"1939-04-29T00:43:12"]
[4,"1939-04-29T00:57:36","00:00:00","1939-04-29","Millwall",2,1,"Tranmere",1,{"$f":"IF(F454>G454,2,IF(F454=G454,1,0))","v":2},{"$f":"IF(G454>F454,2,IF(G454=F454,1,0))","v":0},"1939-04-29T00:57:36"]
[5,"1939-04-29T01:12:00","00:00:00","1939-04-29","Newcastle",2,0,"Luton",1,2,0,{"$f":"B455+C455","v":"1939-04-29T01:12:00"}]
[{"$f":"IF(D456=D455,A455+1,1)","v":6},{"$f":"IF(A456=1,D456+0.01,IF(A456=2,D456+0.02,IF(A456=3,D456+0.03,IF(A456=4,D456+0.04,IF(A456=5,D456+0.05,IF(A456=6,D456+0.06,IF(A456=7,D456+0.07,IF(A456=8,D456+0.08,0))))))))","v":"1939-04-29T01:26:24"},{"$f":"IF(A456=9,D456+0.09,IF(A456=10,D456+0.1,IF(A456=11,D456+0.11,IF(A456=12,D456+0.12,0))))","v":"00:00:00"},"1939-04-29","Nottm Forest",2,1,"Plymouth",1,2,0,"1939-04-29T01:26:24"]
[7,"1939-04-29T01:40:48","00:00:00","1939-04-29","Sheff Wed",1,0,"Tottenham",1,2,0,"1939-04-29T01:40:48"]
[8,"1939-04-29T01:55:12","00:00:00","1939-04-29","Southampton",2,1,"Burnley",1,2,0,"1939-04-29T01:55:12"]
[9,"00:00:00","1939-04-29T02:09:36","1939-04-29","Swansea",2,2,"Bradford PA",1,1,1,"1939-04-29T02:09:36"]
[10,"00:00:00","1939-04-29T02:24:00","1939-04-29","West Brom",4,2,"Norwich",1,2,0,"1939-04-29T02:24:00"]
[1,"1939-05-03T00:14:24","00:00:00","1939-05-03","Plymouth",1,0,"Norwich",1,2,0,"1939-05-03T00:14:24"]
[1,"1939-05-06T00:14:24","00:00:00","1939-05-06","Chesterfield",6,1,"Swansea",1,2,0,"1939-05-06T00:14:24"]
[2,"1939-05-06T00:28:48","00:00:00","1939-05-06","Luton",1,3,"Coventry",1,0,2,"1939-05-06T00:28:48"]
[3,"1939-05-06T00:43:12","00:00:00","1939-05-06","Norwich",1,0,"Nottm Forest",1,2,0,"1939-05-06T00:43:12"]
[4,"1939-05-06T00:57:36","00:00:00","1939-05-06","Plymouth",2,0,"Southampton",1,2,0,"1939-05-06T00:57:36"]
[5,"1939-05-06T01:12:00","00:00:00","1939-05-06","Sheff Utd",6,1,"Tottenham",1,2,0,"1939-05-06T01:12:00"]
[6,"1939-05-06T01:26:24","00:00:00","1939-05-06","West Ham",2,1,"Man City",1,2,0,"1939-05-06T01:26:24"]
[]
[]
[]
[]
[]
[]
[]
[]
[]
[]
[]
[]
[]
[]
[]
[]
[]
[]
[]
[]
[]
[]
[]
[]
[]
[]
[]
[]
[]
[]
[]
[]
[]
[]
[]
[]
[]
[]
[]
[]
[]
[]
[]
[]
[]
[]
[]
[]
[]
[]
[]
[]
[]
[]
[]
[]
[]
[]
[]
[]
[]
[]
[]
[]
[]
[]
[]
[]
[]
[]
[]
[]
[]
[]
[]
[]
[]
[]
[]
[]
[]
[]
[]
[]
[]
[]
[]
[]
[]
[]
[]
[]
[]
[]
[]
[]
[]
[]
[]
[]
[]
[]
[]
[]
[]
[]
[]
[]
[]
[]
[]
[]
[]
[]
[]
[]
[]
[]
[]
[]
[]
[]
[]
[]
[]
[]
[]
[]
[]
[]
[]
[]
[]
[]
[]
[]
[]
[]
[]
[]
[]
[]
[]
[]
[]
[]
[]
[]
[]
[]
[]
[]
[]
[]
[]
[]
[]
[]
[]
[]
[]
[]
[]
[]
[]
[]
[]
[]
[]
[]
[]
[]
[]
[]
[]
[]
[]
[]
[]
[]
[]
[]
[]
[]
[]
[]
[]
[]
[]
[]
[]
[]
[]
[]
[]
[]
[]
[]
[]
[]
[]
[]
[]
[]
[]
[]
[]
[]
[]
[]
[]
[]
[]
[]
[]
[]
[]
[]
[]
[]
[]
[]
[]
[]
[]
[]
[]
[]
[]
[]
[]
[]
[]
[]
[]
[]
[]
[]
[]
[]
[]
[]
[]
[]
[]
[]
[]
[]
[]
[]
[]
[]
[]
[]
[]
[]
[]
[]
[]
[]
[]
[]
[]
[]
[]
[]
[]
[]
[]
[]
[]
[]
[]
[]
[]
[]
[]
[]
[]
[]
[]
[]
[]
[]
[]
[]
[]
[]
[]
[]
[]
[]
[]
[]
[]
[]
[]
[]
[]
[]
[]
[]
[]
[]
[]
[]
[]
[]
[]
[]
[]
[]
[]
[]
[]
[]
[]
[]
[]
[]
[]
[]
[]
[]
[]
[]
[]
[]
[]
[]
[]
[]
[]
[]
[]
[]
[]
[]
[]
[]
[]
[]
[]
[]
[]
[]
[]
[]
[]
[]
[]
[]
[]
[]
[]
[]
[]
[]
[]
[]
[]
[]
[]
[]
[]
[]
[]
[]
[]
[]
[]
[]
[]
[]
[]
[]
[]
[]
[]
[]
[]
[]
[]
[]
[]
[]
[]
[]
[]
[]
[]
[]
[]
[]
[]
[]
[]
[]
[]
[]
[]
[]
[]
[]
[]
[]
[]
[]
[]
[]
[]
[]
[]
[]
[]
[]
[]
[]
[]
[]
[]
[]
[]
[]
[]
[]
[]
[]
[]
[]
[]
[]
[]
[]
[]
[]
[]
[]
[]
[]
[]
[]
[]
[]
[]
[]
[]
[]
[]
[]
[]
[]
[]
[]
[]
[]
[]
[]
[]
[]
[]
[]
[]
[]
[]
[]
[]
[]
[]
[]
[]
[]
[]
[]
[]
[]
[]
[]
[]
[]
[]
[]
[]
[]
[]
[]
[]
[]
[]
[]
[]
[]
[]
[]
[]
[]
[]
[]
[]
[]
[]
[]
[]
[]
[]
[]
[]
[]
[]
[]
[]
[]
[]
[]
[]
[]
[]
[]
[]
[]
[]
[]
[]
[]
[]
[]
[]
[]
[]
[]
[]
[]
[]
[]
[]
[]
[]
[]
[]
[]
[]
[]
[]
[]
[]
[]
[]
[]
[]
[]
[]
[]
[]
[]
[]
[]
[]
[]
[]
[]
[]
[]
[]
[]
[]
[]
[]
[]
[]
[]
[]
[]
[]
[]
[]
[]
[]
[]
[]
[]
[]
[]
[]
[]
[]
[]
[]
[]
[]
[]
[]
[]
[]
[]
[]
[]
[]
[]
[]
[]
[]
[]
[]
[]
[]
[]
[]
[]
[]
[]
[]
[]
[]
[]
[]
[]
[]
[]
[]
[]
[]
[]
[]
[]
[]
[]
[]
[]
[]
[]
[]
[]
[]
[]
[]
[]
[]
[]
[]
[]
[]
[]
[]
[]
[]
[]
[]
[]
[]
[]
[]
[]
[]
[]
[]
[]
[]
[]
[]
[]
[]
[]
[]
[]
[]
[]
[]
[]
[]
[]
[]
[]
[]
[]
[]
[]
[]
[]
[]
[]
[]
[]
[]
[]
[]
[]
[]
[]
[]
[]
[]
[]
[]
[]
[]
[]
[]
[]
[]
[]
[]
[]
[]
[]
[]
[]
[]
[]
[]
[]
[]
[]
[]
[]
[]
[]
[]
[]
[]
[]
[]
[]
[]
[]
[]
[]
[]
[]
[]
[]
[]
[]
[]
[]
[]
[]
[]
[]
[]
[]
[]
[]
[]
[]
[]
[]
[]
[]
[]
[]
[]
[]
[]
[]
[]
[]
[]
[]
[]
[]
[]
[]
[]
[]
[]
[]
[]
[]
[]
[]
[]
[]
[]
[]
[]
[]
[]
[]
[]
[]
[]
[]
[]
[]
[]
[]
[]
[]
[]
[]
[]
[]
[]
[]
[]
[]
[]
[]
[]
[]
[]
[]
[]
[]
[]
[]
[]
[]
[]
[]
[]
[]
[]
[]
[]
[]
[]
[]
[]
[]
[]
[]
[]
[]
[]
[]
[]
[]
[]
[]
[]
[]
[]
[]
[]
[]
[]
[]
[]
[]
[]
[]
[]
[]
[]
[]
[]
[]
[]
[]
[]
[]
[]
[]
[]
[]
[]
[]
[]
[]
[]
[]
[]
[]
[]
[]
[]
[]
[]
[]
[]
[]
[]
[]
[]
[]
[]
[]
[]
[]
[]
[]
[]
[]
[]
[]
[]
[]
[]
[]
[]
[]
[]
[]
[]
[]
[]
[]
[]
[]
[]
[]
[]
[]
[]
[]
[]
[]
[]
[]
[]
[]
[]
[]
[]
[]
[]
[]
[]
[]
[]
[]
[]
[]
[]
[]
[]
[]
[]
[]
[]
[]
[]
[]
[]
[]
[]
[]
[]
[]
[]
[]
[]
[]
[]
[]
[]
[]
[]
[]
[]
[]
[]
[]
[]
[]
[]
[]
[]
[]
[]
[]
[]
[]
[]
[]
[]
[]
[]
[]
[]
[]
[]
[]
[]
[]
[]
[]
[]
[]
[]
[]
[]
[]
[]
[]
[]
[]
[]
[]
[]
[]
[]
[]
[]
[]
[]
[]
[]
[]
[]
[]
[]
[]
[]
[]
[]
[]
[]
[]
[]
[]
[]
[]
[]
[]
[]
[]
[]
[]
[]
[]
[]
[]
[]
[]
[]
[]
[]
[]
[]
[]
[]
[]
[]
[]
[]
[]
[]
[]
[]
[]
[]
[]
[]
[]
[]
[]
[]
[]
[]
[]
[]
[]
[]
[]
[]
[]
[]
[]
[]
[]
[]
[]
[]
[]
[]
[]
[]
[]
[]
[]
[]
[]
[]
[]
[]
[]
[]
[]
[]
[]
[]
[]
[]
[]
[]
[]
[]
[]
[]
[]
[]
[]
[]
[]
[]
[]
[]
[]
[]
[]
[]
[]
[]
[]
[]
[]
[]
[]
[]
[]
[]
[]
[]
[]
[]
[]
[]
[]
[]
[]
[]
[]
[]
[]
[]
[]
[]
[]
[]
[]
[]
[]
[]
[]
[]
[]
[]
[]
[]
[]
[]
[]
[]
[]
[]
[]
[]
[]
[]
[]
[]
[]
[]
[]
[]
[]
[]
[]
[]
[]
[]
[]
[]
[]
[]
[]
[]
[]
[]
[]
[]
[]
[]
[]
[]
[]
[]
[]
[]
[]
[]
[]
[]
[]
[]
[]
[]
[]
[]
[]
[]
[]
[]
[]
[]
[]
[]
[]
[]
[]
[]
[]
[]
[]
[]
[]
[]
[]
[]
[]
[]
[]
[]
[]
[]
[]
[]
[]
[]
[]
[]
[]
[]
[]
[]
[]
[]
[]
[]
[]
[]
[]
[]
[]
[]
[]
[]
[]
[]
[]
[]
[]
[]
[]
[]
[]
[]
[]
[]
[]
[]
[]
[]
[]
[]
[]
[]
[]
[]
[]
[]
[]
[]
[]
[]
[]
[]
[]
[]
[]
[]
[]
[]
[]
[]
[]
[]
[]
[]
[]
[]
[]
[]
[]
[]
[]
[]
[]
[]
[]
[]
[]
[]
[]
[]
[]
[]
[]
[]
[]
[]
[]
[]
[]
[]
[]
[]
[]
[]
[]
[]
[]
[]
[]
[]
[]
[]
[]
[]
[]
[]
[]
[]
[]
[]
[]
[]
[]
[]
[]
[]
[]
[]
[]
[]
[]
[]
[]
[]
[]
[]
[]
[]
[]
[]
[]
[]
[]
[]
[]
[]
[]
[]
[]
[]
[]
[]
[]
[]
[]
[]
[]
[]
[]
[]
[]
[]
[]
[]
[]
[]
[]
[]
[]
[]
[]
[]
[]
[]
[]
[]
[]
[]
[]
[]
[]
[]
[]
[]
[]
[]
[]
[]
[]
[]
[]
[]
[]
[]
[]
[]
[]
[]
[]
[]
[]
[]
[]
[]
[]
[]
[]
[]
[]
[]
[]
[]
[]
[]
[]
[]
[]
[]
[]
[]
[]
[]
[]
[]
[]
[]
[]
[]
[]
[]
[]
[]
[]
[]
[]
[]
[]
[]
[]
[]
[]
[]
[]
[]
[]
[]
[]
[]
[]
[]
[]
[]
[]
[]
[]
[]
[]
[]
[]
[]
[]
[]
[]
[]
[]
[]
[]
[]
[]
[]
[]
[]
[]
[]
[]
[]
[]
[]
[]
[]
[]
[]
[]
[]
[]
[]
[]
[]
[]
[]
[]
[]
[]
[]
[]
[]
[]
[]
[]
[]
[]
[]
[]
[]
[]
[]
[]
[]
[]
[]
[]
[]
[]
[]
[]
[]
[]
[]
[]
[]
[]
[]
[]
[]
[]
[]
[]
[]
[]
[]
[]
[]
[]
[]
[]
[]
[]
[]
[]
[]
[]
[]
[]
[]
[]
[]
[]
[]
[]
[]
[]
[]
[]
[]
[]
[]
[]
[]
[]
[]
[]
[]
[]
[]
[]
[]
[]
[]
[]
[]
[]
[]
[]
[]
[]
["Evens","trans","Comp","Date","Home (team)","F ","A","Away (team)","x","Pts1","Pts2"]
[null,1,{"$f":"$AO$2+0.01","v":"1939-05-06T00:14:24"},{"$f":"LOOKUP($C2051,$L$6:$L$1500,D$6:D$1500)","v":"1939-05-06"},{"$f":"LOOKUP($C2051,$L$6:$L$1500,E$6:E$1500)","v":"Chesterfield"},6,1,"Swansea",{"$f":"IF(C2051=D2051+0.01,0,1)","v":0}]
[null,2,{"$f":"$AO$2+0.02","v":"1939-05-06T00:28:48"},{"$f":"LOOKUP($C2052,$L$6:$L$1500,D$6:D$1500)","v":"1939-05-06"},"Luton",1,3,"Coventry",{"$f":"IF(E2052=E2051,1,0)","v":0}]
[null,3,{"$f":"$AO$2+0.03","v":"1939-05-06T00:43:12"},"1939-05-06","Norwich",1,0,"Nottm Forest",0]
[null,4,{"$f":"$AO$2+0.04","v":"1939-05-06T00:57:36"},"1939-05-06","Plymouth",2,0,"Southampton",0]
[null,5,{"$f":"$AO$2+0.05","v":"1939-05-06T01:12:00"},"1939-05-06","Sheff Utd",6,1,"Tottenham",0]
[null,6,{"$f":"$AO$2+0.06","v":"1939-05-06T01:26:24"},"1939-05-06","West Ham",2,1,"Man City",0]
[null,7,{"$f":"$AO$2+0.07","v":"1939-05-06T01:40:48"},"1939-05-06","West Ham",2,1,"Man City",1]
[null,8,{"$f":"$AO$2+0.08","v":"1939-05-06T01:55:12"},"1939-05-06","West Ham",2,1,"Man City",1]
[null,9,{"$f":"$AO$2+0.09","v":"1939-05-06T02:09:36"},"1939-05-06","West Ham",2,1,"Man City",1]
[null,10,{"$f":"$AO$2+0.1","v":"1939-05-06T02:24:00"},"1939-05-06","West Ham",2,1,"Man City",1]
[null,11,{"$f":"$AO$2+0.11","v":"1939-05-06T02:38:24"},"1939-05-06","West Ham",2,1,"Man City",1]
[null,12,{"$f":"$AO$2+0.12","v":"1939-05-06T02:52:48"},"1939-05-06","West Ham",2,1,"Man City",{"$f":"IF(E2062=E2061,1,0)","v":1}]